Workbook
Name _1_: '[1]#REF'!#REF!
Name _1_: '[1]#REF'!#REF!
Name _1_: '[1]#REF'!#REF!
Name _10DATA_DATA2_L: '[2]#REF'!#REF!
Name _10DATA_DATA2_L: '[2]#REF'!#REF!
Name _10DATA_DATA2_L: '[2]#REF'!#REF!
Name _11MAÕ_HAØNG: #REF!
Name _11MAÕ_HAØNG: #REF!
Name _11MAÕ_HAØNG: #REF!
Name _12MAÕ_SOÁ_THUEÁ: #REF!
Name _12MAÕ_SOÁ_THUEÁ: #REF!
Name _12MAÕ_SOÁ_THUEÁ: #REF!
Name _13ÑÔN_GIAÙ: #REF!
Name _13ÑÔN_GIAÙ: #REF!
Name _14SOÁ_CTÖØ: #REF!
Name _14SOÁ_CTÖØ: #REF!
Name _15SOÁ_LÖÔÏNG: #REF!
Name _15SOÁ_LÖÔÏNG: #REF!
Name _16TEÂN_HAØNG: #REF!
Name _16TEÂN_HAØNG: #REF!
Name _17TEÂN_KHAÙCH_HAØ: #REF!
Name _17TEÂN_KHAÙCH_HAØ: #REF!
Name _18THAØNH_TIEÀN: #REF!
Name _18THAØNH_TIEÀN: #REF!
Name _19TRÒ_GIAÙ: #REF!
Name _19TRÒ_GIAÙ: #REF!
Name _2_??: BlankMacro1
Name _2_??: BlankMacro1
Name _2_??: BlankMacro1
Name _20TRÒ_GIAÙ__VAT: #REF!
Name _20TRÒ_GIAÙ__VAT: #REF!
Name _20TRÒ_GIAÙ__VAT: #REF!
Name _3_??????1: BlankMacro1
Name _3_??????1: BlankMacro1
Name _3_??????1: BlankMacro1
Name _4_??????2: BlankMacro1
Name _4_??????2: BlankMacro1
Name _4_??????2: BlankMacro1
Name _5_??????3: BlankMacro1
Name _5_??????3: BlankMacro1
Name _5_??????3: BlankMacro1
Name _6_??????4: BlankMacro1
Name _6_??????4: BlankMacro1
Name _6_??????4: BlankMacro1
Name _7_??????5: BlankMacro1
Name _7_??????5: BlankMacro1
Name _7_??????5: BlankMacro1
Name _8_??????6: BlankMacro1
Name _8_??????6: BlankMacro1
Name _8_??????6: BlankMacro1
Name _9_0DATA_DATA2_L: '[2]#REF'!#REF!
Name _9_0DATA_DATA2_L: '[2]#REF'!#REF!
Name _9_0DATA_DATA2_L: '[2]#REF'!#REF!
Name _CT250: '[3]dongia (2)'!#REF!
Name _CT250: '[3]dongia (2)'!#REF!
Name _SD11: {"Thuxm2.xls","Sheet1"}
Name _SD11: {"Thuxm2.xls","Sheet1"}
Name _SD11: {"Thuxm2.xls","Sheet1"}
Name _XL3: BlankMacro1
Name _XL3: BlankMacro1

Sheet CHI TIET (2)
A2: STT | B2: Mã tỉnh | C2: Tên tỉnh | D2: Mã tỉnh | E2: Mã quận | F2: Tên quận | G2: Mã quận | H2: Mã xã | I2: Tên xã | J2: Mã xã | K2: Mã tỉnh | L2: Mã quận | M2: Mã xã
A3: 1 | B3: 79 | C3: Thành phố Hồ Chí Minh | D3: 79 | E3: 760 | F3: Quận 1 | G3: 760 | H3: 26734 | I3: Phường Tân Định | J3: 26734 | K3: 79 | L3: 760 | M3: 26734 | N3: =K3&" "&L3&" "&M3 -> 79 760 26734
B4: 79 | C4: Thành phố Hồ Chí Minh | D4: 79 | E4: 760 | F4: Quận 1 | G4: 760 | H4: 26737 | I4: Phường Đa Kao | J4: 26737 | K4: 79 | L4: 760 | M4: 26737 | N4: =K4&" "&L4&" "&M4 -> 79 760 26737
B5: 79 | C5: Thành phố Hồ Chí Minh | D5: 79 | E5: 760 | F5: Quận 1 | G5: 760 | H5: 26740 | I5: Phường Bến Nghé | J5: 26740 | K5: 79 | L5: 760 | M5: 26740 | N5: =K5&" "&L5&" "&M5 -> 79 760 26740
B6: 79 | C6: Thành phố Hồ Chí Minh | D6: 79 | E6: 760 | F6: Quận 1 | G6: 760 | H6: 26743 | I6: Phường Bến Thành | J6: 26743 | K6: 79 | L6: 760 | M6: 26743 | N6: =K6&" "&L6&" "&M6 -> 79 760 26743
B7: 79 | C7: Thành phố Hồ Chí Minh | D7: 79 | E7: 760 | F7: Quận 1 | G7: 760 | H7: 26746 | I7: Phường Nguyễn Thái Bình | J7: 26746 | K7: 79 | L7: 760 | M7: 26746 | N7: =K7&" "&L7&" "&M7 -> 79 760 26746
B8: 79 | C8: Thành phố Hồ Chí Minh | D8: 79 | E8: 760 | F8: Quận 1 | G8: 760 | H8: 26749 | I8: Phường Phạm Ngũ Lão | J8: 26749 | K8: 79 | L8: 760 | M8: 26749 | N8: =K8&" "&L8&" "&M8 -> 79 760 26749
B9: 79 | C9: Thành phố Hồ Chí Minh | D9: 79 | E9: 760 | F9: Quận 1 | G9: 760 | H9: 26752 | I9: Phường Cầu Ông Lãnh | J9: 26752 | K9: 79 | L9: 760 | M9: 26752 | N9: =K9&" "&L9&" "&M9 -> 79 760 26752
B10: 79 | C10: Thành phố Hồ Chí Minh | D10: 79 | E10: 760 | F10: Quận 1 | G10: 760 | H10: 26755 | I10: Phường Cô Giang | J10: 26755 | K10: 79 | L10: 760 | M10: 26755 | N10: =K10&" "&L10&" "&M10 -> 79 760 26755
B11: 79 | C11: Thành phố Hồ Chí Minh | D11: 79 | E11: 760 | F11: Quận 1 | G11: 760 | H11: 26758 | I11: Phường Nguyễn Cư Trinh | J11: 26758 | K11: 79 | L11: 760 | M11: 26758 | N11: =K11&" "&L11&" "&M11 -> 79 760 26758
B12: 79 | C12: Thành phố Hồ Chí Minh | D12: 79 | E12: 760 | F12: Quận 1 | G12: 760 | H12: 26761 | I12: Phường Cầu Kho | J12: 26761 | K12: 79 | L12: 760 | M12: 26761 | N12: =K12&" "&L12&" "&M12 -> 79 760 26761
B13: 79 | C13: Thành phố Hồ Chí Minh | D13: 79 | E13: 769 | F13: Quận 2 | G13: 769 | H13: 27088 | I13: Phường Thảo Điền | J13: 27088 | K13: 79 | L13: 769 | M13: 27088 | N13: =K13&" "&L13&" "&M13 -> 79 769 27088
B14: 79 | C14: Thành phố Hồ Chí Minh | D14: 79 | E14: 769 | F14: Quận 2 | G14: 769 | H14: 27091 | I14: Phường An Phú | J14: 27091 | K14: 79 | L14: 769 | M14: 27091 | N14: =K14&" "&L14&" "&M14 -> 79 769 27091
B15: 79 | C15: Thành phố Hồ Chí Minh | D15: 79 | E15: 769 | F15: Quận 2 | G15: 769 | H15: 27094 | I15: Phường Bình An | J15: 27094 | K15: 79 | L15: 769 | M15: 27094 | N15: =K15&" "&L15&" "&M15 -> 79 769 27094
... B324: 79 | C324: Thành phố Hồ Chí Minh | D324: 79 | E324: 777 | F324: Quận Bình Tân | G324: 777 | H324: 27463 | I324: Phường An Lạc A | J324: 27463 | K324: 79 | L324: 777 | M324: 27463 | N324: =K324&" "&L324&" "&M324 -> 79 777 27463
A325: 2 | B325: 74 | C325: Tỉnh Bình Dương | D325: 74 | E325: 718 | F325: Thành phố Thủ Dầu Một | G325: 718 | H325: 25741 | I325: Phường Hiệp Thành | J325: 25741 | K325: 74 | L325: 718 | M325: 25741 | N325: =K325&" "&L325&" "&M325 -> 74 718 25741
B326: 74 | C326: Tỉnh Bình Dương | D326: 74 | E326: 718 | F326: Thành phố Thủ Dầu Một | G326: 718 | H326: 25744 | I326: Phường Phú Lợi | J326: 25744 | K326: 74 | L326: 718 | M326: 25744 | N326: =K326&" "&L326&" "&M326 -> 74 718 25744
B327: 74 | C327: Tỉnh Bình Dương | D327: 74 | E327: 718 | F327: Thành phố Thủ Dầu Một | G327: 718 | H327: 25747 | I327: Phường Phú Cường | J327: 25747 | K327: 74 | L327: 718 | M327: 25747 | N327: =K327&" "&L327&" "&M327 -> 74 718 25747
B328: 74 | C328: Tỉnh Bình Dương | D328: 74 | E328: 718 | F328: Thành phố Thủ Dầu Một | G328: 718 | H328: 25750 | I328: Phường Phú Hòa | J328: 25750 | K328: 74 | L328: 718 | M328: 25750 | N328: =K328&" "&L328&" "&M328 -> 74 718 25750
B329: 74 | C329: Tỉnh Bình Dương | D329: 74 | E329: 718 | F329: Thành phố Thủ Dầu Một | G329: 718 | H329: 25753 | I329: Phường Phú Thọ | J329: 25753 | K329: 74 | L329: 718 | M329: 25753 | N329: =K329&" "&L329&" "&M329 -> 74 718 25753
B330: 74 | C330: Tỉnh Bình Dương | D330: 74 | E330: 718 | F330: Thành phố Thủ Dầu Một | G330: 718 | H330: 25756 | I330: Phường Chánh Nghĩa | J330: 25756 | K330: 74 | L330: 718 | M330: 25756 | N330: =K330&" "&L330&" "&M330 -> 74 718 25756
B331: 74 | C331: Tỉnh Bình Dương | D331: 74 | E331: 718 | F331: Thành phố Thủ Dầu Một | G331: 718 | H331: 25759 | I331: Phường Định Hòa | J331: 25759 | K331: 74 | L331: 718 | M331: 25759 | N331: =K331&" "&L331&" "&M331 -> 74 718 25759
B332: 74 | C332: Tỉnh Bình Dương | D332: 74 | E332: 718 | F332: Thành phố Thủ Dầu Một | G332: 718 | H332: 25760 | I332: Phường Hòa Phú | J332: 25760 | K332: 74 | L332: 718 | M332: 25760 | N332: =K332&" "&L332&" "&M332 -> 74 718 25760
B333: 74 | C333: Tỉnh Bình Dương | D333: 74 | E333: 718 | F333: Thành phố Thủ Dầu Một | G333: 718 | H333: 25762 | I333: Phường Phú Mỹ | J333: 25762 | K333: 74 | L333: 718 | M333: 25762 | N333: =K333&" "&L333&" "&M333 -> 74 718 25762
B334: 74 | C334: Tỉnh Bình Dương | D334: 74 | E334: 718 | F334: Thành phố Thủ Dầu Một | G334: 718 | H334: 25763 | I334: Phường Phú Tân | J334: 25763 | K334: 74 | L334: 718 | M334: 25763 | N334: =K334&" "&L334&" "&M334 -> 74 718 25763
B335: 74 | C335: Tỉnh Bình Dương | D335: 74 | E335: 718 | F335: Thành phố Thủ Dầu Một | G335: 718 | H335: 25765 | I335: Phường Tân An | J335: 25765 | K335: 74 | L335: 718 | M335: 25765 | N335: =K335&" "&L335&" "&M335 -> 74 718 25765
B336: 74 | C336: Tỉnh Bình Dương | D336: 74 | E336: 718 | F336: Thành phố Thủ Dầu Một | G336: 718 | H336: 25768 | I336: Phường Hiệp An | J336: 25768 | K336: 74 | L336: 718 | M336: 25768 | N336: =K336&" "&L336&" "&M336 -> 74 718 25768
B337: 74 | C337: Tỉnh Bình Dương | D337: 74 | E337: 718 | F337: Thành phố Thủ Dầu Một | G337: 718 | H337: 25771 | I337: Phường Tương Bình Hiệp | J337: 25771 | K337: 74 | L337: 718 | M337: 25771 | N337: =K337&" "&L337&" "&M337 -> 74 718 25771
... B415: 74 | C415: Tỉnh Bình Dương | D415: 74 | E415: 726 | F415: Huyện Bắc Tân Uyên | G415: 726 | H415: 25927 | I415: Xã Thường Tân | J415: 25927 | K415: 74 | L415: 726 | M415: 25927 | N415: =K415&" "&L415&" "&M415 -> 74 726 25927
A416: 3 | B416: 80 | C416: Tỉnh Long An | D416: 80 | E416: 794 | F416: Thành phố Tân An | G416: 794 | H416: 27685 | I416: Phường 5 | J416: 27685 | K416: 80 | L416: 794 | M416: 27685 | N416: =K416&" "&L416&" "&M416 -> 80 794 27685
B417: 80 | C417: Tỉnh Long An | D417: 80 | E417: 794 | F417: Thành phố Tân An | G417: 794 | H417: 27688 | I417: Phường 2 | J417: 27688 | K417: 80 | L417: 794 | M417: 27688 | N417: =K417&" "&L417&" "&M417 -> 80 794 27688
B418: 80 | C418: Tỉnh Long An | D418: 80 | E418: 794 | F418: Thành phố Tân An | G418: 794 | H418: 27691 | I418: Phường 4 | J418: 27691 | K418: 80 | L418: 794 | M418: 27691 | N418: =K418&" "&L418&" "&M418 -> 80 794 27691
B419: 80 | C419: Tỉnh Long An | D419: 80 | E419: 794 | F419: Thành phố Tân An | G419: 794 | H419: 27692 | I419: Phường Tân Khánh | J419: 27692 | K419: 80 | L419: 794 | M419: 27692 | N419: =K419&" "&L419&" "&M419 -> 80 794 27692
B420: 80 | C420: Tỉnh Long An | D420: 80 | E420: 794 | F420: Thành phố Tân An | G420: 794 | H420: 27694 | I420: Phường 1 | J420: 27694 | K420: 80 | L420: 794 | M420: 27694 | N420: =K420&" "&L420&" "&M420 -> 80 794 27694
B421: 80 | C421: Tỉnh Long An | D421: 80 | E421: 794 | F421: Thành phố Tân An | G421: 794 | H421: 27697 | I421: Phường 3 | J421: 27697 | K421: 80 | L421: 794 | M421: 27697 | N421: =K421&" "&L421&" "&M421 -> 80 794 27697
B422: 80 | C422: Tỉnh Long An | D422: 80 | E422: 794 | F422: Thành phố Tân An | G422: 794 | H422: 27698 | I422: Phường 7 | J422: 27698 | K422: 80 | L422: 794 | M422: 27698 | N422: =K422&" "&L422&" "&M422 -> 80 794 27698
B423: 80 | C423: Tỉnh Long An | D423: 80 | E423: 794 | F423: Thành phố Tân An | G423: 794 | H423: 27700 | I423: Phường 6 | J423: 27700 | K423: 80 | L423: 794 | M423: 27700 | N423: =K423&" "&L423&" "&M423 -> 80 794 27700
B424: 80 | C424: Tỉnh Long An | D424: 80 | E424: 794 | F424: Thành phố Tân An | G424: 794 | H424: 27703 | I424: Xã Hướng Thọ Phú | J424: 27703 | K424: 80 | L424: 794 | M424: 27703 | N424: =K424&" "&L424&" "&M424 -> 80 794 27703
B425: 80 | C425: Tỉnh Long An | D425: 80 | E425: 794 | F425: Thành phố Tân An | G425: 794 | H425: 27706 | I425: Xã Nhơn Thạnh Trung | J425: 27706 | K425: 80 | L425: 794 | M425: 27706 | N425: =K425&" "&L425&" "&M425 -> 80 794 27706
B426: 80 | C426: Tỉnh Long An | D426: 80 | E426: 794 | F426: Thành phố Tân An | G426: 794 | H426: 27709 | I426: Xã Lợi Bình Nhơn | J426: 27709 | K426: 80 | L426: 794 | M426: 27709 | N426: =K426&" "&L426&" "&M426 -> 80 794 27709
...

Sheet DANHSACHTONG(5-7)
A5: STT | B5: Mã sinh viên | C5: Họ | D5: Tên | E5: Giới tính | F5: Ngày sinh | G5: Nơi sinh | H5: Họ tên cha | I5: Nghề nghiệp cha | J5: Số điện thoại cha | K5: Họ tên mẹ | L5: Nghề nghiệp mẹ | M5: Số điện thoại mẹ | N5: Lớp | O5: Nguyên quán | P5: Dân tộc | Q5: Tôn giáo | R5: ĐC thường trú | S5: ĐC liên lạc | T5: Điện thoại | U5: ĐT Phụ huynh | V5: Điện thoại 2 | W5: Điện thoại 3 | X5: Email | Y5: Số CMND | Z5: Ngày cấp | AA5: Nơi cấp | AB5: Ngày vào đoàn | AC5: Ngày vào đảng | AD5: HKTT tỉnh | AE5: Trường tốt nghiệp | AF5: HKTT huyện | AG5: HKTT phường xã | AH5: HKTT thôn xóm | AI5: HKTT số nhà | AJ5: Khu vực | AK5: Đối tượng | AL5: Đối tượng chính sách | AM5: Tỉnh | AN5: Huyện | AO5: Hồ sơ | AP5: Trạng thái | AQ5: Nhóm | AR5: Mã lớp | AS5: Ngày nhập học | AT5: Năm vào | AU5: Khóa học | AV5: Hệ đào tạo | AW5: Loại hình ĐT | AX5: Khoa | AY5: Ngành | AZ5: Nghề | BA5: Cơ sở
A6: 1 | B6: 19000001 | C6: Phan Phú | D6: Hào | E6: Nam | F6: 23/03/1997 | G6: Tp. Hồ Chí Minh | H6: Phan Chí Hiếu | I6: Tự do | J6: 0903986495 | K6: Nguyễn Thị Phương Dung | L6: Nội Trợ | M6: 0909831343 | N6: 19C1-CNÔ1 | O6: Tp. Hồ Chí Minh | P6: Kinh | Q6: Không | R6: 17/15a khu phố 6a p.tân thới nhất quận 12 tp. Hồ Chí Minh | S6: 17/15a khu phố 6a p.tân thới nhất quận 12 tp. Hồ Chí Minh | T6: 0904042315 | Y6: 025885764 | Z6: 01/05/2019 | AA6: CA. Tp.HCM | AB6: 20/03/2014 | AD6: Tp. Hồ Chí Minh | AE6: THPT Bà Điểm | AF6: Quận 12 | AJ6: KV2 | AK6: Đối tượng 03 | AM6: Tp. Hồ Chí Minh | AN6: Quận 12 | AO6: 19C10211 | AP6: Đang học | AQ6: 1 | AR6: 19C1-CNÔ1 | AS6: 10/05/2019 | AT6: 2019 | AU6: 2019 | AV6: Cao đẳng | AW6: Chính quy 2 năm | AX6: Khoa Động lực | AY6: Công nghệ ô tô | AZ6: Công nghệ ô tô | BA6: Trường Cao đẳng Lý Tự Trọng TPHCM
A7: 2 | B7: 19000002 | C7: Phùng Đức | D7: Dương | E7: Nam | F7: 17/10/2001 | G7: Bắc Ninh | H7: Phùng Đức Danh | I7: Tài xé | J7: 0964125239 | K7: Nguyễn Thị Thư | L7: Nội Trợ | M7: 0978565745 | N7: 19T4-KML1 | O7: Bắc Ninh | P7: Kinh | Q7: Không | R7: Nghĩa Hương, Xã Mỹ Hương, Huyện Lương Tài, Tỉnh Bắc Ninh | S7: 5/25H tổ 14 ấp 2 xã Xuân Thới Thượng huyện Hóc Môn tp Hồ Chí Minh | T7: 0994905556 | X7: phungducduong99999@gmail.com | Y7: 125922776 | Z7: 14/07/2017 | AA7: Bắc Ninh | AD7: Bắc Ninh | AF7: Huyện Lương Tài | AJ7: KV3 | AM7: Bắc Ninh | AN7: Huyện Lương Tài | AO7: 19T40054 | AP7: Đang học | AQ7: 1 | AR7: 19T4-KML1 | AS7: 10/05/2019 | AT7: 2019 | AU7: 2019 | AV7: Trung cấp | AW7: Chính quy 3 năm | AX7: Khoa Nhiệt – Lạnh | AY7: Kỹ thuật máy lạnh và điều hòa không khí | AZ7: Kỹ thuật máy lạnh và điều hòa không khí | BA7: Trường Cao đẳng Lý Tự Trọng TPHCM
A8: 3 | B8: 19000003 | C8: Lê Trọng | D8: Tiến | E8: Nam | F8: 15/03/2002 | G8: Tp. Hồ Chí Minh | H8: Lê Trọng Anh Kiệt | I8: Buôn bán | J8: 0978110038 | K8: Nguyễn Thị Mộng Tuyền | L8: Buôn bán | M8: 0988344000 | N8: 19T4-CNÔ1 | O8: Tp. Hồ Chí Minh | P8: Kinh | Q8: Không | R8: 24 Nguyễn Văn Tỷ, Khu phố 2, thị trấn Củ Chi, huyện Củ Chi, TPHCM | S8: 24 Nguyễn Văn Tỷ, Khu phố 2, thị trấn Củ Chi, huyện Củ Chi, TPHCM | T8: 0979535019 | X8: Bobbytrongtien@gmail.com | Y8: 079202005284 | Z8: 03/01/2017 | AA8: CA. Tp.HCM | AD8: Đà Nẵng | AF8: Huyện Hoà Vang | AJ8: KV2 | AM8: Tp. Hồ Chí Minh | AN8: Huyện Củ Chi | AO8: 19T40059 | AP8: Đang học | AQ8: 1 | AR8: 19T4-CNÔ1 | AS8: 10/05/2019 | AT8: 2019 | AU8: 2019 | AV8: Trung cấp | AW8: Chính quy 3 năm | AX8: Khoa Động lực | AY8: Công nghệ ô tô | AZ8: Công nghệ ô tô | BA8: Trường Cao đẳng Lý Tự Trọng TPHCM
A9: 4 | B9: 19000004 | C9: Phạm Hữu | D9: Hoàng | E9: Nam | F9: 02/02/1993 | G9: Đồng Nai | H9: Phạm Luận | I9: Nông dân | J9: 0326637303 | N9: 19C1-LGT1 | O9: Đồng Nai | P9: Kinh | Q9: Không | R9: Ấp 3 xã Phú Lộc, huyện Tân Phú, tỉnh Đồng Nai | S9: 122/54 Bùi Đình Túy, P12, Quận Bình Thạnh, Tp. HCM | T9: 0388078719 | X9: phamhuuhoang1993@gmail.com | Y9: 272194195 | Z9: 22/04/2019 | AA9: CA. Đồng Nai | AB9: 13/12/2009 | AD9: Đồng Nai | AE9: THPT Đoàn Kết | AF9: Huyện Tân Phú | AJ9: KV1 | AM9: Đồng Nai | AN9: Huyện Tân Phú | AO9: 19C10008 | AP9: Đang học | AQ9: 1 | AR9: 19C1-LGT1 | AS9: 10/05/2019 | AT9: 2019 | AU9: 2019 | AV9: Cao đẳng | AW9: Chính quy 2 năm | AX9: Khoa Kinh tế | AY9: Logistics | AZ9: Logistics | BA9: Trường Cao đẳng Lý Tự Trọng TPHCM
A10: 5 | B10: 19000005 | C10: Nguyễn Khắc Trung | D10: Kiên | E10: Nam | F10: 10/12/1997 | G10: Thái Bình | H10: Nguyễn Văn Duật | I10: Quản đốc | J10: 0974392959 | K10: Nguyễn Thị Toan | L10: Tạp vụ | M10: 0978114479 | N10: 19C1-ĐCN1 | O10: Thái Bình | P10: Kinh | Q10: Không | R10: Xã Vũ Công, Huyện Kiến Xương, Tỉnh Thái Bình | S10: 257/38/9 đường bình thành, phường bình hưng hoà B, Quận Bình Tân | T10: 0928383432 | U10: 0974392959 | V10: 0978114479 | Y10: 025680322 | Z10: 29/08/2012 | AA10: CA. Tp.HCM | AB10: 26/03/2016 | AD10: Thái Bình | AE10: THCS và THPT Phạm Ngũ Lão | AF10: Huyện Kiến Xương | AJ10: KV3 | AM10: Thái Bình | AN10: Huyện Kiến Xương | AO10: 19C10116 | AP10: Đang học | AQ10: 1 | AR10: 19C1-ĐCN1 | AS10: 10/05/2019 | AT10: 2019 | AU10: 2019 | AV10: Cao đẳng | AW10: Chính quy 2 năm | AX10: Khoa Điện - Điện tử | AY10: Điện công nghiệp | AZ10: Điện công nghiệp | BA10: Trường Cao đẳng Lý Tự Trọng TPHCM
A11: 6 | B11: 19000006 | C11: Trần Minh | D11: Quang | E11: Nam | F11: 17/06/1999 | G11: Long An | H11: Trần Văn Ơi | I11: Làm Nông | J11: 0359804850 | K11: Huỳnh Ngọc Thúy | L11: Làm Nông | M11: 0349474448 | N11: 19C1-CNÔ1 | O11: Long An | P11: Kinh | Q11: Không | R11: Ấp 2, Vĩnh Bình, Vĩnh Hưng, Long An | S11: 142/18 Cộng Hòa, Phường 4, Quận Tân Bình, Tp.HCM | T11: 0357006768 | U11: 0359804850 | V11: 0349474448 | X11: Tranquangg1706@gmail.com | Y11: 301687190 | Z11: 22/10/2014 | AA11: CA. Long An | AD11: Long An | AE11: THPT Vĩnh Hưng | AF11: Huyện Vĩnh Hưng | AJ11: KV2-NT | AM11: Long An | AN11: Huyện Vĩnh Hưng | AO11: 19C10090 | AP11: Đang học | AQ11: 1 | AR11: 19C1-CNÔ1 | AS11: 11/05/2019 | AT11: 2019 | AU11: 2019 | AV11: Cao đẳng | AW11: Chính quy 2 năm | AX11: Khoa Động lực | AY11: Công nghệ ô tô | AZ11: Công nghệ ô tô | BA11: Trường Cao đẳng Lý Tự Trọng TPHCM
A12: 7 | B12: 19000007 | C12: Lê Minh | D12: Sang | E12: Nam | F12: 28/01/1995 | G12: Tiền Giang | H12: Lê Minh Dũng | I12: Làm nông | K12: Triệu Thị Phương | L12: Làm nông | N12: 19C1-TĐH1 | O12: tien giang | P12: Kinh | Q12: Không | R12: Số 204, tổ 6, ấp 3, xã An Thái Trung, huyện Cái bè, tỉnh Tiền Giang | S12: Số 204, tổ 6, ấp 3, xã An Thái Trung, huyện Cái bè, tỉnh Tiền Giang | T12: 0968381803 | U12: 0984578974 | X12: minhsang2801@gmail.com | Y12: 312345949 | Z12: 02/06/2012 | AA12: tien giang | AE12: THPT Lê Thanh Hiền | AJ12: KV2-NT | AK12: Đối tượng 03 | AM12: Tiền Giang | AN12: Huyện Cái Bè | AO12: 19C10159 | AP12: Đang học | AQ12: 1 | AR12: 19C1-TĐH1 | AS12: 11/05/2019 | AT12: 2019 | AU12: 2019 | AV12: Cao đẳng | AW12: Chính quy 2 năm | AX12: Khoa Điện - Điện tử | AY12: Công nghệ kỹ thuật điều khiển và tự động hóa | AZ12: Công nghệ kỹ thuật điều khiển và tự động hóa | BA12: Trường Cao đẳng Lý Tự Trọng TPHCM
A13: 8 | B13: 19000008 | C13: Võ Trung | D13: Khang | E13: Nam | F13: 17/04/2004 | G13: Tp. Hồ Chí Minh | H13: Võ Quang Trang | I13: Thợ điện | J13: 0794784384 | K13: Phạm Thị Minh Tuyền | L13: Nội trợ | N13: 19T4-VSL1 | O13: Tp. Hồ Chí Minh | P13: Kinh | R13: 787/72 Trường Chinh p.Tây Thạnh Q.tân Phú | U13: 0794748348 | AD13: Tp. Hồ Chí Minh | AF13: Quận Tân Phú | AG13: Tây Thạnh | AI13: 787/22 Trường Chinh | AJ13: KV3 | AM13: Tp. Hồ Chí Minh | AN13: Quận Tân Phú | AO13: 19T40276 | AP13: Đang học | AQ13: 1 | AR13: 19T4-VSL1 | AS13: 13/05/2019 | AT13: 2019 | AU13: 2019 | AV13: Trung cấp | AW13: Chính quy 3 năm | AX13: Khoa Nhiệt – Lạnh | AY13: Vận hành, sửa chữa thiết bị lạnh | AZ13: Vận hành, sửa chữa thiết bị lạnh | BA13: Trường Cao đẳng Lý Tự Trọng TPHCM
A14: 9 | B14: 19000009 | C14: Nguyễn Lê | D14: Hoàng | E14: Nam | F14: 13/08/2003 | G14: Tp. Hồ Chí Minh | H14: Nguyễn Văn Thạch | I14: Buôn bán | J14: 0936495478 | K14: Lê Thị Thơm | L14: Buôn Bán | M14: 0988973916 | N14: 19T4-CNÔ1 | O14: Tp. Hồ Chí Minh | P14: Kinh | Q14: Không | R14: E3/21c3 - Ấp 5A - Xã Vĩnh Lộc A - Huyện Bình Chánh HCM | S14: E3/21c3 - Ấp 5A - Xã Vĩnh Lộc A - Huyện Bình Chánh HCM | T14: 0988973916 | U14: 0339013001 | V14: 0936495478 | X14: nguyenlehoang.1308@gmail.com | Y14: 001203024361 | Z14: 10/05/2018 | AA14: huyện Bình Chánh tp.HCM | AD14: Hà Nội | AF14: Huyện Mỹ Đức | AJ14: KV3 | AM14: Tp. Hồ Chí Minh | AN14: Huyện Bình Chánh | AO14: 19T40157 | AP14: Đang học | AQ14: 1 | AR14: 19T4-CNÔ1 | AS14: 13/05/2019 | AT14: 2019 | AU14: 2019 | AV14: Trung cấp | AW14: Chính quy 3 năm | AX14: Khoa Động lực | AY14: Công nghệ ô tô | AZ14: Công nghệ ô tô | BA14: Trường Cao đẳng Lý Tự Trọng TPHCM
A15: 10 | B15: 19000010 | C15: Trần Cao | D15: Long | E15: Nam | F15: 21/11/2004 | G15: Tp. Hồ Chí Minh | H15: Trần Văn Nhân | I15: Xây dựng | J15: 0989352468 | K15: Nguyễn Thị Phú | L15: Nội trợ | M15: 0333248191 | N15: 19T4-CNÔ1 | O15: Tp. Hồ Chí Minh | P15: Kinh | R15: 507/39 Hương Lộ 3 Phường Bình Hưng Hòa Q.bình tân | U15: 0989352468 | AD15: Tp. Hồ Chí Minh | AF15: Quận Bình Tân | AG15: Bình Hưng Hòa | AI15: 507/39 Hương lộ 3 | AJ15: KV3 | AM15: Tp. Hồ Chí Minh | AN15: Quận Bình Tân | AO15: 19T40117 | AP15: Đang học | AQ15: 1 | AR15: 19T4-CNÔ1 | AS15: 13/05/2019 | AT15: 2019 | AU15: 2019 | AV15: Trung cấp | AW15: Chính quy 3 năm | AX15: Khoa Động lực | AY15: Công nghệ ô tô | AZ15: Công nghệ ô tô | BA15: Trường Cao đẳng Lý Tự Trọng TPHCM
A16: 11 | B16: 19000011 | C16: Huỳnh Nhựt | D16: Thành | E16: Nam | F16: 08/01/2003 | G16: Tp. Hồ Chí Minh | H16: Huỳnh Thanh Toàn | J16: 0388435545 | K16: Nguyễn Thị Thúy Ái | M16: 0963059849 | N16: 19T4-CNÔ1 | O16: Tp. Hồ Chí Minh | P16: Hoa | Q16: Phật Giáo | R16: 139/26/13 Chiến Lược, P. Bình Trị Đông, Q. Bình Tân, TPHCM | S16: 139/26/13 Chiến Lược, P. Bình Trị Đông, Q. Bình Tân, TPHCM | T16: 0963059849 | X16: khoidutao@gmail.com | Y16: 086203000129 | Z16: 18/06/2018 | AA16: CTCCSĐKQLDC | AD16: Tp. Hồ Chí Minh | AF16: Quận Bình Tân | AJ16: KV3 | AM16: Tp. Hồ Chí Minh | AN16: Quận Bình Tân | AO16: 19T40039 | AP16: Đang học | AQ16: 1 | AR16: 19T4-CNÔ1 | AS16: 13/05/2019 | AT16: 2019 | AU16: 2019 | AV16: Trung cấp | AW16: Chính quy 3 năm | AX16: Khoa Động lực | AY16: Công nghệ ô tô | AZ16: Công nghệ ô tô | BA16: Trường Cao đẳng Lý Tự Trọng TPHCM
A17: 12 | B17: 19000012 | C17: Nguyễn Hoàng Minh | D17: Quân | E17: Nam | F17: 13/12/2000 | G17: Tp. Hồ Chí Minh | H17: Nguyễn Hoàn Vũ | I17: Tài xé | J17: 0909613250 | K17: Nguyễn Thị Mỹ Yến | L17: Nội trợ | M17: 0908577364 | N17: 19C1-CNÔ1 | O17: Tp. Hồ Chí Minh | P17: Kinh | Q17: Phật Giáo | R17: 995/122 Hồng Bàng, Phường 12, Quận 6, Tp.Hồ Chí Minh | S17: 995/122 Hồng Bàng, Phường 12, Quận 6, Tp.Hồ Chí Minh | T17: 0908577364 | U17: 0909613250 | V17: 0908577364 | Y17: 026031697 | Z17: 20/07/2015 | AA17: CA QUAN 6 | AD17: An Giang | AE17: THPT NKTDTT Nguyễn Thị Định | AF17: Huyện An Phú | AJ17: KV3 | AM17: Tp. Hồ Chí Minh | AN17: Quận 6 | AO17: 19C10036 | AP17: Đang học | AQ17: 1 | AR17: 19C1-CNÔ1 | AS17: 13/05/2019 | AT17: 2019 | AU17: 2019 | AV17: Cao đẳng | AW17: Chính quy 2 năm | AX17: Khoa Động lực | AY17: Công nghệ ô tô | AZ17: Công nghệ ô tô | BA17: Trường Cao đẳng Lý Tự Trọng TPHCM
A18: 13 | B18: 19000013 | C18: Nguyễn Nhật | D18: Huy | E18: Nam | F18: 11/05/2004 | G18: Tp. Hồ Chí Minh | H18: Nguyên Nhật Trung | I18: Công nhân | J18: 0932001680 | K18: Lê Thị Tường Vũ | L18: Buôn bán | M18: 0902435141 | N18: 19T4-TKĐ1 | O18: Tp. Hồ Chí Minh | P18: Kinh | Q18: Không | R18: 411/112 Lê Đức Thọ, Phường 17, Quận Gò Vấp, Tp.HCM | S18: 66/19/34/7 Trần Văn Quang, Phường 10, Quận Tân Bình, Tp.HCM | T18: 0766779354 | U18: 0932001680 | V18: 0899454460 | W18: 0902435141 | X18: ABC@gmail.com | Y18: 0 | Z18: 26/06/2019 | AA18: LTT | AD18: Tp. Hồ Chí Minh | AF18: Quận Gò Vấp | AJ18: KV3 | AM18: Tp. Hồ Chí Minh | AN18: Quận Gò Vấp | AO18: 19T40172 | AP18: Đang học | AQ18: 1 | AR18: 19T4-TKĐ1 | AS18: 13/05/2019 | AT18: 2019 | AU18: 2019 | AV18: Trung cấp | AW18: Chính quy 3 năm | AX18: Khoa Công nghệ Thông tin | AY18: Thiết kế đồ họa | AZ18: Thiết kế đồ họa | BA18: Trường Cao đẳng Lý Tự Trọng TPHCM
A19: 14 | B19: 19000014 | C19: Vũ Trường | D19: Khanh | E19: Nam | F19: 30/10/2004 | G19: Tp. Hồ Chí Minh | H19: Vũ Khánh Trình | I19: Kỹ sư trắc địa | K19: Nguyễn Thị Thanh Thảo | L19: Nội trợ | M19: 0964493213 | N19: 19T4-LTM1 | O19: Hải An, Hải Hậu, Nam Định | P19: Kinh | Q19: Không | R19: 499/44 Quang Trung, P.10, Q.Gò Vấp, TPHCM | S19: 499/44 Quang Trung, P.10, Q.Gò Vấp, TPHCM | T19: 0964493213 | U19: 0964493213 | X19: khanhvtrng12@gmail.com | Y19: 079204014324 | Z19: 08/03/2019 | AA19: Tp. Hồ Chí Minh | AD19: Tp. Hồ Chí Minh | AF19: Quận Gò Vấp | AJ19: KV3 | AM19: Tp. Hồ Chí Minh | AN19: Quận Gò Vấp | AO19: 19T40164 | AP19: Đang học | AQ19: 1 | AR19: 19T4-LTM1 | AS19: 14/05/2019 | AT19: 2019 | AU19: 2019 | AV19: Trung cấp | AW19: Chính quy 3 năm | AX19: Khoa Công nghệ Thông tin | AY19: Lập trình máy tính | AZ19: Lập trình máy tính | BA19: Trường Cao đẳng Lý Tự Trọng TPHCM
A20: 15 | B20: 19000015 | C20: Vũ Ngọc Mai | D20: Khanh | E20: Nữ | F20: 30/10/2004 | G20: Tp. Hồ Chí Minh | H20: Vũ Khánh Trình | I20: Kỹ sư trắc địa | K20: Nguyễn Thị Thanh Thảo | L20: Nội trợ | M20: 0964493213 | N20: 19T4-MTT1 | O20: Nam Định | P20: Kinh | Q20: Không | R20: 499/44 Quang Trung, P.10, Quận Gò Vấp, TPHCM | S20: 499/44 Quang Trung, P.10, Quận Gò Vấp, TPHCM | T20: 0387980723 | U20: 0964493213 | X20: khanhvu3010@gmail.com | Y20: 079304014348 | Z20: 08/03/2019 | AA20: TP. Hồ Chí Minh | AD20: Tp. Hồ Chí Minh | AF20: Quận Gò Vấp | AJ20: KV3 | AM20: Tp. Hồ Chí Minh | AN20: Quận Gò Vấp | AO20: 19T40175 | AP20: Đang học | AQ20: 1 | AR20: 19T4-MTT1 | AS20: 14/05/2019 | AT20: 2019 | AU20: 2019 | AV20: Trung cấp | AW20: Chính quy 3 năm | AX20: Khoa May - Thời trang | AY20: May thời trang | AZ20: May thời trang | BA20: Trường Cao đẳng Lý Tự Trọng TPHCM
A21: 16 | B21: 19000016 | C21: Nguyễn Dương | D21: Thanh | E21: Nam | F21: 11/03/1997 | G21: Long An | H21: Nguyễn Văn Ngân | I21: Thợ Mộc | J21: 0907751203 | K21: Dương Thị Mỹ Hương | L21: Buôn bán | M21: 0974856203 | N21: 19C1-CNL1 | O21: Long An | P21: Kinh | Q21: Không | R21: 52 ấp Xóm Mới, xã Tân Lân, huyện Cần Đước, tỉnh Long An | S21: 52 ấp Xóm Mới, xã Tân Lân, huyện Cần Đước, tỉnh Long An | T21: 0968498203 | U21: 0907751203 | V21: 0974856203 | X21: nguyenduongthanh1131997@gmail.com | Y21: 301607085 | Z21: 31/05/2012 | AA21: CA. Long An | AB21: 17/05/2015 | AC21: 10/07/2018 | AD21: Long An | AE21: THPT Chu Văn An | AF21: Huyện Cần Đước | AJ21: KV2-NT | AK21: Đối tượng 03 | AM21: Long An | AN21: Huyện Cần Đước | AO21: 19C10088 | AP21: Đang học | AQ21: 1 | AR21: 19C1-CNL1 | AS21: 14/05/2019 | AT21: 2019 | AU21: 2019 | AV21: Cao đẳng | AW21: Chính quy 2 năm | AX21: Khoa Nhiệt – Lạnh | AY21: Công nghệ kỹ thuật nhiệt | AZ21: Công nghệ kỹ thuật nhiệt | BA21: Trường Cao đẳng Lý Tự Trọng TPHCM
A22: 17 | B22: 19000017 | C22: Đặng Hữu | D22: Giác | E22: Nam | F22: 19/10/2000 | G22: Kiên Giang | H22: Đặng Văn Sâm | I22: Giảng viên | J22: 0384844810 | K22: Trần Xuân Lan | L22: Giáo viên | M22: 0984275178 | N22: 19C1-CNÔ1 | O22: Kiên Giang | P22: Kinh | Q22: Không | R22: Lô D11, khu dân cư ấp Tân Hoà B,xã Tân Hoà,huyện Tân Hiệp,tỉnh Kiên Giang | S22: 194 Trần Bá Giao, Phường 5, Quận Gò Vấp, Tp.HCM | T22: 0826855852 | U22: 0384844810 | V22: 0984275178 | Y22: 371901066 | Z22: 19/03/2015 | AA22: CA. Kiên Giang | AD22: Kiên Giang | AE22: THPT Tân Hiệp | AF22: Huyện Tân Hiệp | AJ22: KV2-NT | AM22: Kiên Giang | AN22: Huyện Tân Hiệp | AO22: 19C10004 | AP22: Đang học | AQ22: 1 | AR22: 19C1-CNÔ1 | AS22: 14/05/2019 | AT22: 2019 | AU22: 2019 | AV22: Cao đẳng | AW22: Chính quy 2 năm | AX22: Khoa Động lực | AY22: Công nghệ ô tô | AZ22: Công nghệ ô tô | BA22: Trường Cao đẳng Lý Tự Trọng TPHCM
A23: 18 | B23: 19000018 | C23: Đào Thanh | D23: Tùng | E23: Nam | F23: 03/12/2002 | G23: Tp. Hồ Chí Minh | N23: 19T4-LTM2 | O23: Hồng tiến tiến xương thái bình | P23: Kinh | Q23: Không | R23: 154/31/11A Đường Cống Lỡ, P.15, Q.Tân Bình, TPHCM | S23: 154/31/11A Đường Cống Lỡ, P.15, Q.Tân Bình, TPHCM | T23: 0968634984 | X23: 19000018 | Y23: 031202005688 | Z23: 11/06/2018 | AA23: Công an hải phòng | AD23: Tp. Hồ Chí Minh | AF23: Quận Tân Bình | AJ23: KV3 | AM23: Tp. Hồ Chí Minh | AN23: Quận Tân Bình | AO23: 19T40122 | AP23: Đang học | AQ23: 1 | AR23: 19T4-LTM2 | AS23: 14/05/2019 | AT23: 2019 | AU23: 2019 | AV23: Trung cấp | AW23: Chính quy 3 năm | AX23: Khoa Công nghệ Thông tin | AY23: Lập trình máy tính | AZ23: Lập trình máy tính | BA23: Trường Cao đẳng Lý Tự Trọng TPHCM
A24: 19 | B24: 19000019 | C24: Phạm Hoàng | D24: Khôi | E24: Nam | F24: 17/07/2002 | G24: Tp. Hồ Chí Minh | H24: Phạm Huy Thông | K24: Trần Thị Hoài Thu | L24: GV | N24: 19T4-CNÔ1 | O24: Tp. Hồ Chí Minh | P24: Kinh | Q24: Không | R24: 125/16/26 Bùi Đình Túy P.24 Q.Bình Thạnh Tp HCM | S24: 125/16/26 Bùi Đình Túy P.24 Q.Bình Thạnh Tp HCM | T24: 0933192899 | U24: 0932872860 | Y24: 079202021465 | Z24: 18/07/2017 | AA24: CTCCSQLĐKDC | AJ24: KV3 | AM24: Tp. Hồ Chí Minh | AN24: Huyện Bình Chánh | AO24: 19T40314 | AP24: Đang học | AQ24: 1 | AR24: 19T4-CNÔ1 | AS24: 14/05/2019 | AT24: 2019 | AU24: 2019 | AV24: Trung cấp | AW24: Chính quy 3 năm | AX24: Khoa Động lực | AY24: Công nghệ ô tô | AZ24: Công nghệ ô tô | BA24: Trường Cao đẳng Lý Tự Trọng TPHCM
A25: 20 | B25: 19000020 | C25: Phan Nguyễn Thanh | D25: Thiện | E25: Nam | F25: 31/05/1996 | G25: Tây Ninh | H25: Phan Thành Đông | I25: Làm Nông | J25: 0338151562 | K25: Nguyễn Thị Huệ | L25: Làm nông | M25: 0327711123 | N25: 19T4-ĐCN1 | O25: Tây Ninh | P25: Kinh | Q25: Không | R25: Phước Trung , Phước Chỉ , Trảng Bàng , Tây Ninh | S25: Phước Trung, Phước Chỉ, Trảng Bàng, Tây Ninh | T25: 0967220855 | U25: 0338151561 | V25: 0327711123 | X25: thanhthienpc69@gmail.com | Y25: 072096000781 | Z25: 18/02/2016 | AA25: CA Tây Ninh | AD25: Tây Ninh | AF25: Huyện Trảng Bàng | AM25: Tây Ninh | AN25: Huyện Trảng Bàng | AO25: 19T40106 | AP25: Đang học | AQ25: 1 | AR25: 19T4-ĐCN1 | AS25: 15/05/2019 | AT25: 2019 | AU25: 2019 | AV25: Trung cấp | AW25: Chính quy 3 năm | AX25: Khoa Điện - Điện tử | AY25: Điện công nghiệp | AZ25: Điện công nghiệp | BA25: Trường Cao đẳng Lý Tự Trọng TPHCM
A26: 21 | B26: 19000021 | C26: Đỗ Viết Thành | D26: An | E26: Nam | F26: 20/03/2004 | G26: Tp. Hồ Chí Minh | H26: Đỗ Tiến Thành | I26: Lao động | J26: 0379732989 | K26: Đặng Thị Xinh | L26: Nội trợ | M26: 1970 | N26: 19T4-ĐCN1 | O26: quang nam | P26: Kinh | Q26: Không | R26: 66/25 Phan Sào Nam P.11 Q.Tân Bình | S26: 66/25 Phan Sào Nam P.11 Q.Tân Bình | T26: 0379732989 | Y26: 0379732989 | Z26: 28/05/2019 | AA26: TP HCM | AD26: Quảng Nam | AF26: Huyện Bắc Trà My | AJ26: KV3 | AM26: Tp. Hồ Chí Minh | AN26: Quận Tân Bình | AO26: 19T40112 | AP26: Đang học | AQ26: 1 | AR26: 19T4-ĐCN1 | AS26: 15/05/2019 | AT26: 2019 | AU26: 2019 | AV26: Trung cấp | AW26: Chính quy 3 năm | AX26: Khoa Điện - Điện tử | AY26: Điện công nghiệp | AZ26: Điện công nghiệp | BA26: Trường Cao đẳng Lý Tự Trọng TPHCM
A27: 22 | B27: 19000022 | C27: Đào Tấn | D27: Phát | E27: Nam | F27: 24/11/2003 | G27: Bình Thuận | H27: Đào Tấn Thuận | I27: Cơ Khí | J27: 0345454770 | K27: Lê Trần Thúy Phượng | L27: Trang điểm, uống tóc | M27: 0369724472 | N27: 19T4-CĐT1 | O27: Bình Thuận | P27: Kinh | Q27: Không | R27: Tổ 10, Thôn 4, Đức Hạnh, Đức Linh, Bình Thuận | S27: 66/19/34/7 Trần Văn Quang, Phường 10, Quận Tân Bình, Tp.HCM | T27: 0345454770 | X27: ABC@gmail.com | Y27: 19000022 | Z27: 26/06/2019 | AA27: LTT | AD27: Bình Thuận | AF27: Huyện Đức Linh | AJ27: KV2-NT | AM27: Bình Thuận | AN27: Huyện Đức Linh | AO27: 19T40070 | AP27: Đang học | AQ27: 1 | AR27: 19T4-CĐT1 | AS27: 15/05/2019 | AT27: 2019 | AU27: 2019 | AV27: Trung cấp | AW27: Chính quy 3 năm | AX27: Khoa Điện - Điện tử | AY27: Cơ điện tử | AZ27: Cơ điện tử | BA27: Trường Cao đẳng Lý Tự Trọng TPHCM
A28: 23 | B28: 19000023 | C28: Nguyễn Cao | D28: Hưng | E28: Nam | F28: 02/07/1998 | G28: Tp. Hồ Chí Minh | H28: Nguyễn Văn Chánh | I28: Công nhân | K28: Cao Hoài Thương | L28: Buôn bán | N28: 19T2-TKW1 | O28: Tp. Hồ Chí Minh | P28: Kinh | Q28: Không | R28: 30/2 Nguyễn Văn Cự kp5 p Tân Tạo A Q.Binh Tân Tp HCM | S28: 30/2 Nguyễn Văn Cự kp5 p Tân Tạo A Q.Binh Tân Tp HCM | T28: 0797910442 | U28: 0934151371 | V28: 0797910442 | X28: nguyencaohung02071998@gmail.com | Y28: 025795286 | Z28: 03/07/2013 | AA28: Ca.Tp.HCM | AB28: 17/01/2017 | AD28: Tp. Hồ Chí Minh | AE28: THPT Bình Tân | AF28: Quận Bình Tân | AJ28: KV3 | AM28: Tp. Hồ Chí Minh | AN28: Quận Bình Tân | AO28: 19T20059 | AP28: Đang học | AQ28: 1 | AR28: 19T2-TKW1 | AS28: 15/05/2019 | AT28: 2019 | AU28: 2019 | AV28: Trung cấp | AW28: Chính quy 1N3 | AX28: Khoa Công nghệ Thông tin | AY28: Thiết kế trang Web | AZ28: Thiết kế trang Web | BA28: Trường Cao đẳng Lý Tự Trọng TPHCM
A29: 24 | B29: 19000024 | C29: Tô Hà Kỳ | D29: Duyên | E29: Nữ | F29: 06/02/2004 | G29: Tp. Hồ Chí Minh | H29: Tô Hồng Đức | I29: Kỹ sư Cơ khí | K29: Đặng Ngọc Ngà | L29: Kinh doang | N29: 19T4-NNA1 | O29: Tp. Hồ Chí Minh | P29: Kinh | Q29: Phật Giáo | R29: 152/48 Lý Chính Thắng, P.7, Q.3, TPHCM | S29: 66/19/34/7 Trần Văn Quang, Phường 10, Quận Tân Bình, Tp.HCM | T29: 0907107649 | U29: 0909916249 | X29: ABC@gmail.com | Y29: 19000024 | Z29: 26/06/2019 | AA29: LTT | AD29: Tp. Hồ Chí Minh | AF29: Quận 3 | AJ29: KV3 | AM29: Tp. Hồ Chí Minh | AN29: Quận 3 | AO29: 19T40348 | AP29: Đang học | AQ29: 1 | AR29: 19T4-NNA1 | AS29: 15/05/2019 | AT29: 2019 | AU29: 2019 | AV29: Trung cấp | AW29: Chính quy 3 năm | AX29: Khoa Khoa học cơ bản | AY29: Tiếng Anh | AZ29: Tiếng Anh | BA29: Trường Cao đẳng Lý Tự Trọng TPHCM
A30: 25 | B30: 19000025 | C30: Nguyễn Minh | D30: Ánh | E30: Nữ | F30: 23/07/2004 | G30: Tp. Hồ Chí Minh | H30: Nguyễn Minh Mẫn | I30: Buôn bán | J30: 0769977377 | K30: Nguyễn Thị Trang Đài | L30: Buôn bán | M30: 0906855812 | N30: 19T4-TKĐ1 | O30: Phường 2, Tân bình, Tphcm | P30: Kinh | Q30: Phật Giáo | R30: 291D Hoàng Văn Thụ, P.2, Q. Tân Bình, TPHCM | S30: 291D Hoàng Văn Thụ, P.2, Q. Tân Bình, TPHCM | T30: 0906855812 | U30: 0906855812 | Y30: 19000025 | Z30: 28/06/2019 | AA30: LTT | AD30: Tp. Hồ Chí Minh | AF30: Quận Tân Bình | AJ30: KV3 | AM30: Tp. Hồ Chí Minh | AN30: Quận Tân Phú | AO30: 19T40163 | AP30: Đang học | AQ30: 1 | AR30: 19T4-TKĐ1 | AS30: 15/05/2019 | AT30: 2019 | AU30: 2019 | AV30: Trung cấp | AW30: Chính quy 3 năm | AX30: Khoa Công nghệ Thông tin | AY30: Thiết kế đồ họa | AZ30: Thiết kế đồ họa | BA30: Trường Cao đẳng Lý Tự Trọng TPHCM
A31: 26 | B31: 19000026 | C31: Võ Kiều Minh | D31: Thư | E31: Nữ | F31: 25/02/1999 | G31: Tp. Hồ Chí Minh | N31: 19T4-NNA1 | P31: Kinh | R31: D12/53 đường Huỳnh Văn Trí, ấp 4, xã Bình Chánh, huyện Bình Chánh, TPHCM | T31: 0397481470 | AJ31: KV2 | AM31: Tp. Hồ Chí Minh | AN31: Huyện Bình Chánh | AO31: 19T40034 | AP31: Đang học | AQ31: 1 | AR31: 19T4-NNA1 | AS31: 15/05/2019 | AT31: 2019 | AU31: 2019 | AV31: Trung cấp | AW31: Chính quy 3 năm | AX31: Khoa Khoa học cơ bản | AY31: Tiếng Anh | AZ31: Tiếng Anh | BA31: Trường Cao đẳng Lý Tự Trọng TPHCM
A32: 27 | B32: 19000027 | C32: Lê Hoàng Quốc | D32: Anh | E32: Nam | F32: 23/07/2004 | G32: Tp. Hồ Chí Minh | H32: Lê Văn Hạ | I32: Xây dựng | J32: 0908128565 | K32: Hoàng Thị Hằng | L32: Buôn Bán | M32: 0933740954 | N32: 19T4-TKĐ1 | O32: Tp. Hồ Chí Minh | P32: Kinh | Q32: Không | R32: C12/37 ẤP 3B XÃ VĨNH LỘC B , BÌNH CHÁNH , TP.HCM | S32: C12/37 ẤP 3B XÃ VĨNH LỘC B , BÌNH CHÁNH , TP.HCM | T32: 0968097606 | Y32: 052204000129 | Z32: 23/03/2019 | AA32: CCSĐKQLDC | AD32: Bình Định | AF32: Huyện Phù Cát | AJ32: KV2 | AM32: Tp. Hồ Chí Minh | AN32: Huyện Bình Chánh | AO32: 19T40093 | AP32: Đang học | AQ32: 1 | AR32: 19T4-TKĐ1 | AS32: 16/05/2019 | AT32: 2019 | AU32: 2019 | AV32: Trung cấp | AW32: Chính quy 3 năm | AX32: Khoa Công nghệ Thông tin | AY32: Thiết kế đồ họa | AZ32: Thiết kế đồ họa | BA32: Trường Cao đẳng Lý Tự Trọng TPHCM
A33: 28 | B33: 19000028 | C33: Bùi Hoàng An | D33: Vỹ | E33: Nam | F33: 27/10/2001 | G33: Tp. Hồ Chí Minh | H33: Bùi Anh Vũ | I33: Nhân viên thuốc lá Sài gòn | J33: 0913116703 | K33: Trần Thị Hoàng Anh | L33: Bác sĩ | M33: 0903948929 | N33: 19T4-ĐCN1 | O33: Tp. Hồ Chí Minh | P33: Kinh | Q33: Không | R33: 263/10 Thạch Lam, P. Phú Thạch, Q. Tân Phú, TPHCM | S33: 263/10 Thạch Lam, P. Phú Thạch, Q. Tân Phú, TPHCM | T33: 0856493973 | U33: 0913116703 | V33: 0903948929 | X33: bon2710b@gmail.com | Y33: 079201008520 | Z33: 01/06/2016 | AA33: CA. TPHCM | AD33: Tp. Hồ Chí Minh | AF33: Quận Tân Phú | AJ33: KV3 | AM33: Tp. Hồ Chí Minh | AN33: Quận Tân Phú | AO33: 19T40072 | AP33: Đang học | AQ33: 1 | AR33: 19T4-ĐCN1 | AS33: 16/05/2019 | AT33: 2019 | AU33: 2019 | AV33: Trung cấp | AW33: Chính quy 3 năm | AX33: Khoa Điện - Điện tử | AY33: Điện công nghiệp | AZ33: Điện công nghiệp | BA33: Trường Cao đẳng Lý Tự Trọng TPHCM
A34: 29 | B34: 19000029 | C34: Mach | D34: Arafin | E34: Nam | F34: 15/02/2004 | G34: Tp. Hồ Chí Minh | H34: Mach Layh Manh | I34: Tài xé | J34: 0907890659 | K34: Nguyễn Thị Phượng | L34: Thợ may | M34: 0937187357 | N34: 19T4-CNÔ1 | O34: Tân Châu, Châu Phong, An Giang | P34: Chăm | Q34: Hồi Giáo | R34: 127/29 Cao Thắng P.17 Q.Phú Nhuận Tp.HCM | S34: 127/29 Cao Thắng P.17 Q.Phú Nhuận Tp.HCM | T34: 0937187357 | Y34: 083204000005 | Z34: 23/04/2018 | AA34: CA PHU NHUAN | AD34: An Giang | AF34: Huyện An Phú | AJ34: KV3 | AM34: Tp. Hồ Chí Minh | AN34: Quận Phú Nhuận | AO34: 19T40374 | AP34: Đang học | AQ34: 1 | AR34: 19T4-CNÔ1 | AS34: 16/05/2019 | AT34: 2019 | AU34: 2019 | AV34: Trung cấp | AW34: Chính quy 3 năm | AX34: Khoa Động lực | AY34: Công nghệ ô tô | AZ34: Công nghệ ô tô | BA34: Trường Cao đẳng Lý Tự Trọng TPHCM
A35: 30 | B35: 19000030 | C35: Lê Nguyễn Trung | D35: Hiếu | E35: Nam | F35: 03/12/2004 | G35: Tp. Hồ Chí Minh | H35: Lê Hữu Phước | K35: Nguyễn Thị Phượng | M35: 0902628189 | N35: 19T4-THU1 | O35: Tp. Hồ Chí Minh | P35: Kinh | Q35: Phật Giáo | R35: 105/10 Cao Thắng Phường 17, Q.Phú Nhuận TPHCM | S35: 105/10 Cao Thắng Phường 17, Q.Phú Nhuận TPHCM | T35: 0902628189 | U35: 0937002837 | Y35: 079204012484 | Z35: 29/01/2019 | AA35: CTCCSQLĐKDC | AD35: Tp. Hồ Chí Minh | AF35: Quận Phú Nhuận | AJ35: KV3 | AM35: Tp. Hồ Chí Minh | AN35: Quận Phú Nhuận | AO35: 19T40277 | AP35: Đang học | AQ35: 1 | AR35: 19T4-THU1 | AS35: 16/05/2019 | AT35: 2019 | AU35: 2019 | AV35: Trung cấp | AW35: Chính quy 3 năm | AX35: Khoa Công nghệ Thông tin | AY35: Tin học ứng dụng | AZ35: Tin học ứng dụng | BA35: Trường Cao đẳng Lý Tự Trọng TPHCM
A36: 31 | B36: 19000031 | C36: Huỳnh Thái | D36: Toàn | E36: Nam | F36: 07/09/2004 | G36: Tp. Hồ Chí Minh | H36: Huỳnh Thanh Sơn | I36: Tài xế | J36: 0933987220 | K36: Lê Thị Ngọc Tuyết | L36: Nội trợ | M36: 0909330098 | N36: 19T4-CNÔ1 | O36: Tp. Hồ Chí Minh | P36: Hoa | Q36: Không | R36: 216/3 Lạc Long Quân, Phường 10, Quận 11 TP.Hồ Chí Minh | S36: 66/19/34/7 Trần Văn Quang, Phường 10, Quận Tân Bình, Tp.HCM | T36: 0764309556 | U36: 0933987220 | V36: 0909330098 | X36: ABC@gmail.com | Y36: 19000031 | Z36: 26/06/2019 | AA36: LTT | AD36: Tp. Hồ Chí Minh | AF36: Quận 11 | AM36: Tp. Hồ Chí Minh | AN36: Quận 11 | AO36: 19T40194 | AP36: Đang học | AQ36: 1 | AR36: 19T4-CNÔ1 | AS36: 16/05/2019 | AT36: 2019 | AU36: 2019 | AV36: Trung cấp | AW36: Chính quy 3 năm | AX36: Khoa Động lực | AY36: Công nghệ ô tô | AZ36: Công nghệ ô tô | BA36: Trường Cao đẳng Lý Tự Trọng TPHCM
A37: 32 | B37: 19000032 | C37: Huỳnh Văn | D37: Đạt | E37: Nam | F37: 14/05/2004 | G37: Tp. Hồ Chí Minh | H37: Huỳnh Văn Lạc | I37: Buôn bán | J37: 0983382881 | K37: Huỳnh Thị Thủy | M37: 0335882063 | N37: 19T4-QTM1 | O37: Điện Bàn-Quảng Nam | P37: Kinh | Q37: Phật Giáo | R37: 66/12/9 Đường 45, Phường 14, Q.Gò Vấp TPHCM | S37: 66/12/9 Đường 45, Phường 14, Q.Gò Vấp TPHCM | T37: 0983382881 | U37: 0335882063 | Y37: 060204000110 | Z37: 15/05/2019 | AA37: TP.Hồ Chí Minh | AJ37: KV3 | AM37: Tp. Hồ Chí Minh | AN37: Quận Gò Vấp | AO37: 19T40232 | AP37: Đang học | AQ37: 1 | AR37: 19T4-QTM1 | AS37: 16/05/2019 | AT37: 2019 | AU37: 2019 | AV37: Trung cấp | AW37: Chính quy 3 năm | AX37: Khoa Công nghệ Thông tin | AY37: Quản trị mạng máy tính | AZ37: Quản trị mạng máy tính | BA37: Trường Cao đẳng Lý Tự Trọng TPHCM
A38: 33 | B38: 19000033 | C38: Nguyễn Quốc | D38: Phục | E38: Nam | F38: 20/09/1997 | G38: Gia Lai | H38: Nguyễn Quốc Việt | I38: Nông | K38: Phan Thị Thanh Lâm | L38: Nông | N38: 19C1-CNÔ1 | O38: Mỹ Hiệp, Phù Mỹ, Bình Đinh | P38: Kinh | Q38: Không | R38: Số 72 Quang Trung, Tổ dân phố 2, TT.Chư Sê, huyện Chư Sê, tỉnh Gia Lai | S38: Số 72 Quang Trung, Tổ dân phố 2, TT.Chư Sê, huyện Chư Sê, tỉnh Gia Lai | T38: 0375257585 | Y38: 231083906 | Z38: 17/06/2013 | AA38: CA. Gia Lai | AD38: Bình Định | AE38: Trường THPT Nguyễn Bỉnh Khiêm | AF38: Huyện Phù Mỹ | AJ38: KV3 | AM38: Gia Lai | AN38: Huyện Chư Sê | AO38: 19C10129 | AP38: Đang học | AQ38: 1 | AR38: 19C1-CNÔ1 | AS38: 16/05/2019 | AT38: 2019 | AU38: 2019 | AV38: Cao đẳng | AW38: Chính quy 2 năm | AX38: Khoa Động lực | AY38: Công nghệ ô tô | AZ38: Công nghệ ô tô | BA38: Trường Cao đẳng Lý Tự Trọng TPHCM
A39: 34 | B39: 19000034 | C39: Nguyễn Lê Minh | D39: Kha | E39: Nam | F39: 30/08/2004 | G39: Tp. Hồ Chí Minh | H39: Nguyễn Ngọc Nhung | I39: Nhân viên | J39: 0903883390 | K39: Lê Thanh Như Thảo | L39: Nhân viên | M39: 0902717043 | N39: 19T4-TĐH1 | O39: Tp. Hồ Chí Minh | P39: Kinh | Q39: Không | R39: C9/28 Đường Trịnh Như Khuê, Ấp 3, Xã Bình Chánh, Huyện Bình Chánh, Tp.HCM | S39: 66/19/34/7 Trần Văn Quang, Phường 10, Quận Tân Bình, Tp.HCM | T39: 0903883390 | U39: 0902717043 | X39: ABC@gmail.com | Y39: 19000034 | Z39: 26/06/2019 | AA39: LTT | AD39: Long An | AF39: Huyện Cần Giuộc | AJ39: KV2 | AM39: Tp. Hồ Chí Minh | AN39: Huyện Bình Chánh | AO39: 19T40389 | AP39: Đang học | AQ39: 1 | AR39: 19T4-TĐH1 | AS39: 17/05/2019 | AT39: 2019 | AU39: 2019 | AV39: Trung cấp | AW39: Chính quy 3 năm | AX39: Khoa Điện - Điện tử | AY39: Công nghệ kỹ thuật điều khiển tự động | AZ39: Công nghệ kỹ thuật điều khiển tự động | BA39: Trường Cao đẳng Lý Tự Trọng TPHCM
A40: 35 | B40: 19000035 | C40: Võ Thanh | D40: Hiếu | E40: Nam | F40: 28/06/2004 | G40: Tp. Hồ Chí Minh | N40: 19T4-ĐCN1 | O40: tphcm | P40: Kinh | Q40: Phật Giáo | R40: 21/35 TRẦN BÁ THƯỚC P7 PHÚ NHUẬN | S40: 21/35 TRẦN BÁ THƯỚC P7 PHÚ NHUẬN | T40: 0347740279 | Y40: 079204005924 | Z40: 07/09/2018 | AA40: C.a tphcm | AJ40: KV3 | AM40: Tp. Hồ Chí Minh | AN40: Quận Phú Nhuận | AO40: 19T40278 | AP40: Đang học | AQ40: 1 | AR40: 19T4-ĐCN1 | AS40: 17/05/2019 | AT40: 2019 | AU40: 2019 | AV40: Trung cấp | AW40: Chính quy 3 năm | AX40: Khoa Điện - Điện tử | AY40: Điện công nghiệp | AZ40: Điện công nghiệp | BA40: Trường Cao đẳng Lý Tự Trọng TPHCM
A41: 36 | B41: 19000036 | C41: Vũ Y | D41: Phụng | E41: Nữ | F41: 13/10/2003 | G41: Tp. Hồ Chí Minh | H41: Vũ Mạnh Chiến | I41: Tài xé | J41: 0984337079 | K41: Đặng Thị Ngoan | L41: Buôn bán | M41: 0904606811 | N41: 19T4-NNA1 | O41: Tp. Hồ Chí Minh | P41: Kinh | R41: 148 Nguyễn Thị Nhỏ, P.15, Q.11, TPHCM | S41: 148 Nguyễn Thị Nhỏ, P.15, Q.11, TPHCM | T41: 0904606811 | U41: 0984337079 | V41: 0904606811 | AJ41: KV3 | AM41: Tp. Hồ Chí Minh | AN41: Quận 11 | AO41: 19T40009 | AP41: Đang học | AQ41: 1 | AR41: 19T4-NNA1 | AS41: 17/05/2019 | AT41: 2019 | AU41: 2019 | AV41: Trung cấp | AW41: Chính quy 3 năm | AX41: Khoa Khoa học cơ bản | AY41: Tiếng Anh | AZ41: Tiếng Anh | BA41: Trường Cao đẳng Lý Tự Trọng TPHCM
A42: 37 | B42: 19000037 | C42: Ngô Khí | D42: Tài | E42: Nam | F42: 23/03/2000 | G42: Tp. Hồ Chí Minh | H42: Ngô Thanh Bình | I42: Tài Xé | J42: 0903764998 | K42: Bùi Thị Ngọc Minh | L42: Nội trợ | M42: 0908525940 | N42: 19C1-TKĐ1 | O42: Thừa Thiên Huế | P42: Kinh | Q42: Phật Giáo | R42: 108 L1, Đường Hồ Tùng Mậu, Phường Bến Nghé, Quận 1, Thành phố Hồ Chí Minh | S42: 182 Chiến Thắng, Phường 9, Quận Phú Nhuận | T42: 0704516860 | U42: 0903764998 | V42: 0908525940 | X42: ngkhitai@gmail.com | Y42: 025930280 | Z42: 23/07/2014 | AA42: TP. HCM | AB42: 14/04/2016 | AD42: Thừa Thiên -Huế | AE42: THPT Trưng Vương | AF42: Huyện A Lưới | AJ42: KV3 | AM42: Tp. Hồ Chí Minh | AN42: Quận 1 | AO42: 19C10062 | AP42: Đang học | AQ42: 1 | AR42: 19C1-TKĐ1 | AS42: 17/05/2019 | AT42: 2019 | AU42: 2019 | AV42: Cao đẳng | AW42: Chính quy 2 năm | AX42: Khoa Công nghệ Thông tin | AY42: Thiết kế đồ họa | AZ42: Thiết kế đồ họa | BA42: Trường Cao đẳng Lý Tự Trọng TPHCM
A43: 38 | B43: 19000038 | C43: Trần Ngọc | D43: Tú | E43: Nam | F43: 06/12/1996 | G43: Tp. Hồ Chí Minh | H43: Trần Đình Đức | I43: Hưu Trí | J43: 0398504845 | N43: 19C1-CCK1 | O43: Tp. Hồ Chí Minh | P43: Kinh | Q43: Không | R43: 4E , Khu phố 2, Phường Trung Mỹ Tây, Quận 12, TPHCM | S43: 4E , Khu phố 2, Phường Trung Mỹ Tây, Quận 12, TPHCM | T43: 0985991321 | U43: 0398504845 | Y43: 025596325 | Z43: 05/03/2012 | AA43: CA. TPHCM | AD43: Nghệ An | AE43: THPT Trường Chinh | AF43: Huyện Diễn Châu | AJ43: KV3 | AM43: Tp. Hồ Chí Minh | AN43: Quận 12 | AO43: 19C10157 | AP43: Đang học | AQ43: 1 | AR43: 19C1-CCK1 | AS43: 18/05/2019 | AT43: 2019 | AU43: 2019 | AV43: Cao đẳng | AW43: Chính quy 2 năm | AX43: Khoa Cơ khí | AY43: Công nghệ kỹ thuật cơ khí | AZ43: Công nghệ kỹ thuật cơ khí | BA43: Trường Cao đẳng Lý Tự Trọng TPHCM
A44: 39 | B44: 19000039 | C44: Mai Quốc | D44: An | E44: Nam | F44: 26/07/2003 | G44: Tp. Hồ Chí Minh | H44: Mai Văn Thắng | I44: Nhân Viên | J44: 0903815737 | K44: Phạm Thị Tuyết Nhung | L44: Nhân viên | M44: 0973515892 | N44: 19T4-ANM1 | O44: Tp. Hồ Chí Minh | P44: Kinh | Q44: Không | R44: 225 Chung Cư Thanh Niên Bàu cát 2 p.14 | S44: 027 chung cư thanh niên đường bàu cát 2 phường 14 Quận Tân Bình | T44: 0973515892 | U44: 0903815737 | V44: 0973515892 | X44: huyanquoc123@gmail.com | Y44: 079203004897 | Z44: 22/06/2018 | AA44: công an thành phố hồ chí minh | AB44: 05/05/2019 | AD44: Ninh Bình | AF44: Huyện Gia Viễn | AL44: Trung học cơ sở | AM44: Tp. Hồ Chí Minh | AN44: Quận Tân Phú | AO44: 19T40155 | AP44: Đang học | AQ44: 1 | AR44: 19T4-ANM1 | AS44: 18/05/2019 | AT44: 2019 | AU44: 2019 | AV44: Trung cấp | AW44: Chính quy 3 năm | AX44: Khoa Công nghệ Thông tin | AY44: An ninh mạng | AZ44: An ninh mạng | BA44: Trường Cao đẳng Lý Tự Trọng TPHCM
...

Sheet ĐKKCBBĐ K2019(UPDATE)
A2: DANH SÁCH ĐĂNG KÝ THAM GIA BHYT NĂM 2020
A4: STT | B4: MSSV | C4: HỌ VÀ TÊN | D4: MSBHXH(SV CUNG CẤP)CHỈ GHI NHỮNG MÃ THẺ ĐẦY ĐỦ | E4: MÃ BV | F4: NƠI ĐKKCBBĐ(VIẾT ĐÚNG TÊN BỆNH VIỆN CV:2312) | G4: MÃ BHXH( TRUY CẬP) | H4: MÃ BHXH( TRUY CẬP CHƯA ĐỒNG BỘ) | I4: THÔN ẤP(SỬA) | J4: XÃ -HK(SỬA) | K4: HUYỆN -HK(SỬA) | L4: TỈNH-HK(SỬA) | M4: Ghi chú(DÀNH CHO NHỮNG TRƯỜNG HỢP CẦN GHI CHÚ 0
A5: 1 | B5: 2 | C5: 3 | D5: 4 | E5: 5 | F5: 6 | G5: 7 | H5: 8 | I5: 9 | J5: 10 | K5: 11 | L5: 12 | M5: 13
A6: 01 | B6: 19000001 | C6: Phan Phú Hào | E6: 025 | F6: =VLOOKUP(E6,'MÃ BV'!$C$2:$D$137,2,0) -> BỆNH VIỆN THỐNG NHẤT
A7: 02 | B7: 19000002 | C7: Phùng Đức Dương | D7: GD4797936952403 | E7: 025 | F7: =VLOOKUP(E7,'MÃ BV'!$C$2:$D$137,2,0) -> BỆNH VIỆN THỐNG NHẤT | M7: Mua BHYT hộ gia đình
A8: 03 | B8: 19000003 | C8: Lê Trọng Tiến | D8: HS4797935160094 | F8: =VLOOKUP(E8,'MÃ BV'!$C$2:$D$137,2,0) -> #N/A
A9: 04 | B9: 19000004 | C9: Phạm Hữu Hoàng | E9: 031 | F9: =VLOOKUP(E9,'MÃ BV'!$C$2:$D$137,2,0) -> BỆNH VIỆN QUẬN BÌNH THẠNH | M9: Mua thêm từ 01/6/2019-31/12/2019
A10: 05 | B10: 19000005 | C10: Nguyễn Khắc Trung Kiên | E10: 025 | F10: =VLOOKUP(E10,'MÃ BV'!$C$2:$D$137,2,0) -> BỆNH VIỆN THỐNG NHẤT
A11: 06 | B11: 19000006 | C11: Trần Minh Quang | E11: 033 | F11: =VLOOKUP(E11,'MÃ BV'!$C$2:$D$137,2,0) -> BỆNH VIỆN QUẬN TÂN BÌNH
A12: 07 | B12: 19000007 | F12: =VLOOKUP(E12,'MÃ BV'!$C$2:$D$137,2,0) -> #N/A | G12: 8222267122
A13: 08 | B13: 19000008 | C13: Võ Trung Khang | D13: HS4797931705829 | E13: 054 | F13: =VLOOKUP(E13,'MÃ BV'!$C$2:$D$137,2,0) -> BỆNH VIỆN QUẬN TÂN PHÚ
A14: 09 | B14: 19000009 | C14: Nguyễn Lê Hoàng | F14: =VLOOKUP(E14,'MÃ BV'!$C$2:$D$137,2,0) -> #N/A | G14: 7934223996
A15: 10 | B15: 19000010 | C15: Trần Cao Long | E15: 055 | F15: =VLOOKUP(E15,'MÃ BV'!$C$2:$D$137,2,0) -> BỆNH VIỆN QUẬN BÌNH TÂN
A16: 11 | B16: 19000011 | C16: Huỳnh Nhựt Thành | D16: HS4797934005910 | E16: 013 | F16: =VLOOKUP(E16,'MÃ BV'!$C$2:$D$137,2,0) -> BỆNH VIỆN NGUYỄN TRI PHƯƠNG
A17: 12 | B17: 19000012 | C17: Nguyễn Hoàng Minh Quân | D17: GD4797933322737 | E17: 012 | F17: =VLOOKUP(E17,'MÃ BV'!$C$2:$D$137,2,0) -> BỆNH VIỆN AN BÌNH | M17: Mua thêm (01/08/2019 - 31/12/2019)
A18: 13 | B18: 19000013 | C18: Nguyễn Nhật Huy | D18: HS4797930311705 | E18: 470 | F18: =VLOOKUP(E18,'MÃ BV'!$C$2:$D$137,2,0) -> PHÒNG KHÁM ĐA KHOA CƠ SỞ 2 - BỆNH VIỆN QUẬN GÒ VẤP
A19: 14 | B19: 19000014 | C19: Vũ Trường Khanh | E19: 470 | F19: =VLOOKUP(E19,'MÃ BV'!$C$2:$D$137,2,0) -> PHÒNG KHÁM ĐA KHOA CƠ SỞ 2 - BỆNH VIỆN QUẬN GÒ VẤP | G19: 7931924170
A20: 15 | B20: 19000015 | C20: Vũ Ngọc Mai Khanh | E20: 470 | F20: =VLOOKUP(E20,'MÃ BV'!$C$2:$D$137,2,0) -> PHÒNG KHÁM ĐA KHOA CƠ SỞ 2 - BỆNH VIỆN QUẬN GÒ VẤP | G20: 7931883424
A21: 16 | B21: 19000016 | C21: Nguyễn Dương Thanh | D21: GD4808023599812 | F21: =VLOOKUP(E21,'MÃ BV'!$C$2:$D$137,2,0) -> #N/A | M21: có thẻ BHYT
A22: 17 | B22: 19000017 | C22: Đặng Hữu Giác | E22: 034 | F22: =VLOOKUP(E22,'MÃ BV'!$C$2:$D$137,2,0) -> BỆNH VIỆN 175 | G22: 9122136081 | M22: Chưa Có thẻ BHYT
A23: 18 | B23: 19000018 | C23: Đào Thanh Tùng | D23: HS4797931161714 | E23: 025 | F23: =VLOOKUP(E23,'MÃ BV'!$C$2:$D$137,2,0) -> BỆNH VIỆN THỐNG NHẤT | G23: 7931161714
A24: 19 | B24: 19000019 | F24: =VLOOKUP(E24,'MÃ BV'!$C$2:$D$137,2,0) -> #N/A | G24: 7930510278
A25: 20 | B25: 19000020 | C25: Phan Nguyễn Thanh Thiện | E25: 054 | F25: =VLOOKUP(E25,'MÃ BV'!$C$2:$D$137,2,0) -> BỆNH VIỆN QUẬN TÂN PHÚ | G25: 7222247032
A26: 21 | B26: 19000021 | F26: =VLOOKUP(E26,'MÃ BV'!$C$2:$D$137,2,0) -> #N/A | G26: 7937711664
A27: 22 | B27: 19000022 | F27: =VLOOKUP(E27,'MÃ BV'!$C$2:$D$137,2,0) -> #N/A | G27: 6021111837
A28: 23 | B28: 19000023 | C28: Nguyễn Cao Hưng | D28: HS4797934304799 | F28: =VLOOKUP(E28,'MÃ BV'!$C$2:$D$137,2,0) -> #N/A
A29: 24 | B29: 19000024 | F29: =VLOOKUP(E29,'MÃ BV'!$C$2:$D$137,2,0) -> #N/A | G29: 7932371881
A30: 25 | B30: 19000025 | C30: Nguyễn Minh Ánh | E30: 032 | F30: =VLOOKUP(E30,'MÃ BV'!$C$2:$D$137,2,0) -> BỆNH VIỆN QUẬN PHÚ NHUẬN | G30: 7930937730
A31: 26 | B31: 19000026 | F31: =VLOOKUP(E31,'MÃ BV'!$C$2:$D$137,2,0) -> #N/A | G31: 7936148178
A32: 27 | B32: 19000027 | C32: Lê Hoàng Quốc Anh | D32: HS4797931377033 | E32: 025 | F32: =VLOOKUP(E32,'MÃ BV'!$C$2:$D$137,2,0) -> BỆNH VIỆN THỐNG NHẤT
A33: 28 | B33: 19000028 | C33: Bùi Hoàng An Vỹ | E33: 054 | F33: =VLOOKUP(E33,'MÃ BV'!$C$2:$D$137,2,0) -> BỆNH VIỆN QUẬN TÂN PHÚ | G33: 7931511443
A34: 29 | B34: 19000029 | C34: Mach Arafin | E34: 032 | F34: =VLOOKUP(E34,'MÃ BV'!$C$2:$D$137,2,0) -> BỆNH VIỆN QUẬN PHÚ NHUẬN | G34: 7931931864
A35: 30 | B35: 19000030 | C35: Lê Nguyễn Trung Hiếu | E35: 032 | F35: =VLOOKUP(E35,'MÃ BV'!$C$2:$D$137,2,0) -> BỆNH VIỆN QUẬN PHÚ NHUẬN | G35: 7931859708
A36: 31 | B36: 19000031 | F36: =VLOOKUP(E36,'MÃ BV'!$C$2:$D$137,2,0) -> #N/A | G36: 7932795051
A37: 32 | B37: 19000032 | C37: Huỳnh Văn Đạt | D37: HS4797936735269 | E37: 034 | F37: =VLOOKUP(E37,'MÃ BV'!$C$2:$D$137,2,0) -> BỆNH VIỆN 175
A38: 33 | B38: 19000033 | C38: Nguyễn Quốc Phục | E38: 034 | F38: =VLOOKUP(E38,'MÃ BV'!$C$2:$D$137,2,0) -> BỆNH VIỆN 175 | M38: Mua thêm từ 01/6/2019-31/12/2019
A39: 34 | B39: 19000034 | C39: Nguyễn Lê Minh Kha | D39: HS4797935719015 | E39: 058 | F39: =VLOOKUP(E39,'MÃ BV'!$C$2:$D$137,2,0) -> BỆNH VIỆN ĐA KHOA TƯ NHÂN TRIỀU AN
A40: 35 | B40: 19000035 | C40: Võ Thanh Hiếu | D40: HS4797928535928 | E40: 030 | F40: =VLOOKUP(E40,'MÃ BV'!$C$2:$D$137,2,0) -> BỆNH VIỆN NHÂN DÂN GIA ĐỊNH
A41: 36 | B41: 19000036 | F41: =VLOOKUP(E41,'MÃ BV'!$C$2:$D$137,2,0) -> #N/A | G41: 7932703471
A42: 37 | B42: 19000037 | C42: Ngô Khí Tài | D42: SV4797938292389 | E42: 030 | F42: =VLOOKUP(E42,'MÃ BV'!$C$2:$D$137,2,0) -> BỆNH VIỆN NHÂN DÂN GIA ĐỊNH
...

Sheet MAUDANGKYBHXH (T7)
A1: Tên đơn vị: TRƯỜNG CAO ĐẲNG LÝ TỰ TRỌNG THÀNH PHỐ HỒ CHÍ MINH
A2: Mã đơn vị: BD0240Z
A3: Địa chỉ: 390 Hoàng Văn Thụ,Phường 4,Quận Tân Bình, Thành Phố Hồ Chí Minh
A4: DANH SÁCH NGƯỜI CHỈ THAM GIA BẢO HIỂM Y TẾ
A5: Số : 3 tháng 12 năm 2018
A6: DANH SÁCH ĐANG LÀM :UPDATE 29/6
B7: Đối tượng tham gia | F7: Lương cơ sở: ……………… đồng
A8: STT | B8: Mã số BHXH | C8: Họ và tên | E8: Giới tính | F8: Ngày tháng năm sinh | G8: Nơi đăng ký KCB ban đầu | H8: Biên lai, ngày tham gia | J8: Tiền lương, trợ cấp hoặc số tiền đóng | K8: Thời hạn sử dụng thẻ | R8: Địa chỉ | Y8: Số CMND | AA8: Mã PB | AC8: mã tỉnh KS | AD8: mã tỉnh KS | AE8: mã huyện KS | AF8: mã huyện KS | AG8: mã xã KS | AH8: mã xã KS | AI8: HKTT số nhà
B9: cột này để làm MPB | H9: Số | I9: Ngày | K9: Số tháng | L9: Từ ngày
A10: A | B10: 1 | C10: B | D10: B | E10: 3 | F10: 2 | G10: 4 | H10: 5 | I10: 6 | J10: 7 | K10: 9(MABHXH Truy cap) | L10: 10 | R10: 11 | Y10: 12 | AA10: 13 | AC10: 14 | AD10: 14 | AE10: 15 | AF10: 15 | AG10: 16 | AH10: 16
A11: STT | B11: cột này để làm MPB | C11: Họ | D11: Tên | E11: Giới tính(SAU NGÀY SINH) | F11: Ngày sinh(TRƯỚC GIỚI TÍNH) | G11: Nơi sinh(NHẬP NĐKKCBBĐ) | H11: Họ tên cha(XÓA KHI HOÀN THÀNH DS) | I11: Nghề nghiệp cha(XÓA ) | J11: Số điện thoại cha(XÓA) | K11: Họ tên mẹ(XÓA KHI HOÀN THÀNH DANH SÁCH ) | L11: Nghề nghiệp mẹ(XÓA) | M11: SĐT (DÙNG KHI CẦN) | N11: Lớp( GIỮ LẠI LÀM mpb) | O11: Nguyên quán | P11: Dân tộc | Q11: Tôn giáo | R11: ĐC thường trú | S11: ĐC liên lạc | T11: ĐC thường trú(ĐÃ SỬA) | U11: ĐC thường trú(THÔN,ẤP,SỐ NHÀ) | V11: ĐC thường trú(PHƯỜNG, XÃ) | W11: ĐC thường trú(QUẬN , HUYỆN) | X11: ĐC thường trú(TỈNH, THÀNH) | Y11: Số CMND | Z11: Ngày cấp | AA11: Nơi cấp | AB11: Ngày vào đoàn | AC11: Ngày vào đảng | AD11: HKTT tỉnh | AE11: Trường tốt nghiệp | AF11: HKTT huyện | AG11: HKTT phường xã | AH11: HKTT thôn xóm | AI11: HKTT số nhà | AJ11: Khu vực | AK11: Đối tượng | AL11: Đối tượng chính sách | AM11: Tỉnh | AN11: Huyện | AO11: Hồ sơ | AP11: Trạng thái | AQ11: Nhóm | AR11: Mã lớp | AS11: Ngày nhập học | AT11: Năm vào | AU11: Khóa học | AV11: Hệ đào tạo | AW11: Loại hình ĐT | AX11: Khoa | AY11: Ngành | AZ11: Nghề | BA11: Cơ sở(MÃ PHÂN BIỆT) | BB11: MÃ SV | BC11: MÃ THẺ BHYT(VLOOK) | BD11: MÃ BV (VL) | BE11: TÊN BV | BF11: MÃ THẺ BHYT(TRUY CẬP) | BH11: NƠI ĐKKCB BAN ĐẨU (VL) | BI11: MÃ TRUY CẬP(VL) | BJ11: MÃ THẺ BHYT(VLOOK) | BK11: MÃ BV (VL) | BL11: NƠI ĐKKCB BAN ĐẨU (VL) | BM11: MÃ TRUY CẬP(VL)
A12: 1 | B12: 19000001 | C12: Phan Phú | D12: Hào | E12: Nam | F12: 23/03/1997 | I12: =MID(G12,3,1) | J12: =MID(G12,4,2) | N12: 19C1-CNÔ1 | R12: 17/15a khu phố 6a p.tân thới nhất quận 12 tp. Hồ Chí Minh | S12: 17/15a khu phố 6a p.tân thới nhất quận 12 tp. Hồ Chí Minh | T12: 17/15A Khu Phố 6A ,P.Tân Thới Nhất, Quận 12, Tp. Hồ Chí Minh | U12: 17/15A Khu Phố 6A | V12: P.Tân Thới Nhất | W12: Quận 12 | X12: Thành phố Hồ Chí Minh | AB12: 20/03/2014 | AC12: 79 | AD12: Thành phố Hồ Chí Minh | AE12: 761 | AF12: Quận 12 | AG12: 26791 | AH12: Phường Tân Thới Nhất | AK12: Đối tượng 03 | AM12: Tp. Hồ Chí Minh | AN12: Quận 12 | AO12: 19C10211 | AP12: Đang học | AQ12: 1 | AR12: 19C1-CNÔ1 | AS12: 10/05/2019 | AT12: 2019 | AU12: 2019 | AV12: Cao đẳng | AW12: Chính quy 2 năm | AX12: Khoa Động lực | AY12: Công nghệ ô tô | AZ12: Công nghệ ô tô | BA12: =BB12&";"&AR12 -> 19000001;19C1-CNÔ1 | BB12: 19000001 | BC12: =VLOOKUP(B12,'ĐKKCBBĐ K2019(UPDATE)'!$B$6:$F$2005,3,0) -> 0 | BD12: =VLOOKUP(B12,'ĐKKCBBĐ K2019(UPDATE)'!$B$6:$F$2005,4,0) -> 025 | BF12: =VLOOKUP(BB12,'ĐKKCBBĐ K2019(UPDATE)'!$B$6:$G$2005,4,0) -> 025 | BG12: =VLOOKUP(BB12,'ĐKKCBBĐ K2019(UPDATE)'!$B$6:$G$2005,6,0) | BH12: =VLOOKUP(BB12,'ĐKKCBBĐ K2019(UPDATE)'!$B$6:$F$2267,5,0) -> BỆNH VIỆN THỐNG NHẤT | BI12: =VLOOKUP(BB12,'ĐKKCBBĐ K2019(UPDATE)'!B6:G2005,6,0) | BJ12: 0 | BK12: 025 | BL12: BỆNH VIỆN THỒNG NHẤT
A13: 2 | B13: 19000002 | C13: Phùng Đức | D13: Dương | E13: Nam | F13: 17/10/2001 | G13: GD4797936952403 | H13: =LEFT(G13,2) -> GD | I13: =MID(G13,3,1) -> 4 | J13: =MID(G13,4,2) -> 79 | K13: 0 | L13: GD4797936952403 | N13: 19T4-KML1 | R13: Nghĩa Hương, Xã Mỹ Hương, Huyện Lương Tài, Tỉnh Bắc Ninh | S13: 5/25H tổ 14 ấp 2 xã Xuân Thới Thượng huyện Hóc Môn tp Hồ Chí Minh | T13: Nghĩa Hương, Xã Mỹ Hương, Huyện Lương Tài, Tỉnh Bắc Ninh | U13: Nghĩa Hương | V13: Xã Mỹ Hương | W13: Huyện Lương Tài | X13: Tỉnh Bắc Ninh | AM13: Bắc Ninh | AN13: Huyện Lương Tài | AO13: 19T40054 | AP13: Đang học | AQ13: 1 | AR13: 19T4-KML1 | AS13: 10/05/2019 | AT13: 2019 | AU13: 2019 | AV13: Trung cấp | AW13: Chính quy 3 năm | AX13: Khoa Nhiệt – Lạnh | AY13: Kỹ thuật máy lạnh và điều hòa không khí | AZ13: Kỹ thuật máy lạnh và điều hòa không khí | BA13: =BB13&";"&AR13 -> 19000002;19T4-KML1 | BB13: 19000002 | BC13: =VLOOKUP(B13,'ĐKKCBBĐ K2019(UPDATE)'!$B$6:$F$2005,3,0) -> GD4797936952403 | BD13: =VLOOKUP(B13,'ĐKKCBBĐ K2019(UPDATE)'!$B$6:$F$2005,4,0) -> 025 | BG13: =VLOOKUP(BB13,'ĐKKCBBĐ K2019(UPDATE)'!$B$6:$G$2005,6,0) -> 0 | BH13: =VLOOKUP(BB13,'ĐKKCBBĐ K2019(UPDATE)'!$B$6:$F$2267,5,0) -> BỆNH VIỆN THỐNG NHẤT | BI13: =VLOOKUP(BB13,'ĐKKCBBĐ K2019(UPDATE)'!B7:G2006,6,0) -> 0 | BJ13: GD4797936952403 | BK13: 025 | BL13: BỆNH VIỆN THỒNG NHẤT | BM13: 0
A14: 3 | B14: 19000003 | C14: Lê Trọng | D14: Tiến | E14: Nam | F14: 15/03/2002 | G14: HS4797935160094 | H14: =LEFT(G14,2) -> HS | I14: =MID(G14,3,1) -> 4 | J14: =MID(G14,4,2) -> 79 | K14: 0 | L14: HS4797935160094 | N14: 19T4-CNÔ1 | R14: 24 Nguyễn Văn Tỷ, Khu phố 2, thị trấn Củ Chi, huyện Củ Chi, TPHCM | S14: 24 Nguyễn Văn Tỷ, Khu phố 2, thị trấn Củ Chi, huyện Củ Chi, TPHCM | T14: 24 Nguyễn Văn Tỷ Khu Phố 2, Thị Trấn Củ Chi, Huyện Củ Chi, Tphcm | U14: 24 Nguyễn Văn Tỷ Khu Phố 2 | V14: Thị Trấn Củ Chi | W14: Huyện Củ Chi | X14: Thành phố Hồ Chí Minh | AC14: 79 | AD14: Thành phố Hồ Chí Minh | AE14: 783 | AF14: Huyện Củ Chi | AG14: 27496 | AH14: Thị trấn Củ Chi | AM14: Tp. Hồ Chí Minh | AN14: Huyện Củ Chi | AO14: 19T40059 | AP14: Đang học | AQ14: 1 | AR14: 19T4-CNÔ1 | AS14: 10/05/2019 | AT14: 2019 | AU14: 2019 | AV14: Trung cấp | AW14: Chính quy 3 năm | AX14: Khoa Động lực | AY14: Công nghệ ô tô | AZ14: Công nghệ ô tô | BA14: =BB14&";"&AR14 -> 19000003;19T4-CNÔ1 | BB14: 19000003 | BC14: =VLOOKUP(B14,'ĐKKCBBĐ K2019(UPDATE)'!$B$6:$F$2005,3,0) -> HS4797935160094 | BD14: =VLOOKUP(B14,'ĐKKCBBĐ K2019(UPDATE)'!$B$6:$F$2005,4,0) -> 0 | BG14: =VLOOKUP(BB14,'ĐKKCBBĐ K2019(UPDATE)'!$B$6:$G$2005,6,0) -> 0 | BH14: =VLOOKUP(BB14,'ĐKKCBBĐ K2019(UPDATE)'!$B$6:$F$2267,5,0) -> #N/A | BI14: =VLOOKUP(BB14,'ĐKKCBBĐ K2019(UPDATE)'!B8:G2007,6,0) -> 0 | BJ14: HS4797935160094 | BK14: 0 | BL14: 0 | BM14: 0
A15: 4 | B15: 19000004 | C15: Phạm Hữu | D15: Hoàng | E15: Nam | F15: 02/02/1993 | I15: =MID(G15,3,1) | J15: =MID(G15,4,2) | N15: 19C1-LGT1 | R15: Ấp 3 xã Phú Lộc, huyện Tân Phú, tỉnh Đồng Nai | S15: 122/54 Bùi Đình Túy, P12, Quận Bình Thạnh, Tp. HCM | T15: Ấp 3 ,Xã Phú Lộc, Huyện Tân Phú, Tỉnh Đồng Nai | U15: Ấp 3 | V15: Xã Phú Lộc | W15: Huyện Tân Phú | X15: Tỉnh Đồng Nai | AB15: 13/12/2009 | AC15: 75 | AD15: Tỉnh Đồng Nai | AM15: Đồng Nai | AN15: Huyện Tân Phú | AO15: 19C10008 | AP15: Đang học | AQ15: 1 | AR15: 19C1-LGT1 | AS15: 10/05/2019 | AT15: 2019 | AU15: 2019 | AV15: Cao đẳng | AW15: Chính quy 2 năm | AX15: Khoa Kinh tế | AY15: Logistics | AZ15: Logistics | BA15: =BB15&";"&AR15 -> 19000004;19C1-LGT1 | BB15: 19000004 | BC15: =VLOOKUP(B15,'ĐKKCBBĐ K2019(UPDATE)'!$B$6:$F$2005,3,0) -> 0 | BD15: =VLOOKUP(B15,'ĐKKCBBĐ K2019(UPDATE)'!$B$6:$F$2005,4,0) -> 031 | BG15: =VLOOKUP(BB15,'ĐKKCBBĐ K2019(UPDATE)'!$B$6:$G$2005,6,0) | BH15: =VLOOKUP(BB15,'ĐKKCBBĐ K2019(UPDATE)'!$B$6:$F$2267,5,0) -> BỆNH VIỆN QUẬN BÌNH THẠNH | BI15: =VLOOKUP(BB15,'ĐKKCBBĐ K2019(UPDATE)'!B9:G2008,6,0) | BJ15: 0 | BK15: 031 | BL15: BỆNH VIỆN QUẬN BÌNH THẠNH
A16: 5 | B16: 19000005 | C16: Nguyễn Khắc Trung | D16: Kiên | E16: Nam | F16: 10/12/1997 | I16: =MID(G16,3,1) | J16: =MID(G16,4,2) | N16: 19C1-ĐCN1 | R16: Xã Vũ Công, Huyện Kiến Xương, Tỉnh Thái Bình | S16: 257/38/9 đường bình thành, phường bình hưng hoà B, Quận Bình Tân | T16: ,Xã Vũ Công, Huyện Kiến Xương, Tỉnh Thái Bình | V16: Xã Vũ Công | W16: Huyện Kiến Xương | X16: Tỉnh Thái Bình | AB16: 26/03/2016 | AM16: Thái Bình | AN16: Huyện Kiến Xương | AO16: 19C10116 | AP16: Đang học | AQ16: 1 | AR16: 19C1-ĐCN1 | AS16: 10/05/2019 | AT16: 2019 | AU16: 2019 | AV16: Cao đẳng | AW16: Chính quy 2 năm | AX16: Khoa Điện - Điện tử | AY16: Điện công nghiệp | AZ16: Điện công nghiệp | BA16: =BB16&";"&AR16 -> 19000005;19C1-ĐCN1 | BB16: 19000005 | BC16: =VLOOKUP(B16,'ĐKKCBBĐ K2019(UPDATE)'!$B$6:$F$2005,3,0) -> 0 | BD16: =VLOOKUP(B16,'ĐKKCBBĐ K2019(UPDATE)'!$B$6:$F$2005,4,0) -> 025 | BG16: =VLOOKUP(BB16,'ĐKKCBBĐ K2019(UPDATE)'!$B$6:$G$2005,6,0) | BH16: =VLOOKUP(BB16,'ĐKKCBBĐ K2019(UPDATE)'!$B$6:$F$2267,5,0) -> BỆNH VIỆN THỐNG NHẤT | BI16: =VLOOKUP(BB16,'ĐKKCBBĐ K2019(UPDATE)'!B10:G2009,6,0) | BJ16: 0 | BK16: 025 | BL16: BỆNH VIỆN THỒNG NHẤT
