Workbook
Name _1_: '[1]#REF'!#REF!
Name _1_: '[1]#REF'!#REF!
Name _1_: '[1]#REF'!#REF!
Name _10DATA_DATA2_L: '[2]#REF'!#REF!
Name _10DATA_DATA2_L: '[2]#REF'!#REF!
Name _10DATA_DATA2_L: '[2]#REF'!#REF!
Name _11MAÕ_HAØNG: #REF!
Name _11MAÕ_HAØNG: #REF!
Name _11MAÕ_HAØNG: #REF!
Name _12MAÕ_SOÁ_THUEÁ: #REF!
Name _12MAÕ_SOÁ_THUEÁ: #REF!
Name _12MAÕ_SOÁ_THUEÁ: #REF!
Name _13ÑÔN_GIAÙ: #REF!
Name _13ÑÔN_GIAÙ: #REF!
Name _14SOÁ_CTÖØ: #REF!
Name _14SOÁ_CTÖØ: #REF!
Name _15SOÁ_LÖÔÏNG: #REF!
Name _15SOÁ_LÖÔÏNG: #REF!
Name _16TEÂN_HAØNG: #REF!
Name _16TEÂN_HAØNG: #REF!
Name _17TEÂN_KHAÙCH_HAØ: #REF!
Name _17TEÂN_KHAÙCH_HAØ: #REF!
Name _18THAØNH_TIEÀN: #REF!
Name _18THAØNH_TIEÀN: #REF!
Name _19TRÒ_GIAÙ: #REF!
Name _19TRÒ_GIAÙ: #REF!
Name _2_??: BlankMacro1
Name _2_??: BlankMacro1
Name _2_??: BlankMacro1
Name _20TRÒ_GIAÙ__VAT: #REF!
Name _20TRÒ_GIAÙ__VAT: #REF!
Name _20TRÒ_GIAÙ__VAT: #REF!
Name _3_??????1: BlankMacro1
Name _3_??????1: BlankMacro1
Name _3_??????1: BlankMacro1
Name _4_??????2: BlankMacro1
Name _4_??????2: BlankMacro1
Name _4_??????2: BlankMacro1
Name _5_??????3: BlankMacro1
Name _5_??????3: BlankMacro1
Name _5_??????3: BlankMacro1
Name _6_??????4: BlankMacro1
Name _6_??????4: BlankMacro1
Name _6_??????4: BlankMacro1
Name _7_??????5: BlankMacro1
Name _7_??????5: BlankMacro1
Name _7_??????5: BlankMacro1
Name _8_??????6: BlankMacro1
Name _8_??????6: BlankMacro1
Name _8_??????6: BlankMacro1
Name _9_0DATA_DATA2_L: '[2]#REF'!#REF!
Name _9_0DATA_DATA2_L: '[2]#REF'!#REF!
Name _9_0DATA_DATA2_L: '[2]#REF'!#REF!
Name _CT250: '[3]dongia (2)'!#REF!
Name _CT250: '[3]dongia (2)'!#REF!
Name _SD11: {"Thuxm2.xls","Sheet1"}
Name _SD11: {"Thuxm2.xls","Sheet1"}
Name _SD11: {"Thuxm2.xls","Sheet1"}
Name _XL3: BlankMacro1
Name _XL3: BlankMacro1

Sheet CHI TIET (2)
A2: STT | B2: Mã tỉnh | C2: Tên tỉnh | D2: Mã tỉnh | E2: Mã quận | F2: Tên quận | G2: Mã quận | H2: Mã xã | I2: Tên xã | J2: Mã xã | K2: Mã tỉnh | L2: Mã quận | M2: Mã xã
A3: 1 | B3: 79 | C3: Thành phố Hồ Chí Minh | D3: 79 | E3: 760 | F3: Quận 1 | G3: 760 | H3: 26734 | I3: Phường Tân Định | J3: 26734 | K3: 79 | L3: 760 | M3: 26734 | N3: =K3&" "&L3&" "&M3 -> 79 760 26734
B4: 79 | C4: Thành phố Hồ Chí Minh | D4: 79 | E4: 760 | F4: Quận 1 | G4: 760 | H4: 26737 | I4: Phường Đa Kao | J4: 26737 | K4: 79 | L4: 760 | M4: 26737 | N4: =K4&" "&L4&" "&M4 -> 79 760 26737
B5: 79 | C5: Thành phố Hồ Chí Minh | D5: 79 | E5: 760 | F5: Quận 1 | G5: 760 | H5: 26740 | I5: Phường Bến Nghé | J5: 26740 | K5: 79 | L5: 760 | M5: 26740 | N5: =K5&" "&L5&" "&M5 -> 79 760 26740
B6: 79 | C6: Thành phố Hồ Chí Minh | D6: 79 | E6: 760 | F6: Quận 1 | G6: 760 | H6: 26743 | I6: Phường Bến Thành | J6: 26743 | K6: 79 | L6: 760 | M6: 26743 | N6: =K6&" "&L6&" "&M6 -> 79 760 26743
B7: 79 | C7: Thành phố Hồ Chí Minh | D7: 79 | E7: 760 | F7: Quận 1 | G7: 760 | H7: 26746 | I7: Phường Nguyễn Thái Bình | J7: 26746 | K7: 79 | L7: 760 | M7: 26746 | N7: =K7&" "&L7&" "&M7 -> 79 760 26746
B8: 79 | C8: Thành phố Hồ Chí Minh | D8: 79 | E8: 760 | F8: Quận 1 | G8: 760 | H8: 26749 | I8: Phường Phạm Ngũ Lão | J8: 26749 | K8: 79 | L8: 760 | M8: 26749 | N8: =K8&" "&L8&" "&M8 -> 79 760 26749
B9: 79 | C9: Thành phố Hồ Chí Minh | D9: 79 | E9: 760 | F9: Quận 1 | G9: 760 | H9: 26752 | I9: Phường Cầu Ông Lãnh | J9: 26752 | K9: 79 | L9: 760 | M9: 26752 | N9: =K9&" "&L9&" "&M9 -> 79 760 26752
B10: 79 | C10: Thành phố Hồ Chí Minh | D10: 79 | E10: 760 | F10: Quận 1 | G10: 760 | H10: 26755 | I10: Phường Cô Giang | J10: 26755 | K10: 79 | L10: 760 | M10: 26755 | N10: =K10&" "&L10&" "&M10 -> 79 760 26755
B11: 79 | C11: Thành phố Hồ Chí Minh | D11: 79 | E11: 760 | F11: Quận 1 | G11: 760 | H11: 26758 | I11: Phường Nguyễn Cư Trinh | J11: 26758 | K11: 79 | L11: 760 | M11: 26758 | N11: =K11&" "&L11&" "&M11 -> 79 760 26758
B12: 79 | C12: Thành phố Hồ Chí Minh | D12: 79 | E12: 760 | F12: Quận 1 | G12: 760 | H12: 26761 | I12: Phường Cầu Kho | J12: 26761 | K12: 79 | L12: 760 | M12: 26761 | N12: =K12&" "&L12&" "&M12 -> 79 760 26761
B13: 79 | C13: Thành phố Hồ Chí Minh | D13: 79 | E13: 769 | F13: Quận 2 | G13: 769 | H13: 27088 | I13: Phường Thảo Điền | J13: 27088 | K13: 79 | L13: 769 | M13: 27088 | N13: =K13&" "&L13&" "&M13 -> 79 769 27088
B14: 79 | C14: Thành phố Hồ Chí Minh | D14: 79 | E14: 769 | F14: Quận 2 | G14: 769 | H14: 27091 | I14: Phường An Phú | J14: 27091 | K14: 79 | L14: 769 | M14: 27091 | N14: =K14&" "&L14&" "&M14 -> 79 769 27091
B15: 79 | C15: Thành phố Hồ Chí Minh | D15: 79 | E15: 769 | F15: Quận 2 | G15: 769 | H15: 27094 | I15: Phường Bình An | J15: 27094 | K15: 79 | L15: 769 | M15: 27094 | N15: =K15&" "&L15&" "&M15 -> 79 769 27094
... B324: 79 | C324: Thành phố Hồ Chí Minh | D324: 79 | E324: 777 | F324: Quận Bình Tân | G324: 777 | H324: 27463 | I324: Phường An Lạc A | J324: 27463 | K324: 79 | L324: 777 | M324: 27463 | N324: =K324&" "&L324&" "&M324 -> 79 777 27463
A325: 2 | B325: 74 | C325: Tỉnh Bình Dương | D325: 74 | E325: 718 | F325: Thành phố Thủ Dầu Một | G325: 718 | H325: 25741 | I325: Phường Hiệp Thành | J325: 25741 | K325: 74 | L325: 718 | M325: 25741 | N325: =K325&" "&L325&" "&M325 -> 74 718 25741
B326: 74 | C326: Tỉnh Bình Dương | D326: 74 | E326: 718 | F326: Thành phố Thủ Dầu Một | G326: 718 | H326: 25744 | I326: Phường Phú Lợi | J326: 25744 | K326: 74 | L326: 718 | M326: 25744 | N326: =K326&" "&L326&" "&M326 -> 74 718 25744
B327: 74 | C327: Tỉnh Bình Dương | D327: 74 | E327: 718 | F327: Thành phố Thủ Dầu Một | G327: 718 | H327: 25747 | I327: Phường Phú Cường | J327: 25747 | K327: 74 | L327: 718 | M327: 25747 | N327: =K327&" "&L327&" "&M327 -> 74 718 25747
B328: 74 | C328: Tỉnh Bình Dương | D328: 74 | E328: 718 | F328: Thành phố Thủ Dầu Một | G328: 718 | H328: 25750 | I328: Phường Phú Hòa | J328: 25750 | K328: 74 | L328: 718 | M328: 25750 | N328: =K328&" "&L328&" "&M328 -> 74 718 25750
B329: 74 | C329: Tỉnh Bình Dương | D329: 74 | E329: 718 | F329: Thành phố Thủ Dầu Một | G329: 718 | H329: 25753 | I329: Phường Phú Thọ | J329: 25753 | K329: 74 | L329: 718 | M329: 25753 | N329: =K329&" "&L329&" "&M329 -> 74 718 25753
B330: 74 | C330: Tỉnh Bình Dương | D330: 74 | E330: 718 | F330: Thành phố Thủ Dầu Một | G330: 718 | H330: 25756 | I330: Phường Chánh Nghĩa | J330: 25756 | K330: 74 | L330: 718 | M330: 25756 | N330: =K330&" "&L330&" "&M330 -> 74 718 25756
B331: 74 | C331: Tỉnh Bình Dương | D331: 74 | E331: 718 | F331: Thành phố Thủ Dầu Một | G331: 718 | H331: 25759 | I331: Phường Định Hòa | J331: 25759 | K331: 74 | L331: 718 | M331: 25759 | N331: =K331&" "&L331&" "&M331 -> 74 718 25759
B332: 74 | C332: Tỉnh Bình Dương | D332: 74 | E332: 718 | F332: Thành phố Thủ Dầu Một | G332: 718 | H332: 25760 | I332: Phường Hòa Phú | J332: 25760 | K332: 74 | L332: 718 | M332: 25760 | N332: =K332&" "&L332&" "&M332 -> 74 718 25760
B333: 74 | C333: Tỉnh Bình Dương | D333: 74 | E333: 718 | F333: Thành phố Thủ Dầu Một | G333: 718 | H333: 25762 | I333: Phường Phú Mỹ | J333: 25762 | K333: 74 | L333: 718 | M333: 25762 | N333: =K333&" "&L333&" "&M333 -> 74 718 25762
B334: 74 | C334: Tỉnh Bình Dương | D334: 74 | E334: 718 | F334: Thành phố Thủ Dầu Một | G334: 718 | H334: 25763 | I334: Phường Phú Tân | J334: 25763 | K334: 74 | L334: 718 | M334: 25763 | N334: =K334&" "&L334&" "&M334 -> 74 718 25763
B335: 74 | C335: Tỉnh Bình Dương | D335: 74 | E335: 718 | F335: Thành phố Thủ Dầu Một | G335: 718 | H335: 25765 | I335: Phường Tân An | J335: 25765 | K335: 74 | L335: 718 | M335: 25765 | N335: =K335&" "&L335&" "&M335 -> 74 718 25765
B336: 74 | C336: Tỉnh Bình Dương | D336: 74 | E336: 718 | F336: Thành phố Thủ Dầu Một | G336: 718 | H336: 25768 | I336: Phường Hiệp An | J336: 25768 | K336: 74 | L336: 718 | M336: 25768 | N336: =K336&" "&L336&" "&M336 -> 74 718 25768
B337: 74 | C337: Tỉnh Bình Dương | D337: 74 | E337: 718 | F337: Thành phố Thủ Dầu Một | G337: 718 | H337: 25771 | I337: Phường Tương Bình Hiệp | J337: 25771 | K337: 74 | L337: 718 | M337: 25771 | N337: =K337&" "&L337&" "&M337 -> 74 718 25771
... B415: 74 | C415: Tỉnh Bình Dương | D415: 74 | E415: 726 | F415: Huyện Bắc Tân Uyên | G415: 726 | H415: 25927 | I415: Xã Thường Tân | J415: 25927 | K415: 74 | L415: 726 | M415: 25927 | N415: =K415&" "&L415&" "&M415 -> 74 726 25927
A416: 3 | B416: 80 | C416: Tỉnh Long An | D416: 80 | E416: 794 | F416: Thành phố Tân An | G416: 794 | H416: 27685 | I416: Phường 5 | J416: 27685 | K416: 80 | L416: 794 | M416: 27685 | N416: =K416&" "&L416&" "&M416 -> 80 794 27685
B417: 80 | C417: Tỉnh Long An | D417: 80 | E417: 794 | F417: Thành phố Tân An | G417: 794 | H417: 27688 | I417: Phường 2 | J417: 27688 | K417: 80 | L417: 794 | M417: 27688 | N417: =K417&" "&L417&" "&M417 -> 80 794 27688
B418: 80 | C418: Tỉnh Long An | D418: 80 | E418: 794 | F418: Thành phố Tân An | G418: 794 | H418: 27691 | I418: Phường 4 | J418: 27691 | K418: 80 | L418: 794 | M418: 27691 | N418: =K418&" "&L418&" "&M418 -> 80 794 27691
B419: 80 | C419: Tỉnh Long An | D419: 80 | E419: 794 | F419: Thành phố Tân An | G419: 794 | H419: 27692 | I419: Phường Tân Khánh | J419: 27692 | K419: 80 | L419: 794 | M419: 27692 | N419: =K419&" "&L419&" "&M419 -> 80 794 27692
B420: 80 | C420: Tỉnh Long An | D420: 80 | E420: 794 | F420: Thành phố Tân An | G420: 794 | H420: 27694 | I420: Phường 1 | J420: 27694 | K420: 80 | L420: 794 | M420: 27694 | N420: =K420&" "&L420&" "&M420 -> 80 794 27694
B421: 80 | C421: Tỉnh Long An | D421: 80 | E421: 794 | F421: Thành phố Tân An | G421: 794 | H421: 27697 | I421: Phường 3 | J421: 27697 | K421: 80 | L421: 794 | M421: 27697 | N421: =K421&" "&L421&" "&M421 -> 80 794 27697
B422: 80 | C422: Tỉnh Long An | D422: 80 | E422: 794 | F422: Thành phố Tân An | G422: 794 | H422: 27698 | I422: Phường 7 | J422: 27698 | K422: 80 | L422: 794 | M422: 27698 | N422: =K422&" "&L422&" "&M422 -> 80 794 27698
B423: 80 | C423: Tỉnh Long An | D423: 80 | E423: 794 | F423: Thành phố Tân An | G423: 794 | H423: 27700 | I423: Phường 6 | J423: 27700 | K423: 80 | L423: 794 | M423: 27700 | N423: =K423&" "&L423&" "&M423 -> 80 794 27700
B424: 80 | C424: Tỉnh Long An | D424: 80 | E424: 794 | F424: Thành phố Tân An | G424: 794 | H424: 27703 | I424: Xã Hướng Thọ Phú | J424: 27703 | K424: 80 | L424: 794 | M424: 27703 | N424: =K424&" "&L424&" "&M424 -> 80 794 27703
B425: 80 | C425: Tỉnh Long An | D425: 80 | E425: 794 | F425: Thành phố Tân An | G425: 794 | H425: 27706 | I425: Xã Nhơn Thạnh Trung | J425: 27706 | K425: 80 | L425: 794 | M425: 27706 | N425: =K425&" "&L425&" "&M425 -> 80 794 27706
B426: 80 | C426: Tỉnh Long An | D426: 80 | E426: 794 | F426: Thành phố Tân An | G426: 794 | H426: 27709 | I426: Xã Lợi Bình Nhơn | J426: 27709 | K426: 80 | L426: 794 | M426: 27709 | N426: =K426&" "&L426&" "&M426 -> 80 794 27709
B427: 80 | C427: Tỉnh Long An | D427: 80 | E427: 794 | F427: Thành phố Tân An | G427: 794 | H427: 27712 | I427: Xã Bình Tâm | J427: 27712 | K427: 80 | L427: 794 | M427: 27712 | N427: =K427&" "&L427&" "&M427 -> 80 794 27712
B428: 80 | C428: Tỉnh Long An | D428: 80 | E428: 794 | F428: Thành phố Tân An | G428: 794 | H428: 27715 | I428: Phường Khánh Hậu | J428: 27715 | K428: 80 | L428: 794 | M428: 27715 | N428: =K428&" "&L428&" "&M428 -> 80 794 27715
... B607: 80 | C607: Tỉnh Long An | D607: 80 | E607: 808 | F607: Huyện Châu Thành | G607: 808 | H607: 28246 | I607: Xã Thanh Vĩnh Đông | J607: 28246 | K607: 80 | L607: 808 | M607: 28246 | N607: =K607&" "&L607&" "&M607 -> 80 808 28246
A608: 4 | B608: 75 | C608: Tỉnh Đồng Nai | D608: 75 | E608: 731 | F608: Thành phố Biên Hòa | G608: 731 | H608: 25993 | I608: Phường Trảng Dài | J608: 25993 | K608: 75 | L608: 731 | M608: 25993 | N608: =K608&" "&L608&" "&M608 -> 75 731 25993
B609: 75 | C609: Tỉnh Đồng Nai | D609: 75 | E609: 731 | F609: Thành phố Biên Hòa | G609: 731 | H609: 25996 | I609: Phường Tân Phong | J609: 25996 | K609: 75 | L609: 731 | M609: 25996 | N609: =K609&" "&L609&" "&M609 -> 75 731 25996
B610: 75 | C610: Tỉnh Đồng Nai | D610: 75 | E610: 731 | F610: Thành phố Biên Hòa | G610: 731 | H610: 25999 | I610: Phường Tân Biên | J610: 25999 | K610: 75 | L610: 731 | M610: 25999 | N610: =K610&" "&L610&" "&M610 -> 75 731 25999
B611: 75 | C611: Tỉnh Đồng Nai | D611: 75 | E611: 731 | F611: Thành phố Biên Hòa | G611: 731 | H611: 26002 | I611: Phường Hố Nai | J611: 26002 | K611: 75 | L611: 731 | M611: 26002 | N611: =K611&" "&L611&" "&M611 -> 75 731 26002
B612: 75 | C612: Tỉnh Đồng Nai | D612: 75 | E612: 731 | F612: Thành phố Biên Hòa | G612: 731 | H612: 26005 | I612: Phường Tân Hòa | J612: 26005 | K612: 75 | L612: 731 | M612: 26005 | N612: =K612&" "&L612&" "&M612 -> 75 731 26005
B613: 75 | C613: Tỉnh Đồng Nai | D613: 75 | E613: 731 | F613: Thành phố Biên Hòa | G613: 731 | H613: 26008 | I613: Phường Tân Hiệp | J613: 26008 | K613: 75 | L613: 731 | M613: 26008 | N613: =K613&" "&L613&" "&M613 -> 75 731 26008
B614: 75 | C614: Tỉnh Đồng Nai | D614: 75 | E614: 731 | F614: Thành phố Biên Hòa | G614: 731 | H614: 26011 | I614: Phường Bửu Long | J614: 26011 | K614: 75 | L614: 731 | M614: 26011 | N614: =K614&" "&L614&" "&M614 -> 75 731 26011
B615: 75 | C615: Tỉnh Đồng Nai | D615: 75 | E615: 731 | F615: Thành phố Biên Hòa | G615: 731 | H615: 26014 | I615: Phường Tân Tiến | J615: 26014 | K615: 75 | L615: 731 | M615: 26014 | N615: =K615&" "&L615&" "&M615 -> 75 731 26014
B616: 75 | C616: Tỉnh Đồng Nai | D616: 75 | E616: 731 | F616: Thành phố Biên Hòa | G616: 731 | H616: 26017 | I616: Phường Tam Hiệp | J616: 26017 | K616: 75 | L616: 731 | M616: 26017 | N616: =K616&" "&L616&" "&M616 -> 75 731 26017
B617: 75 | C617: Tỉnh Đồng Nai | D617: 75 | E617: 731 | F617: Thành phố Biên Hòa | G617: 731 | H617: 26020 | I617: Phường Long Bình | J617: 26020 | K617: 75 | L617: 731 | M617: 26020 | N617: =K617&" "&L617&" "&M617 -> 75 731 26020
B618: 75 | C618: Tỉnh Đồng Nai | D618: 75 | E618: 731 | F618: Thành phố Biên Hòa | G618: 731 | H618: 26023 | I618: Phường Quang Vinh | J618: 26023 | K618: 75 | L618: 731 | M618: 26023 | N618: =K618&" "&L618&" "&M618 -> 75 731 26023
B619: 75 | C619: Tỉnh Đồng Nai | D619: 75 | E619: 731 | F619: Thành phố Biên Hòa | G619: 731 | H619: 26026 | I619: Phường Tân Mai | J619: 26026 | K619: 75 | L619: 731 | M619: 26026 | N619: =K619&" "&L619&" "&M619 -> 75 731 26026
B620: 75 | C620: Tỉnh Đồng Nai | D620: 75 | E620: 731 | F620: Thành phố Biên Hòa | G620: 731 | H620: 26029 | I620: Phường Thống Nhất | J620: 26029 | K620: 75 | L620: 731 | M620: 26029 | N620: =K620&" "&L620&" "&M620 -> 75 731 26029
... B778: 75 | C778: Tỉnh Đồng Nai | D778: 75 | E778: 742 | F778: Huyện Nhơn Trạch | G778: 742 | H778: 26503 | I778: Xã Phước An | J778: 26503 | K778: 75 | L778: 742 | M778: 26503 | N778: =K778&" "&L778&" "&M778 -> 75 742 26503
A779: 5 | B779: 1 | C779: Thành phố Hà Nội | D779: 1 | E779: 001 | F779: Quận Ba Đình | G779: 001 | H779: 1 | I779: Phường Phúc Xá | J779: 1 | K779: 1 | L779: 001 | M779: 1 | N779: =K779&" "&L779&" "&M779 -> 1 001 1
B780: 1 | C780: Thành phố Hà Nội | D780: 1 | E780: 001 | F780: Quận Ba Đình | G780: 001 | H780: 4 | I780: Phường Trúc Bạch | J780: 4 | K780: 1 | L780: 001 | M780: 4 | N780: =K780&" "&L780&" "&M780 -> 1 001 4
B781: 1 | C781: Thành phố Hà Nội | D781: 1 | E781: 001 | F781: Quận Ba Đình | G781: 001 | H781: 6 | I781: Phường Vĩnh Phúc | J781: 6 | K781: 1 | L781: 001 | M781: 6 | N781: =K781&" "&L781&" "&M781 -> 1 001 6
B782: 1 | C782: Thành phố Hà Nội | D782: 1 | E782: 001 | F782: Quận Ba Đình | G782: 001 | H782: 7 | I782: Phường Cống Vị | J782: 7 | K782: 1 | L782: 001 | M782: 7 | N782: =K782&" "&L782&" "&M782 -> 1 001 7
B783: 1 | C783: Thành phố Hà Nội | D783: 1 | E783: 001 | F783: Quận Ba Đình | G783: 001 | H783: 8 | I783: Phường Liễu Giai | J783: 8 | K783: 1 | L783: 001 | M783: 8 | N783: =K783&" "&L783&" "&M783 -> 1 001 8
B784: 1 | C784: Thành phố Hà Nội | D784: 1 | E784: 001 | F784: Quận Ba Đình | G784: 001 | H784: 10 | I784: Phường Nguyễn Trung Trực | J784: 10 | K784: 1 | L784: 001 | M784: 10 | N784: =K784&" "&L784&" "&M784 -> 1 001 10
B785: 1 | C785: Thành phố Hà Nội | D785: 1 | E785: 001 | F785: Quận Ba Đình | G785: 001 | H785: 13 | I785: Phường Quán Thánh | J785: 13 | K785: 1 | L785: 001 | M785: 13 | N785: =K785&" "&L785&" "&M785 -> 1 001 13
B786: 1 | C786: Thành phố Hà Nội | D786: 1 | E786: 001 | F786: Quận Ba Đình | G786: 001 | H786: 16 | I786: Phường Ngọc Hà | J786: 16 | K786: 1 | L786: 001 | M786: 16 | N786: =K786&" "&L786&" "&M786 -> 1 001 16
B787: 1 | C787: Thành phố Hà Nội | D787: 1 | E787: 001 | F787: Quận Ba Đình | G787: 001 | H787: 19 | I787: Phường Điện Biên | J787: 19 | K787: 1 | L787: 001 | M787: 19 | N787: =K787&" "&L787&" "&M787 -> 1 001 19
B788: 1 | C788: Thành phố Hà Nội | D788: 1 | E788: 001 | F788: Quận Ba Đình | G788: 001 | H788: 22 | I788: Phường Đội Cấn | J788: 22 | K788: 1 | L788: 001 | M788: 22 | N788: =K788&" "&L788&" "&M788 -> 1 001 22
B789: 1 | C789: Thành phố Hà Nội | D789: 1 | E789: 001 | F789: Quận Ba Đình | G789: 001 | H789: 25 | I789: Phường Ngọc Khánh | J789: 25 | K789: 1 | L789: 001 | M789: 25 | N789: =K789&" "&L789&" "&M789 -> 1 001 25
B790: 1 | C790: Thành phố Hà Nội | D790: 1 | E790: 001 | F790: Quận Ba Đình | G790: 001 | H790: 28 | I790: Phường Kim Mã | J790: 28 | K790: 1 | L790: 001 | M790: 28 | N790: =K790&" "&L790&" "&M790 -> 1 001 28
B791: 1 | C791: Thành phố Hà Nội | D791: 1 | E791: 001 | F791: Quận Ba Đình | G791: 001 | H791: 31 | I791: Phường Giảng Võ | J791: 31 | K791: 1 | L791: 001 | M791: 31 | N791: =K791&" "&L791&" "&M791 -> 1 001 31
... B840: 1 | C840: Thành phố Hà Nội | D840: 1 | E840: 005 | F840: Quận Cầu Giấy | G840: 005 | H840: 175 | I840: Phường Trung Hòa | J840: 175 | K840: 1 | L840: 005 | M840: 175 | N840: =K840&" "&L840&" "&M840 -> 1 005 175
B841: 1 | C841: Thành phố Hà Nội | D841: 1 | E841: 6 | F841: Quận Đống Đa | G841: 6 | H841: 178 | I841: Phường Cát Linh | J841: 178 | K841: 1 | L841: 6 | M841: 178 | N841: =K841&" "&L841&" "&M841 -> 1 6 178
B842: 1 | C842: Thành phố Hà Nội | D842: 1 | E842: 6 | F842: Quận Đống Đa | G842: 6 | H842: 181 | I842: Phường Văn Miếu | J842: 181 | K842: 1 | L842: 6 | M842: 181 | N842: =K842&" "&L842&" "&M842 -> 1 6 181
B843: 1 | C843: Thành phố Hà Nội | D843: 1 | E843: 6 | F843: Quận Đống Đa | G843: 6 | H843: 184 | I843: Phường Quốc Tử Giám | J843: 184 | K843: 1 | L843: 6 | M843: 184 | N843: =K843&" "&L843&" "&M843 -> 1 6 184
B844: 1 | C844: Thành phố Hà Nội | D844: 1 | E844: 6 | F844: Quận Đống Đa | G844: 6 | H844: 187 | I844: Phường Láng Thượng | J844: 187 | K844: 1 | L844: 6 | M844: 187 | N844: =K844&" "&L844&" "&M844 -> 1 6 187
B845: 1 | C845: Thành phố Hà Nội | D845: 1 | E845: 6 | F845: Quận Đống Đa | G845: 6 | H845: 190 | I845: Phường Ô Chợ Dừa | J845: 190 | K845: 1 | L845: 6 | M845: 190 | N845: =K845&" "&L845&" "&M845 -> 1 6 190
B846: 1 | C846: Thành phố Hà Nội | D846: 1 | E846: 6 | F846: Quận Đống Đa | G846: 6 | H846: 193 | I846: Phường Văn Chương | J846: 193 | K846: 1 | L846: 6 | M846: 193 | N846: =K846&" "&L846&" "&M846 -> 1 6 193
B847: 1 | C847: Thành phố Hà Nội | D847: 1 | E847: 6 | F847: Quận Đống Đa | G847: 6 | H847: 196 | I847: Phường Hàng Bột | J847: 196 | K847: 1 | L847: 6 | M847: 196 | N847: =K847&" "&L847&" "&M847 -> 1 6 196
B848: 1 | C848: Thành phố Hà Nội | D848: 1 | E848: 6 | F848: Quận Đống Đa | G848: 6 | H848: 199 | I848: Phường Láng Hạ | J848: 199 | K848: 1 | L848: 6 | M848: 199 | N848: =K848&" "&L848&" "&M848 -> 1 6 199
B849: 1 | C849: Thành phố Hà Nội | D849: 1 | E849: 6 | F849: Quận Đống Đa | G849: 6 | H849: 202 | I849: Phường Khâm Thiên | J849: 202 | K849: 1 | L849: 6 | M849: 202 | N849: =K849&" "&L849&" "&M849 -> 1 6 202
B850: 1 | C850: Thành phố Hà Nội | D850: 1 | E850: 6 | F850: Quận Đống Đa | G850: 6 | H850: 205 | I850: Phường Thổ Quan | J850: 205 | K850: 1 | L850: 6 | M850: 205 | N850: =K850&" "&L850&" "&M850 -> 1 6 205
B851: 1 | C851: Thành phố Hà Nội | D851: 1 | E851: 6 | F851: Quận Đống Đa | G851: 6 | H851: 208 | I851: Phường Nam Đồng | J851: 208 | K851: 1 | L851: 6 | M851: 208 | N851: =K851&" "&L851&" "&M851 -> 1 6 208
B852: 1 | C852: Thành phố Hà Nội | D852: 1 | E852: 6 | F852: Quận Đống Đa | G852: 6 | H852: 211 | I852: Phường Trung Phụng | J852: 211 | K852: 1 | L852: 6 | M852: 211 | N852: =K852&" "&L852&" "&M852 -> 1 6 211
... B1362: 1 | C1362: Thành phố Hà Nội | D1362: 1 | E1362: 282 | F1362: Huyện Mỹ Đức | G1362: 282 | H1362: 10504 | I1362: Xã An Phú | J1362: 10504 | K1362: 1 | L1362: 282 | M1362: 10504 | N1362: =K1362&" "&L1362&" "&M1362 -> 1 282 10504
A1363: 6 | B1363: 2 | C1363: Tỉnh Hà Giang | D1363: 2 | E1363: 24 | F1363: Thành phố Hà Giang | G1363: 24 | H1363: 688 | I1363: Phường Quang Trung | J1363: 688 | K1363: 2 | L1363: 24 | M1363: 688 | N1363: =K1363&" "&L1363&" "&M1363 -> 2 24 688
B1364: 2 | C1364: Tỉnh Hà Giang | D1364: 2 | E1364: 24 | F1364: Thành phố Hà Giang | G1364: 24 | H1364: 691 | I1364: Phường Trần Phú | J1364: 691 | K1364: 2 | L1364: 24 | M1364: 691 | N1364: =K1364&" "&L1364&" "&M1364 -> 2 24 691
B1365: 2 | C1365: Tỉnh Hà Giang | D1365: 2 | E1365: 24 | F1365: Thành phố Hà Giang | G1365: 24 | H1365: 692 | I1365: Phường Ngọc Hà | J1365: 692 | K1365: 2 | L1365: 24 | M1365: 692 | N1365: =K1365&" "&L1365&" "&M1365 -> 2 24 692
B1366: 2 | C1366: Tỉnh Hà Giang | D1366: 2 | E1366: 24 | F1366: Thành phố Hà Giang | G1366: 24 | H1366: 694 | I1366: Phường Nguyễn Trãi | J1366: 694 | K1366: 2 | L1366: 24 | M1366: 694 | N1366: =K1366&" "&L1366&" "&M1366 -> 2 24 694
B1367: 2 | C1367: Tỉnh Hà Giang | D1367: 2 | E1367: 24 | F1367: Thành phố Hà Giang | G1367: 24 | H1367: 697 | I1367: Phường Minh Khai | J1367: 697 | K1367: 2 | L1367: 24 | M1367: 697 | N1367: =K1367&" "&L1367&" "&M1367 -> 2 24 697
B1368: 2 | C1368: Tỉnh Hà Giang | D1368: 2 | E1368: 24 | F1368: Thành phố Hà Giang | G1368: 24 | H1368: 700 | I1368: Xã Ngọc Đường | J1368: 700 | K1368: 2 | L1368: 24 | M1368: 700 | N1368: =K1368&" "&L1368&" "&M1368 -> 2 24 700
B1369: 2 | C1369: Tỉnh Hà Giang | D1369: 2 | E1369: 24 | F1369: Thành phố Hà Giang | G1369: 24 | H1369: 946 | I1369: Xã Phương Độ | J1369: 946 | K1369: 2 | L1369: 24 | M1369: 946 | N1369: =K1369&" "&L1369&" "&M1369 -> 2 24 946
B1370: 2 | C1370: Tỉnh Hà Giang | D1370: 2 | E1370: 24 | F1370: Thành phố Hà Giang | G1370: 24 | H1370: 949 | I1370: Xã Phương Thiện | J1370: 949 | K1370: 2 | L1370: 24 | M1370: 949 | N1370: =K1370&" "&L1370&" "&M1370 -> 2 24 949
B1371: 2 | C1371: Tỉnh Hà Giang | D1371: 2 | E1371: 26 | F1371: Huyện Đồng Văn | G1371: 26 | H1371: 712 | I1371: Thị trấn Phó Bảng | J1371: 712 | K1371: 2 | L1371: 26 | M1371: 712 | N1371: =K1371&" "&L1371&" "&M1371 -> 2 26 712
B1372: 2 | C1372: Tỉnh Hà Giang | D1372: 2 | E1372: 26 | F1372: Huyện Đồng Văn | G1372: 26 | H1372: 715 | I1372: Xã Lũng Cú | J1372: 715 | K1372: 2 | L1372: 26 | M1372: 715 | N1372: =K1372&" "&L1372&" "&M1372 -> 2 26 715
B1373: 2 | C1373: Tỉnh Hà Giang | D1373: 2 | E1373: 26 | F1373: Huyện Đồng Văn | G1373: 26 | H1373: 718 | I1373: Xã Má Lé | J1373: 718 | K1373: 2 | L1373: 26 | M1373: 718 | N1373: =K1373&" "&L1373&" "&M1373 -> 2 26 718
B1374: 2 | C1374: Tỉnh Hà Giang | D1374: 2 | E1374: 26 | F1374: Huyện Đồng Văn | G1374: 26 | H1374: 721 | I1374: Thị trấn Đồng Văn | J1374: 721 | K1374: 2 | L1374: 26 | M1374: 721 | N1374: =K1374&" "&L1374&" "&M1374 -> 2 26 721
B1375: 2 | C1375: Tỉnh Hà Giang | D1375: 2 | E1375: 26 | F1375: Huyện Đồng Văn | G1375: 26 | H1375: 724 | I1375: Xã Lũng Táo | J1375: 724 | K1375: 2 | L1375: 26 | M1375: 724 | N1375: =K1375&" "&L1375&" "&M1375 -> 2 26 724
... B1557: 2 | C1557: Tỉnh Hà Giang | D1557: 2 | E1557: 35 | F1557: Huyện Quang Bình | G1557: 35 | H1557: 1264 | I1557: Xã Vĩ Thượng | J1557: 1264 | K1557: 2 | L1557: 35 | M1557: 1264 | N1557: =K1557&" "&L1557&" "&M1557 -> 2 35 1264
A1558: 7 | B1558: 4 | C1558: Tỉnh Cao Bằng | D1558: 4 | E1558: 40 | F1558: Thành phố Cao Bằng | G1558: 40 | H1558: 1267 | I1558: Phường Sông Hiến | J1558: 1267 | K1558: 4 | L1558: 40 | M1558: 1267 | N1558: =K1558&" "&L1558&" "&M1558 -> 4 40 1267
B1559: 4 | C1559: Tỉnh Cao Bằng | D1559: 4 | E1559: 40 | F1559: Thành phố Cao Bằng | G1559: 40 | H1559: 1270 | I1559: Phường Sông Bằng | J1559: 1270 | K1559: 4 | L1559: 40 | M1559: 1270 | N1559: =K1559&" "&L1559&" "&M1559 -> 4 40 1270
...

Sheet DANHSACHTONG(5-7)
A5: STT | B5: Mã sinh viên | C5: Họ | D5: Tên | E5: Giới tính | F5: Ngày sinh | G5: Nơi sinh | H5: Họ tên cha | I5: Nghề nghiệp cha | J5: Số điện thoại cha | K5: Họ tên mẹ | L5: Nghề nghiệp mẹ | M5: Số điện thoại mẹ | N5: Lớp | O5: Nguyên quán | P5: Dân tộc | Q5: Tôn giáo | R5: ĐC thường trú | S5: ĐC liên lạc | T5: Điện thoại | U5: ĐT Phụ huynh | V5: Điện thoại 2 | W5: Điện thoại 3 | X5: Email | Y5: Số CMND | Z5: Ngày cấp | AA5: Nơi cấp | AB5: Ngày vào đoàn | AC5: Ngày vào đảng | AD5: HKTT tỉnh | AE5: Trường tốt nghiệp | AF5: HKTT huyện | AG5: HKTT phường xã | AH5: HKTT thôn xóm | AI5: HKTT số nhà | AJ5: Khu vực | AK5: Đối tượng | AL5: Đối tượng chính sách | AM5: Tỉnh | AN5: Huyện | AO5: Hồ sơ | AP5: Trạng thái | AQ5: Nhóm | AR5: Mã lớp | AS5: Ngày nhập học | AT5: Năm vào | AU5: Khóa học | AV5: Hệ đào tạo | AW5: Loại hình ĐT | AX5: Khoa | AY5: Ngành | AZ5: Nghề | BA5: Cơ sở
A6: 1 | B6: 19000001 | C6: Phan Phú | D6: Hào | E6: Nam | F6: 23/03/1997 | G6: Tp. Hồ Chí Minh | H6: Phan Chí Hiếu | I6: Tự do | J6: 0903986495 | K6: Nguyễn Thị Phương Dung | L6: Nội Trợ | M6: 0909831343 | N6: 19C1-CNÔ1 | O6: Tp. Hồ Chí Minh | P6: Kinh | Q6: Không | R6: 17/15a khu phố 6a p.tân thới nhất quận 12 tp. Hồ Chí Minh | S6: 17/15a khu phố 6a p.tân thới nhất quận 12 tp. Hồ Chí Minh | T6: 0904042315 | Y6: 025885764 | Z6: 01/05/2019 | AA6: CA. Tp.HCM | AB6: 20/03/2014 | AD6: Tp. Hồ Chí Minh | AE6: THPT Bà Điểm | AF6: Quận 12 | AJ6: KV2 | AK6: Đối tượng 03 | AM6: Tp. Hồ Chí Minh | AN6: Quận 12 | AO6: 19C10211 | AP6: Đang học | AQ6: 1 | AR6: 19C1-CNÔ1 | AS6: 10/05/2019 | AT6: 2019 | AU6: 2019 | AV6: Cao đẳng | AW6: Chính quy 2 năm | AX6: Khoa Động lực | AY6: Công nghệ ô tô | AZ6: Công nghệ ô tô | BA6: Trường Cao đẳng Lý Tự Trọng TPHCM
A7: 2 | B7: 19000002 | C7: Phùng Đức | D7: Dương | E7: Nam | F7: 17/10/2001 | G7: Bắc Ninh | H7: Phùng Đức Danh | I7: Tài xé | J7: 0964125239 | K7: Nguyễn Thị Thư | L7: Nội Trợ | M7: 0978565745 | N7: 19T4-KML1 | O7: Bắc Ninh | P7: Kinh | Q7: Không | R7: Nghĩa Hương, Xã Mỹ Hương, Huyện Lương Tài, Tỉnh Bắc Ninh | S7: 5/25H tổ 14 ấp 2 xã Xuân Thới Thượng huyện Hóc Môn tp Hồ Chí Minh | T7: 0994905556 | X7: phungducduong99999@gmail.com | Y7: 125922776 | Z7: 14/07/2017 | AA7: Bắc Ninh | AD7: Bắc Ninh | AF7: Huyện Lương Tài | AJ7: KV3 | AM7: Bắc Ninh | AN7: Huyện Lương Tài | AO7: 19T40054 | AP7: Đang học | AQ7: 1 | AR7: 19T4-KML1 | AS7: 10/05/2019 | AT7: 2019 | AU7: 2019 | AV7: Trung cấp | AW7: Chính quy 3 năm | AX7: Khoa Nhiệt – Lạnh | AY7: Kỹ thuật máy lạnh và điều hòa không khí | AZ7: Kỹ thuật máy lạnh và điều hòa không khí | BA7: Trường Cao đẳng Lý Tự Trọng TPHCM
A8: 3 | B8: 19000003 | C8: Lê Trọng | D8: Tiến | E8: Nam | F8: 15/03/2002 | G8: Tp. Hồ Chí Minh | H8: Lê Trọng Anh Kiệt | I8: Buôn bán | J8: 0978110038 | K8: Nguyễn Thị Mộng Tuyền | L8: Buôn bán | M8: 0988344000 | N8: 19T4-CNÔ1 | O8: Tp. Hồ Chí Minh | P8: Kinh | Q8: Không | R8: 24 Nguyễn Văn Tỷ, Khu phố 2, thị trấn Củ Chi, huyện Củ Chi, TPHCM | S8: 24 Nguyễn Văn Tỷ, Khu phố 2, thị trấn Củ Chi, huyện Củ Chi, TPHCM | T8: 0979535019 | X8: Bobbytrongtien@gmail.com | Y8: 079202005284 | Z8: 03/01/2017 | AA8: CA. Tp.HCM | AD8: Đà Nẵng | AF8: Huyện Hoà Vang | AJ8: KV2 | AM8: Tp. Hồ Chí Minh | AN8: Huyện Củ Chi | AO8: 19T40059 | AP8: Đang học | AQ8: 1 | AR8: 19T4-CNÔ1 | AS8: 10/05/2019 | AT8: 2019 | AU8: 2019 | AV8: Trung cấp | AW8: Chính quy 3 năm | AX8: Khoa Động lực | AY8: Công nghệ ô tô | AZ8: Công nghệ ô tô | BA8: Trường Cao đẳng Lý Tự Trọng TPHCM
A9: 4 | B9: 19000004 | C9: Phạm Hữu | D9: Hoàng | E9: Nam | F9: 02/02/1993 | G9: Đồng Nai | H9: Phạm Luận | I9: Nông dân | J9: 0326637303 | N9: 19C1-LGT1 | O9: Đồng Nai | P9: Kinh | Q9: Không | R9: Ấp 3 xã Phú Lộc, huyện Tân Phú, tỉnh Đồng Nai | S9: 122/54 Bùi Đình Túy, P12, Quận Bình Thạnh, Tp. HCM | T9: 0388078719 | X9: phamhuuhoang1993@gmail.com | Y9: 272194195 | Z9: 22/04/2019 | AA9: CA. Đồng Nai | AB9: 13/12/2009 | AD9: Đồng Nai | AE9: THPT Đoàn Kết | AF9: Huyện Tân Phú | AJ9: KV1 | AM9: Đồng Nai | AN9: Huyện Tân Phú | AO9: 19C10008 | AP9: Đang học | AQ9: 1 | AR9: 19C1-LGT1 | AS9: 10/05/2019 | AT9: 2019 | AU9: 2019 | AV9: Cao đẳng | AW9: Chính quy 2 năm | AX9: Khoa Kinh tế | AY9: Logistics | AZ9: Logistics | BA9: Trường Cao đẳng Lý Tự Trọng TPHCM
A10: 5 | B10: 19000005 | C10: Nguyễn Khắc Trung | D10: Kiên | E10: Nam | F10: 10/12/1997 | G10: Thái Bình | H10: Nguyễn Văn Duật | I10: Quản đốc | J10: 0974392959 | K10: Nguyễn Thị Toan | L10: Tạp vụ | M10: 0978114479 | N10: 19C1-ĐCN1 | O10: Thái Bình | P10: Kinh | Q10: Không | R10: Xã Vũ Công, Huyện Kiến Xương, Tỉnh Thái Bình | S10: 257/38/9 đường bình thành, phường bình hưng hoà B, Quận Bình Tân | T10: 0928383432 | U10: 0974392959 | V10: 0978114479 | Y10: 025680322 | Z10: 29/08/2012 | AA10: CA. Tp.HCM | AB10: 26/03/2016 | AD10: Thái Bình | AE10: THCS và THPT Phạm Ngũ Lão | AF10: Huyện Kiến Xương | AJ10: KV3 | AM10: Thái Bình | AN10: Huyện Kiến Xương | AO10: 19C10116 | AP10: Đang học | AQ10: 1 | AR10: 19C1-ĐCN1 | AS10: 10/05/2019 | AT10: 2019 | AU10: 2019 | AV10: Cao đẳng | AW10: Chính quy 2 năm | AX10: Khoa Điện - Điện tử | AY10: Điện công nghiệp | AZ10: Điện công nghiệp | BA10: Trường Cao đẳng Lý Tự Trọng TPHCM
A11: 6 | B11: 19000006 | C11: Trần Minh | D11: Quang | E11: Nam | F11: 17/06/1999 | G11: Long An | H11: Trần Văn Ơi | I11: Làm Nông | J11: 0359804850 | K11: Huỳnh Ngọc Thúy | L11: Làm Nông | M11: 0349474448 | N11: 19C1-CNÔ1 | O11: Long An | P11: Kinh | Q11: Không | R11: Ấp 2, Vĩnh Bình, Vĩnh Hưng, Long An | S11: 142/18 Cộng Hòa, Phường 4, Quận Tân Bình, Tp.HCM | T11: 0357006768 | U11: 0359804850 | V11: 0349474448 | X11: Tranquangg1706@gmail.com | Y11: 301687190 | Z11: 22/10/2014 | AA11: CA. Long An | AD11: Long An | AE11: THPT Vĩnh Hưng | AF11: Huyện Vĩnh Hưng | AJ11: KV2-NT | AM11: Long An | AN11: Huyện Vĩnh Hưng | AO11: 19C10090 | AP11: Đang học | AQ11: 1 | AR11: 19C1-CNÔ1 | AS11: 11/05/2019 | AT11: 2019 | AU11: 2019 | AV11: Cao đẳng | AW11: Chính quy 2 năm | AX11: Khoa Động lực | AY11: Công nghệ ô tô | AZ11: Công nghệ ô tô | BA11: Trường Cao đẳng Lý Tự Trọng TPHCM
A12: 7 | B12: 19000007 | C12: Lê Minh | D12: Sang | E12: Nam | F12: 28/01/1995 | G12: Tiền Giang | H12: Lê Minh Dũng | I12: Làm nông | K12: Triệu Thị Phương | L12: Làm nông | N12: 19C1-TĐH1 | O12: tien giang | P12: Kinh | Q12: Không | R12: Số 204, tổ 6, ấp 3, xã An Thái Trung, huyện Cái bè, tỉnh Tiền Giang | S12: Số 204, tổ 6, ấp 3, xã An Thái Trung, huyện Cái bè, tỉnh Tiền Giang | T12: 0968381803 | U12: 0984578974 | X12: minhsang2801@gmail.com | Y12: 312345949 | Z12: 02/06/2012 | AA12: tien giang | AE12: THPT Lê Thanh Hiền | AJ12: KV2-NT | AK12: Đối tượng 03 | AM12: Tiền Giang | AN12: Huyện Cái Bè | AO12: 19C10159 | AP12: Đang học | AQ12: 1 | AR12: 19C1-TĐH1 | AS12: 11/05/2019 | AT12: 2019 | AU12: 2019 | AV12: Cao đẳng | AW12: Chính quy 2 năm | AX12: Khoa Điện - Điện tử | AY12: Công nghệ kỹ thuật điều khiển và tự động hóa | AZ12: Công nghệ kỹ thuật điều khiển và tự động hóa | BA12: Trường Cao đẳng Lý Tự Trọng TPHCM
A13: 8 | B13: 19000008 | C13: Võ Trung | D13: Khang | E13: Nam | F13: 17/04/2004 | G13: Tp. Hồ Chí Minh | H13: Võ Quang Trang | I13: Thợ điện | J13: 0794784384 | K13: Phạm Thị Minh Tuyền | L13: Nội trợ | N13: 19T4-VSL1 | O13: Tp. Hồ Chí Minh | P13: Kinh | R13: 787/72 Trường Chinh p.Tây Thạnh Q.tân Phú | U13: 0794748348 | AD13: Tp. Hồ Chí Minh | AF13: Quận Tân Phú | AG13: Tây Thạnh | AI13: 787/22 Trường Chinh | AJ13: KV3 | AM13: Tp. Hồ Chí Minh | AN13: Quận Tân Phú | AO13: 19T40276 | AP13: Đang học | AQ13: 1 | AR13: 19T4-VSL1 | AS13: 13/05/2019 | AT13: 2019 | AU13: 2019 | AV13: Trung cấp | AW13: Chính quy 3 năm | AX13: Khoa Nhiệt – Lạnh | AY13: Vận hành, sửa chữa thiết bị lạnh | AZ13: Vận hành, sửa chữa thiết bị lạnh | BA13: Trường Cao đẳng Lý Tự Trọng TPHCM
A14: 9 | B14: 19000009 | C14: Nguyễn Lê | D14: Hoàng | E14: Nam | F14: 13/08/2003 | G14: Tp. Hồ Chí Minh | H14: Nguyễn Văn Thạch | I14: Buôn bán | J14: 0936495478 | K14: Lê Thị Thơm | L14: Buôn Bán | M14: 0988973916 | N14: 19T4-CNÔ1 | O14: Tp. Hồ Chí Minh | P14: Kinh | Q14: Không | R14: E3/21c3 - Ấp 5A - Xã Vĩnh Lộc A - Huyện Bình Chánh HCM | S14: E3/21c3 - Ấp 5A - Xã Vĩnh Lộc A - Huyện Bình Chánh HCM | T14: 0988973916 | U14: 0339013001 | V14: 0936495478 | X14: nguyenlehoang.1308@gmail.com | Y14: 001203024361 | Z14: 10/05/2018 | AA14: huyện Bình Chánh tp.HCM | AD14: Hà Nội | AF14: Huyện Mỹ Đức | AJ14: KV3 | AM14: Tp. Hồ Chí Minh | AN14: Huyện Bình Chánh | AO14: 19T40157 | AP14: Đang học | AQ14: 1 | AR14: 19T4-CNÔ1 | AS14: 13/05/2019 | AT14: 2019 | AU14: 2019 | AV14: Trung cấp | AW14: Chính quy 3 năm | AX14: Khoa Động lực | AY14: Công nghệ ô tô | AZ14: Công nghệ ô tô | BA14: Trường Cao đẳng Lý Tự Trọng TPHCM
A15: 10 | B15: 19000010 | C15: Trần Cao | D15: Long | E15: Nam | F15: 21/11/2004 | G15: Tp. Hồ Chí Minh | H15: Trần Văn Nhân | I15: Xây dựng | J15: 0989352468 | K15: Nguyễn Thị Phú | L15: Nội trợ | M15: 0333248191 | N15: 19T4-CNÔ1 | O15: Tp. Hồ Chí Minh | P15: Kinh | R15: 507/39 Hương Lộ 3 Phường Bình Hưng Hòa Q.bình tân | U15: 0989352468 | AD15: Tp. Hồ Chí Minh | AF15: Quận Bình Tân | AG15: Bình Hưng Hòa | AI15: 507/39 Hương lộ 3 | AJ15: KV3 | AM15: Tp. Hồ Chí Minh | AN15: Quận Bình Tân | AO15: 19T40117 | AP15: Đang học | AQ15: 1 | AR15: 19T4-CNÔ1 | AS15: 13/05/2019 | AT15: 2019 | AU15: 2019 | AV15: Trung cấp | AW15: Chính quy 3 năm | AX15: Khoa Động lực | AY15: Công nghệ ô tô | AZ15: Công nghệ ô tô | BA15: Trường Cao đẳng Lý Tự Trọng TPHCM
A16: 11 | B16: 19000011 | C16: Huỳnh Nhựt | D16: Thành | E16: Nam | F16: 08/01/2003 | G16: Tp. Hồ Chí Minh | H16: Huỳnh Thanh Toàn | J16: 0388435545 | K16: Nguyễn Thị Thúy Ái | M16: 0963059849 | N16: 19T4-CNÔ1 | O16: Tp. Hồ Chí Minh | P16: Hoa | Q16: Phật Giáo | R16: 139/26/13 Chiến Lược, P. Bình Trị Đông, Q. Bình Tân, TPHCM | S16: 139/26/13 Chiến Lược, P. Bình Trị Đông, Q. Bình Tân, TPHCM | T16: 0963059849 | X16: khoidutao@gmail.com | Y16: 086203000129 | Z16: 18/06/2018 | AA16: CTCCSĐKQLDC | AD16: Tp. Hồ Chí Minh | AF16: Quận Bình Tân | AJ16: KV3 | AM16: Tp. Hồ Chí Minh | AN16: Quận Bình Tân | AO16: 19T40039 | AP16: Đang học | AQ16: 1 | AR16: 19T4-CNÔ1 | AS16: 13/05/2019 | AT16: 2019 | AU16: 2019 | AV16: Trung cấp | AW16: Chính quy 3 năm | AX16: Khoa Động lực | AY16: Công nghệ ô tô | AZ16: Công nghệ ô tô | BA16: Trường Cao đẳng Lý Tự Trọng TPHCM
A17: 12 | B17: 19000012 | C17: Nguyễn Hoàng Minh | D17: Quân | E17: Nam | F17: 13/12/2000 | G17: Tp. Hồ Chí Minh | H17: Nguyễn Hoàn Vũ | I17: Tài xé | J17: 0909613250 | K17: Nguyễn Thị Mỹ Yến | L17: Nội trợ | M17: 0908577364 | N17: 19C1-CNÔ1 | O17: Tp. Hồ Chí Minh | P17: Kinh | Q17: Phật Giáo | R17: 995/122 Hồng Bàng, Phường 12, Quận 6, Tp.Hồ Chí Minh | S17: 995/122 Hồng Bàng, Phường 12, Quận 6, Tp.Hồ Chí Minh | T17: 0908577364 | U17: 0909613250 | V17: 0908577364 | Y17: 026031697 | Z17: 20/07/2015 | AA17: CA QUAN 6 | AD17: An Giang | AE17: THPT NKTDTT Nguyễn Thị Định | AF17: Huyện An Phú | AJ17: KV3 | AM17: Tp. Hồ Chí Minh | AN17: Quận 6 | AO17: 19C10036 | AP17: Đang học | AQ17: 1 | AR17: 19C1-CNÔ1 | AS17: 13/05/2019 | AT17: 2019 | AU17: 2019 | AV17: Cao đẳng | AW17: Chính quy 2 năm | AX17: Khoa Động lực | AY17: Công nghệ ô tô | AZ17: Công nghệ ô tô | BA17: Trường Cao đẳng Lý Tự Trọng TPHCM
A18: 13 | B18: 19000013 | C18: Nguyễn Nhật | D18: Huy | E18: Nam | F18: 11/05/2004 | G18: Tp. Hồ Chí Minh | H18: Nguyên Nhật Trung | I18: Công nhân | J18: 0932001680 | K18: Lê Thị Tường Vũ | L18: Buôn bán | M18: 0902435141 | N18: 19T4-TKĐ1 | O18: Tp. Hồ Chí Minh | P18: Kinh | Q18: Không | R18: 411/112 Lê Đức Thọ, Phường 17, Quận Gò Vấp, Tp.HCM | S18: 66/19/34/7 Trần Văn Quang, Phường 10, Quận Tân Bình, Tp.HCM | T18: 0766779354 | U18: 0932001680 | V18: 0899454460 | W18: 0902435141 | X18: ABC@gmail.com | Y18: 0 | Z18: 26/06/2019 | AA18: LTT | AD18: Tp. Hồ Chí Minh | AF18: Quận Gò Vấp | AJ18: KV3 | AM18: Tp. Hồ Chí Minh | AN18: Quận Gò Vấp | AO18: 19T40172 | AP18: Đang học | AQ18: 1 | AR18: 19T4-TKĐ1 | AS18: 13/05/2019 | AT18: 2019 | AU18: 2019 | AV18: Trung cấp | AW18: Chính quy 3 năm | AX18: Khoa Công nghệ Thông tin | AY18: Thiết kế đồ họa | AZ18: Thiết kế đồ họa | BA18: Trường Cao đẳng Lý Tự Trọng TPHCM
A19: 14 | B19: 19000014 | C19: Vũ Trường | D19: Khanh | E19: Nam | F19: 30/10/2004 | G19: Tp. Hồ Chí Minh | H19: Vũ Khánh Trình | I19: Kỹ sư trắc địa | K19: Nguyễn Thị Thanh Thảo | L19: Nội trợ | M19: 0964493213 | N19: 19T4-LTM1 | O19: Hải An, Hải Hậu, Nam Định | P19: Kinh | Q19: Không | R19: 499/44 Quang Trung, P.10, Q.Gò Vấp, TPHCM | S19: 499/44 Quang Trung, P.10, Q.Gò Vấp, TPHCM | T19: 0964493213 | U19: 0964493213 | X19: khanhvtrng12@gmail.com | Y19: 079204014324 | Z19: 08/03/2019 | AA19: Tp. Hồ Chí Minh | AD19: Tp. Hồ Chí Minh | AF19: Quận Gò Vấp | AJ19: KV3 | AM19: Tp. Hồ Chí Minh | AN19: Quận Gò Vấp | AO19: 19T40164 | AP19: Đang học | AQ19: 1 | AR19: 19T4-LTM1 | AS19: 14/05/2019 | AT19: 2019 | AU19: 2019 | AV19: Trung cấp | AW19: Chính quy 3 năm | AX19: Khoa Công nghệ Thông tin | AY19: Lập trình máy tính | AZ19: Lập trình máy tính | BA19: Trường Cao đẳng Lý Tự Trọng TPHCM
A20: 15 | B20: 19000015 | C20: Vũ Ngọc Mai | D20: Khanh | E20: Nữ | F20: 30/10/2004 | G20: Tp. Hồ Chí Minh | H20: Vũ Khánh Trình | I20: Kỹ sư trắc địa | K20: Nguyễn Thị Thanh Thảo | L20: Nội trợ | M20: 0964493213 | N20: 19T4-MTT1 | O20: Nam Định | P20: Kinh | Q20: Không | R20: 499/44 Quang Trung, P.10, Quận Gò Vấp, TPHCM | S20: 499/44 Quang Trung, P.10, Quận Gò Vấp, TPHCM | T20: 0387980723 | U20: 0964493213 | X20: khanhvu3010@gmail.com | Y20: 079304014348 | Z20: 08/03/2019 | AA20: TP. Hồ Chí Minh | AD20: Tp. Hồ Chí Minh | AF20: Quận Gò Vấp | AJ20: KV3 | AM20: Tp. Hồ Chí Minh | AN20: Quận Gò Vấp | AO20: 19T40175 | AP20: Đang học | AQ20: 1 | AR20: 19T4-MTT1 | AS20: 14/05/2019 | AT20: 2019 | AU20: 2019 | AV20: Trung cấp | AW20: Chính quy 3 năm | AX20: Khoa May - Thời trang | AY20: May thời trang | AZ20: May thời trang | BA20: Trường Cao đẳng Lý Tự Trọng TPHCM
A21: 16 | B21: 19000016 | C21: Nguyễn Dương | D21: Thanh | E21: Nam | F21: 11/03/1997 | G21: Long An | H21: Nguyễn Văn Ngân | I21: Thợ Mộc | J21: 0907751203 | K21: Dương Thị Mỹ Hương | L21: Buôn bán | M21: 0974856203 | N21: 19C1-CNL1 | O21: Long An | P21: Kinh | Q21: Không | R21: 52 ấp Xóm Mới, xã Tân Lân, huyện Cần Đước, tỉnh Long An | S21: 52 ấp Xóm Mới, xã Tân Lân, huyện Cần Đước, tỉnh Long An | T21: 0968498203 | U21: 0907751203 | V21: 0974856203 | X21: nguyenduongthanh1131997@gmail.com | Y21: 301607085 | Z21: 31/05/2012 | AA21: CA. Long An | AB21: 17/05/2015 | AC21: 10/07/2018 | AD21: Long An | AE21: THPT Chu Văn An | AF21: Huyện Cần Đước | AJ21: KV2-NT | AK21: Đối tượng 03 | AM21: Long An | AN21: Huyện Cần Đước | AO21: 19C10088 | AP21: Đang học | AQ21: 1 | AR21: 19C1-CNL1 | AS21: 14/05/2019 | AT21: 2019 | AU21: 2019 | AV21: Cao đẳng | AW21: Chính quy 2 năm | AX21: Khoa Nhiệt – Lạnh | AY21: Công nghệ kỹ thuật nhiệt | AZ21: Công nghệ kỹ thuật nhiệt | BA21: Trường Cao đẳng Lý Tự Trọng TPHCM
A22: 17 | B22: 19000017 | C22: Đặng Hữu | D22: Giác | E22: Nam | F22: 19/10/2000 | G22: Kiên Giang | H22: Đặng Văn Sâm | I22: Giảng viên | J22: 0384844810 | K22: Trần Xuân Lan | L22: Giáo viên | M22: 0984275178 | N22: 19C1-CNÔ1 | O22: Kiên Giang | P22: Kinh | Q22: Không | R22: Lô D11, khu dân cư ấp Tân Hoà B,xã Tân Hoà,huyện Tân Hiệp,tỉnh Kiên Giang | S22: 194 Trần Bá Giao, Phường 5, Quận Gò Vấp, Tp.HCM | T22: 0826855852 | U22: 0384844810 | V22: 0984275178 | Y22: 371901066 | Z22: 19/03/2015 | AA22: CA. Kiên Giang | AD22: Kiên Giang | AE22: THPT Tân Hiệp | AF22: Huyện Tân Hiệp | AJ22: KV2-NT | AM22: Kiên Giang | AN22: Huyện Tân Hiệp | AO22: 19C10004 | AP22: Đang học | AQ22: 1 | AR22: 19C1-CNÔ1 | AS22: 14/05/2019 | AT22: 2019 | AU22: 2019 | AV22: Cao đẳng | AW22: Chính quy 2 năm | AX22: Khoa Động lực | AY22: Công nghệ ô tô | AZ22: Công nghệ ô tô | BA22: Trường Cao đẳng Lý Tự Trọng TPHCM
A23: 18 | B23: 19000018 | C23: Đào Thanh | D23: Tùng | E23: Nam | F23: 03/12/2002 | G23: Tp. Hồ Chí Minh | N23: 19T4-LTM2 | O23: Hồng tiến tiến xương thái bình | P23: Kinh | Q23: Không | R23: 154/31/11A Đường Cống Lỡ, P.15, Q.Tân Bình, TPHCM | S23: 154/31/11A Đường Cống Lỡ, P.15, Q.Tân Bình, TPHCM | T23: 0968634984 | X23: 19000018 | Y23: 031202005688 | Z23: 11/06/2018 | AA23: Công an hải phòng | AD23: Tp. Hồ Chí Minh | AF23: Quận Tân Bình | AJ23: KV3 | AM23: Tp. Hồ Chí Minh | AN23: Quận Tân Bình | AO23: 19T40122 | AP23: Đang học | AQ23: 1 | AR23: 19T4-LTM2 | AS23: 14/05/2019 | AT23: 2019 | AU23: 2019 | AV23: Trung cấp | AW23: Chính quy 3 năm | AX23: Khoa Công nghệ Thông tin | AY23: Lập trình máy tính | AZ23: Lập trình máy tính | BA23: Trường Cao đẳng Lý Tự Trọng TPHCM
A24: 19 | B24: 19000019 | C24: Phạm Hoàng | D24: Khôi | E24: Nam | F24: 17/07/2002 | G24: Tp. Hồ Chí Minh | H24: Phạm Huy Thông | K24: Trần Thị Hoài Thu | L24: GV | N24: 19T4-CNÔ1 | O24: Tp. Hồ Chí Minh | P24: Kinh | Q24: Không | R24: 125/16/26 Bùi Đình Túy P.24 Q.Bình Thạnh Tp HCM | S24: 125/16/26 Bùi Đình Túy P.24 Q.Bình Thạnh Tp HCM | T24: 0933192899 | U24: 0932872860 | Y24: 079202021465 | Z24: 18/07/2017 | AA24: CTCCSQLĐKDC | AJ24: KV3 | AM24: Tp. Hồ Chí Minh | AN24: Huyện Bình Chánh | AO24: 19T40314 | AP24: Đang học | AQ24: 1 | AR24: 19T4-CNÔ1 | AS24: 14/05/2019 | AT24: 2019 | AU24: 2019 | AV24: Trung cấp | AW24: Chính quy 3 năm | AX24: Khoa Động lực | AY24: Công nghệ ô tô | AZ24: Công nghệ ô tô | BA24: Trường Cao đẳng Lý Tự Trọng TPHCM
A25: 20 | B25: 19000020 | C25: Phan Nguyễn Thanh | D25: Thiện | E25: Nam | F25: 31/05/1996 | G25: Tây Ninh | H25: Phan Thành Đông | I25: Làm Nông | J25: 0338151562 | K25: Nguyễn Thị Huệ | L25: Làm nông | M25: 0327711123 | N25: 19T4-ĐCN1 | O25: Tây Ninh | P25: Kinh | Q25: Không | R25: Phước Trung , Phước Chỉ , Trảng Bàng , Tây Ninh | S25: Phước Trung, Phước Chỉ, Trảng Bàng, Tây Ninh | T25: 0967220855 | U25: 0338151561 | V25: 0327711123 | X25: thanhthienpc69@gmail.com | Y25: 072096000781 | Z25: 18/02/2016 | AA25: CA Tây Ninh | AD25: Tây Ninh | AF25: Huyện Trảng Bàng | AM25: Tây Ninh | AN25: Huyện Trảng Bàng | AO25: 19T40106 | AP25: Đang học | AQ25: 1 | AR25: 19T4-ĐCN1 | AS25: 15/05/2019 | AT25: 2019 | AU25: 2019 | AV25: Trung cấp | AW25: Chính quy 3 năm | AX25: Khoa Điện - Điện tử | AY25: Điện công nghiệp | AZ25: Điện công nghiệp | BA25: Trường Cao đẳng Lý Tự Trọng TPHCM
A26: 21 | B26: 19000021 | C26: Đỗ Viết Thành | D26: An | E26: Nam | F26: 20/03/2004 | G26: Tp. Hồ Chí Minh | H26: Đỗ Tiến Thành | I26: Lao động | J26: 0379732989 | K26: Đặng Thị Xinh | L26: Nội trợ | M26: 1970 | N26: 19T4-ĐCN1 | O26: quang nam | P26: Kinh | Q26: Không | R26: 66/25 Phan Sào Nam P.11 Q.Tân Bình | S26: 66/25 Phan Sào Nam P.11 Q.Tân Bình | T26: 0379732989 | Y26: 0379732989 | Z26: 28/05/2019 | AA26: TP HCM | AD26: Quảng Nam | AF26: Huyện Bắc Trà My | AJ26: KV3 | AM26: Tp. Hồ Chí Minh | AN26: Quận Tân Bình | AO26: 19T40112 | AP26: Đang học | AQ26: 1 | AR26: 19T4-ĐCN1 | AS26: 15/05/2019 | AT26: 2019 | AU26: 2019 | AV26: Trung cấp | AW26: Chính quy 3 năm | AX26: Khoa Điện - Điện tử | AY26: Điện công nghiệp | AZ26: Điện công nghiệp | BA26: Trường Cao đẳng Lý Tự Trọng TPHCM
A27: 22 | B27: 19000022 | C27: Đào Tấn | D27: Phát | E27: Nam | F27: 24/11/2003 | G27: Bình Thuận | H27: Đào Tấn Thuận | I27: Cơ Khí | J27: 0345454770 | K27: Lê Trần Thúy Phượng | L27: Trang điểm, uống tóc | M27: 0369724472 | N27: 19T4-CĐT1 | O27: Bình Thuận | P27: Kinh | Q27: Không | R27: Tổ 10, Thôn 4, Đức Hạnh, Đức Linh, Bình Thuận | S27: 66/19/34/7 Trần Văn Quang, Phường 10, Quận Tân Bình, Tp.HCM | T27: 0345454770 | X27: ABC@gmail.com | Y27: 19000022 | Z27: 26/06/2019 | AA27: LTT | AD27: Bình Thuận | AF27: Huyện Đức Linh | AJ27: KV2-NT | AM27: Bình Thuận | AN27: Huyện Đức Linh | AO27: 19T40070 | AP27: Đang học | AQ27: 1 | AR27: 19T4-CĐT1 | AS27: 15/05/2019 | AT27: 2019 | AU27: 2019 | AV27: Trung cấp | AW27: Chính quy 3 năm | AX27: Khoa Điện - Điện tử | AY27: Cơ điện tử | AZ27: Cơ điện tử | BA27: Trường Cao đẳng Lý Tự Trọng TPHCM
A28: 23 | B28: 19000023 | C28: Nguyễn Cao | D28: Hưng | E28: Nam | F28: 02/07/1998 | G28: Tp. Hồ Chí Minh | H28: Nguyễn Văn Chánh | I28: Công nhân | K28: Cao Hoài Thương | L28: Buôn bán | N28: 19T2-TKW1 | O28: Tp. Hồ Chí Minh | P28: Kinh | Q28: Không | R28: 30/2 Nguyễn Văn Cự kp5 p Tân Tạo A Q.Binh Tân Tp HCM | S28: 30/2 Nguyễn Văn Cự kp5 p Tân Tạo A Q.Binh Tân Tp HCM | T28: 0797910442 | U28: 0934151371 | V28: 0797910442 | X28: nguyencaohung02071998@gmail.com | Y28: 025795286 | Z28: 03/07/2013 | AA28: Ca.Tp.HCM | AB28: 17/01/2017 | AD28: Tp. Hồ Chí Minh | AE28: THPT Bình Tân | AF28: Quận Bình Tân | AJ28: KV3 | AM28: Tp. Hồ Chí Minh | AN28: Quận Bình Tân | AO28: 19T20059 | AP28: Đang học | AQ28: 1 | AR28: 19T2-TKW1 | AS28: 15/05/2019 | AT28: 2019 | AU28: 2019 | AV28: Trung cấp | AW28: Chính quy 1N3 | AX28: Khoa Công nghệ Thông tin | AY28: Thiết kế trang Web | AZ28: Thiết kế trang Web | BA28: Trường Cao đẳng Lý Tự Trọng TPHCM
A29: 24 | B29: 19000024 | C29: Tô Hà Kỳ | D29: Duyên | E29: Nữ | F29: 06/02/2004 | G29: Tp. Hồ Chí Minh | H29: Tô Hồng Đức | I29: Kỹ sư Cơ khí | K29: Đặng Ngọc Ngà | L29: Kinh doang | N29: 19T4-NNA1 | O29: Tp. Hồ Chí Minh | P29: Kinh | Q29: Phật Giáo | R29: 152/48 Lý Chính Thắng, P.7, Q.3, TPHCM | S29: 66/19/34/7 Trần Văn Quang, Phường 10, Quận Tân Bình, Tp.HCM | T29: 0907107649 | U29: 0909916249 | X29: ABC@gmail.com | Y29: 19000024 | Z29: 26/06/2019 | AA29: LTT | AD29: Tp. Hồ Chí Minh | AF29: Quận 3 | AJ29: KV3 | AM29: Tp. Hồ Chí Minh | AN29: Quận 3 | AO29: 19T40348 | AP29: Đang học | AQ29: 1 | AR29: 19T4-NNA1 | AS29: 15/05/2019 | AT29: 2019 | AU29: 2019 | AV29: Trung cấp | AW29: Chính quy 3 năm | AX29: Khoa Khoa học cơ bản | AY29: Tiếng Anh | AZ29: Tiếng Anh | BA29: Trường Cao đẳng Lý Tự Trọng TPHCM
A30: 25 | B30: 19000025 | C30: Nguyễn Minh | D30: Ánh | E30: Nữ | F30: 23/07/2004 | G30: Tp. Hồ Chí Minh | H30: Nguyễn Minh Mẫn | I30: Buôn bán | J30: 0769977377 | K30: Nguyễn Thị Trang Đài | L30: Buôn bán | M30: 0906855812 | N30: 19T4-TKĐ1 | O30: Phường 2, Tân bình, Tphcm | P30: Kinh | Q30: Phật Giáo | R30: 291D Hoàng Văn Thụ, P.2, Q. Tân Bình, TPHCM | S30: 291D Hoàng Văn Thụ, P.2, Q. Tân Bình, TPHCM | T30: 0906855812 | U30: 0906855812 | Y30: 19000025 | Z30: 28/06/2019 | AA30: LTT | AD30: Tp. Hồ Chí Minh | AF30: Quận Tân Bình | AJ30: KV3 | AM30: Tp. Hồ Chí Minh | AN30: Quận Tân Phú | AO30: 19T40163 | AP30: Đang học | AQ30: 1 | AR30: 19T4-TKĐ1 | AS30: 15/05/2019 | AT30: 2019 | AU30: 2019 | AV30: Trung cấp | AW30: Chính quy 3 năm | AX30: Khoa Công nghệ Thông tin | AY30: Thiết kế đồ họa | AZ30: Thiết kế đồ họa | BA30: Trường Cao đẳng Lý Tự Trọng TPHCM
A31: 26 | B31: 19000026 | C31: Võ Kiều Minh | D31: Thư | E31: Nữ | F31: 25/02/1999 | G31: Tp. Hồ Chí Minh | N31: 19T4-NNA1 | P31: Kinh | R31: D12/53 đường Huỳnh Văn Trí, ấp 4, xã Bình Chánh, huyện Bình Chánh, TPHCM | T31: 0397481470 | AJ31: KV2 | AM31: Tp. Hồ Chí Minh | AN31: Huyện Bình Chánh | AO31: 19T40034 | AP31: Đang học | AQ31: 1 | AR31: 19T4-NNA1 | AS31: 15/05/2019 | AT31: 2019 | AU31: 2019 | AV31: Trung cấp | AW31: Chính quy 3 năm | AX31: Khoa Khoa học cơ bản | AY31: Tiếng Anh | AZ31: Tiếng Anh | BA31: Trường Cao đẳng Lý Tự Trọng TPHCM
A32: 27 | B32: 19000027 | C32: Lê Hoàng Quốc | D32: Anh | E32: Nam | F32: 23/07/2004 | G32: Tp. Hồ Chí Minh | H32: Lê Văn Hạ | I32: Xây dựng | J32: 0908128565 | K32: Hoàng Thị Hằng | L32: Buôn Bán | M32: 0933740954 | N32: 19T4-TKĐ1 | O32: Tp. Hồ Chí Minh | P32: Kinh | Q32: Không | R32: C12/37 ẤP 3B XÃ VĨNH LỘC B , BÌNH CHÁNH , TP.HCM | S32: C12/37 ẤP 3B XÃ VĨNH LỘC B , BÌNH CHÁNH , TP.HCM | T32: 0968097606 | Y32: 052204000129 | Z32: 23/03/2019 | AA32: CCSĐKQLDC | AD32: Bình Định | AF32: Huyện Phù Cát | AJ32: KV2 | AM32: Tp. Hồ Chí Minh | AN32: Huyện Bình Chánh | AO32: 19T40093 | AP32: Đang học | AQ32: 1 | AR32: 19T4-TKĐ1 | AS32: 16/05/2019 | AT32: 2019 | AU32: 2019 | AV32: Trung cấp | AW32: Chính quy 3 năm | AX32: Khoa Công nghệ Thông tin | AY32: Thiết kế đồ họa | AZ32: Thiết kế đồ họa | BA32: Trường Cao đẳng Lý Tự Trọng TPHCM
A33: 28 | B33: 19000028 | C33: Bùi Hoàng An | D33: Vỹ | E33: Nam | F33: 27/10/2001 | G33: Tp. Hồ Chí Minh | H33: Bùi Anh Vũ | I33: Nhân viên thuốc lá Sài gòn | J33: 0913116703 | K33: Trần Thị Hoàng Anh | L33: Bác sĩ | M33: 0903948929 | N33: 19T4-ĐCN1 | O33: Tp. Hồ Chí Minh | P33: Kinh | Q33: Không | R33: 263/10 Thạch Lam, P. Phú Thạch, Q. Tân Phú, TPHCM | S33: 263/10 Thạch Lam, P. Phú Thạch, Q. Tân Phú, TPHCM | T33: 0856493973 | U33: 0913116703 | V33: 0903948929 | X33: bon2710b@gmail.com | Y33: 079201008520 | Z33: 01/06/2016 | AA33: CA. TPHCM | AD33: Tp. Hồ Chí Minh | AF33: Quận Tân Phú | AJ33: KV3 | AM33: Tp. Hồ Chí Minh | AN33: Quận Tân Phú | AO33: 19T40072 | AP33: Đang học | AQ33: 1 | AR33: 19T4-ĐCN1 | AS33: 16/05/2019 | AT33: 2019 | AU33: 2019 | AV33: Trung cấp | AW33: Chính quy 3 năm | AX33: Khoa Điện - Điện tử | AY33: Điện công nghiệp | AZ33: Điện công nghiệp | BA33: Trường Cao đẳng Lý Tự Trọng TPHCM
A34: 29 | B34: 19000029 | C34: Mach | D34: Arafin | E34: Nam | F34: 15/02/2004 | G34: Tp. Hồ Chí Minh | H34: Mach Layh Manh | I34: Tài xé | J34: 0907890659 | K34: Nguyễn Thị Phượng | L34: Thợ may | M34: 0937187357 | N34: 19T4-CNÔ1 | O34: Tân Châu, Châu Phong, An Giang | P34: Chăm | Q34: Hồi Giáo | R34: 127/29 Cao Thắng P.17 Q.Phú Nhuận Tp.HCM | S34: 127/29 Cao Thắng P.17 Q.Phú Nhuận Tp.HCM | T34: 0937187357 | Y34: 083204000005 | Z34: 23/04/2018 | AA34: CA PHU NHUAN | AD34: An Giang | AF34: Huyện An Phú | AJ34: KV3 | AM34: Tp. Hồ Chí Minh | AN34: Quận Phú Nhuận | AO34: 19T40374 | AP34: Đang học | AQ34: 1 | AR34: 19T4-CNÔ1 | AS34: 16/05/2019 | AT34: 2019 | AU34: 2019 | AV34: Trung cấp | AW34: Chính quy 3 năm | AX34: Khoa Động lực | AY34: Công nghệ ô tô | AZ34: Công nghệ ô tô | BA34: Trường Cao đẳng Lý Tự Trọng TPHCM
A35: 30 | B35: 19000030 | C35: Lê Nguyễn Trung | D35: Hiếu | E35: Nam | F35: 03/12/2004 | G35: Tp. Hồ Chí Minh | H35: Lê Hữu Phước | K35: Nguyễn Thị Phượng | M35: 0902628189 | N35: 19T4-THU1 | O35: Tp. Hồ Chí Minh | P35: Kinh | Q35: Phật Giáo | R35: 105/10 Cao Thắng Phường 17, Q.Phú Nhuận TPHCM | S35: 105/10 Cao Thắng Phường 17, Q.Phú Nhuận TPHCM | T35: 0902628189 | U35: 0937002837 | Y35: 079204012484 | Z35: 29/01/2019 | AA35: CTCCSQLĐKDC | AD35: Tp. Hồ Chí Minh | AF35: Quận Phú Nhuận | AJ35: KV3 | AM35: Tp. Hồ Chí Minh | AN35: Quận Phú Nhuận | AO35: 19T40277 | AP35: Đang học | AQ35: 1 | AR35: 19T4-THU1 | AS35: 16/05/2019 | AT35: 2019 | AU35: 2019 | AV35: Trung cấp | AW35: Chính quy 3 năm | AX35: Khoa Công nghệ Thông tin | AY35: Tin học ứng dụng | AZ35: Tin học ứng dụng | BA35: Trường Cao đẳng Lý Tự Trọng TPHCM
A36: 31 | B36: 19000031 | C36: Huỳnh Thái | D36: Toàn | E36: Nam | F36: 07/09/2004 | G36: Tp. Hồ Chí Minh | H36: Huỳnh Thanh Sơn | I36: Tài xế | J36: 0933987220 | K36: Lê Thị Ngọc Tuyết | L36: Nội trợ | M36: 0909330098 | N36: 19T4-CNÔ1 | O36: Tp. Hồ Chí Minh | P36: Hoa | Q36: Không | R36: 216/3 Lạc Long Quân, Phường 10, Quận 11 TP.Hồ Chí Minh | S36: 66/19/34/7 Trần Văn Quang, Phường 10, Quận Tân Bình, Tp.HCM | T36: 0764309556 | U36: 0933987220 | V36: 0909330098 | X36: ABC@gmail.com | Y36: 19000031 | Z36: 26/06/2019 | AA36: LTT | AD36: Tp. Hồ Chí Minh | AF36: Quận 11 | AM36: Tp. Hồ Chí Minh | AN36: Quận 11 | AO36: 19T40194 | AP36: Đang học | AQ36: 1 | AR36: 19T4-CNÔ1 | AS36: 16/05/2019 | AT36: 2019 | AU36: 2019 | AV36: Trung cấp | AW36: Chính quy 3 năm | AX36: Khoa Động lực | AY36: Công nghệ ô tô | AZ36: Công nghệ ô tô | BA36: Trường Cao đẳng Lý Tự Trọng TPHCM
A37: 32 | B37: 19000032 | C37: Huỳnh Văn | D37: Đạt | E37: Nam | F37: 14/05/2004 | G37: Tp. Hồ Chí Minh | H37: Huỳnh Văn Lạc | I37: Buôn bán | J37: 0983382881 | K37: Huỳnh Thị Thủy | M37: 0335882063 | N37: 19T4-QTM1 | O37: Điện Bàn-Quảng Nam | P37: Kinh | Q37: Phật Giáo | R37: 66/12/9 Đường 45, Phường 14, Q.Gò Vấp TPHCM | S37: 66/12/9 Đường 45, Phường 14, Q.Gò Vấp TPHCM | T37: 0983382881 | U37: 0335882063 | Y37: 060204000110 | Z37: 15/05/2019 | AA37: TP.Hồ Chí Minh | AJ37: KV3 | AM37: Tp. Hồ Chí Minh | AN37: Quận Gò Vấp | AO37: 19T40232 | AP37: Đang học | AQ37: 1 | AR37: 19T4-QTM1 | AS37: 16/05/2019 | AT37: 2019 | AU37: 2019 | AV37: Trung cấp | AW37: Chính quy 3 năm | AX37: Khoa Công nghệ Thông tin | AY37: Quản trị mạng máy tính | AZ37: Quản trị mạng máy tính | BA37: Trường Cao đẳng Lý Tự Trọng TPHCM
A38: 33 | B38: 19000033 | C38: Nguyễn Quốc | D38: Phục | E38: Nam | F38: 20/09/1997 | G38: Gia Lai | H38: Nguyễn Quốc Việt | I38: Nông | K38: Phan Thị Thanh Lâm | L38: Nông | N38: 19C1-CNÔ1 | O38: Mỹ Hiệp, Phù Mỹ, Bình Đinh | P38: Kinh | Q38: Không | R38: Số 72 Quang Trung, Tổ dân phố 2, TT.Chư Sê, huyện Chư Sê, tỉnh Gia Lai | S38: Số 72 Quang Trung, Tổ dân phố 2, TT.Chư Sê, huyện Chư Sê, tỉnh Gia Lai | T38: 0375257585 | Y38: 231083906 | Z38: 17/06/2013 | AA38: CA. Gia Lai | AD38: Bình Định | AE38: Trường THPT Nguyễn Bỉnh Khiêm | AF38: Huyện Phù Mỹ | AJ38: KV3 | AM38: Gia Lai | AN38: Huyện Chư Sê | AO38: 19C10129 | AP38: Đang học | AQ38: 1 | AR38: 19C1-CNÔ1 | AS38: 16/05/2019 | AT38: 2019 | AU38: 2019 | AV38: Cao đẳng | AW38: Chính quy 2 năm | AX38: Khoa Động lực | AY38: Công nghệ ô tô | AZ38: Công nghệ ô tô | BA38: Trường Cao đẳng Lý Tự Trọng TPHCM
A39: 34 | B39: 19000034 | C39: Nguyễn Lê Minh | D39: Kha | E39: Nam | F39: 30/08/2004 | G39: Tp. Hồ Chí Minh | H39: Nguyễn Ngọc Nhung | I39: Nhân viên | J39: 0903883390 | K39: Lê Thanh Như Thảo | L39: Nhân viên | M39: 0902717043 | N39: 19T4-TĐH1 | O39: Tp. Hồ Chí Minh | P39: Kinh | Q39: Không | R39: C9/28 Đường Trịnh Như Khuê, Ấp 3, Xã Bình Chánh, Huyện Bình Chánh, Tp.HCM | S39: 66/19/34/7 Trần Văn Quang, Phường 10, Quận Tân Bình, Tp.HCM | T39: 0903883390 | U39: 0902717043 | X39: ABC@gmail.com | Y39: 19000034 | Z39: 26/06/2019 | AA39: LTT | AD39: Long An | AF39: Huyện Cần Giuộc | AJ39: KV2 | AM39: Tp. Hồ Chí Minh | AN39: Huyện Bình Chánh | AO39: 19T40389 | AP39: Đang học | AQ39: 1 | AR39: 19T4-TĐH1 | AS39: 17/05/2019 | AT39: 2019 | AU39: 2019 | AV39: Trung cấp | AW39: Chính quy 3 năm | AX39: Khoa Điện - Điện tử | AY39: Công nghệ kỹ thuật điều khiển tự động | AZ39: Công nghệ kỹ thuật điều khiển tự động | BA39: Trường Cao đẳng Lý Tự Trọng TPHCM
A40: 35 | B40: 19000035 | C40: Võ Thanh | D40: Hiếu | E40: Nam | F40: 28/06/2004 | G40: Tp. Hồ Chí Minh | N40: 19T4-ĐCN1 | O40: tphcm | P40: Kinh | Q40: Phật Giáo | R40: 21/35 TRẦN BÁ THƯỚC P7 PHÚ NHUẬN | S40: 21/35 TRẦN BÁ THƯỚC P7 PHÚ NHUẬN | T40: 0347740279 | Y40: 079204005924 | Z40: 07/09/2018 | AA40: C.a tphcm | AJ40: KV3 | AM40: Tp. Hồ Chí Minh | AN40: Quận Phú Nhuận | AO40: 19T40278 | AP40: Đang học | AQ40: 1 | AR40: 19T4-ĐCN1 | AS40: 17/05/2019 | AT40: 2019 | AU40: 2019 | AV40: Trung cấp | AW40: Chính quy 3 năm | AX40: Khoa Điện - Điện tử | AY40: Điện công nghiệp | AZ40: Điện công nghiệp | BA40: Trường Cao đẳng Lý Tự Trọng TPHCM
A41: 36 | B41: 19000036 | C41: Vũ Y | D41: Phụng | E41: Nữ | F41: 13/10/2003 | G41: Tp. Hồ Chí Minh | H41: Vũ Mạnh Chiến | I41: Tài xé | J41: 0984337079 | K41: Đặng Thị Ngoan | L41: Buôn bán | M41: 0904606811 | N41: 19T4-NNA1 | O41: Tp. Hồ Chí Minh | P41: Kinh | R41: 148 Nguyễn Thị Nhỏ, P.15, Q.11, TPHCM | S41: 148 Nguyễn Thị Nhỏ, P.15, Q.11, TPHCM | T41: 0904606811 | U41: 0984337079 | V41: 0904606811 | AJ41: KV3 | AM41: Tp. Hồ Chí Minh | AN41: Quận 11 | AO41: 19T40009 | AP41: Đang học | AQ41: 1 | AR41: 19T4-NNA1 | AS41: 17/05/2019 | AT41: 2019 | AU41: 2019 | AV41: Trung cấp | AW41: Chính quy 3 năm | AX41: Khoa Khoa học cơ bản | AY41: Tiếng Anh | AZ41: Tiếng Anh | BA41: Trường Cao đẳng Lý Tự Trọng TPHCM
A42: 37 | B42: 19000037 | C42: Ngô Khí | D42: Tài | E42: Nam | F42: 23/03/2000 | G42: Tp. Hồ Chí Minh | H42: Ngô Thanh Bình | I42: Tài Xé | J42: 0903764998 | K42: Bùi Thị Ngọc Minh | L42: Nội trợ | M42: 0908525940 | N42: 19C1-TKĐ1 | O42: Thừa Thiên Huế | P42: Kinh | Q42: Phật Giáo | R42: 108 L1, Đường Hồ Tùng Mậu, Phường Bến Nghé, Quận 1, Thành phố Hồ Chí Minh | S42: 182 Chiến Thắng, Phường 9, Quận Phú Nhuận | T42: 0704516860 | U42: 0903764998 | V42: 0908525940 | X42: ngkhitai@gmail.com | Y42: 025930280 | Z42: 23/07/2014 | AA42: TP. HCM | AB42: 14/04/2016 | AD42: Thừa Thiên -Huế | AE42: THPT Trưng Vương | AF42: Huyện A Lưới | AJ42: KV3 | AM42: Tp. Hồ Chí Minh | AN42: Quận 1 | AO42: 19C10062 | AP42: Đang học | AQ42: 1 | AR42: 19C1-TKĐ1 | AS42: 17/05/2019 | AT42: 2019 | AU42: 2019 | AV42: Cao đẳng | AW42: Chính quy 2 năm | AX42: Khoa Công nghệ Thông tin | AY42: Thiết kế đồ họa | AZ42: Thiết kế đồ họa | BA42: Trường Cao đẳng Lý Tự Trọng TPHCM
A43: 38 | B43: 19000038 | C43: Trần Ngọc | D43: Tú | E43: Nam | F43: 06/12/1996 | G43: Tp. Hồ Chí Minh | H43: Trần Đình Đức | I43: Hưu Trí | J43: 0398504845 | N43: 19C1-CCK1 | O43: Tp. Hồ Chí Minh | P43: Kinh | Q43: Không | R43: 4E , Khu phố 2, Phường Trung Mỹ Tây, Quận 12, TPHCM | S43: 4E , Khu phố 2, Phường Trung Mỹ Tây, Quận 12, TPHCM | T43: 0985991321 | U43: 0398504845 | Y43: 025596325 | Z43: 05/03/2012 | AA43: CA. TPHCM | AD43: Nghệ An | AE43: THPT Trường Chinh | AF43: Huyện Diễn Châu | AJ43: KV3 | AM43: Tp. Hồ Chí Minh | AN43: Quận 12 | AO43: 19C10157 | AP43: Đang học | AQ43: 1 | AR43: 19C1-CCK1 | AS43: 18/05/2019 | AT43: 2019 | AU43: 2019 | AV43: Cao đẳng | AW43: Chính quy 2 năm | AX43: Khoa Cơ khí | AY43: Công nghệ kỹ thuật cơ khí | AZ43: Công nghệ kỹ thuật cơ khí | BA43: Trường Cao đẳng Lý Tự Trọng TPHCM
A44: 39 | B44: 19000039 | C44: Mai Quốc | D44: An | E44: Nam | F44: 26/07/2003 | G44: Tp. Hồ Chí Minh | H44: Mai Văn Thắng | I44: Nhân Viên | J44: 0903815737 | K44: Phạm Thị Tuyết Nhung | L44: Nhân viên | M44: 0973515892 | N44: 19T4-ANM1 | O44: Tp. Hồ Chí Minh | P44: Kinh | Q44: Không | R44: 225 Chung Cư Thanh Niên Bàu cát 2 p.14 | S44: 027 chung cư thanh niên đường bàu cát 2 phường 14 Quận Tân Bình | T44: 0973515892 | U44: 0903815737 | V44: 0973515892 | X44: huyanquoc123@gmail.com | Y44: 079203004897 | Z44: 22/06/2018 | AA44: công an thành phố hồ chí minh | AB44: 05/05/2019 | AD44: Ninh Bình | AF44: Huyện Gia Viễn | AL44: Trung học cơ sở | AM44: Tp. Hồ Chí Minh | AN44: Quận Tân Phú | AO44: 19T40155 | AP44: Đang học | AQ44: 1 | AR44: 19T4-ANM1 | AS44: 18/05/2019 | AT44: 2019 | AU44: 2019 | AV44: Trung cấp | AW44: Chính quy 3 năm | AX44: Khoa Công nghệ Thông tin | AY44: An ninh mạng | AZ44: An ninh mạng | BA44: Trường Cao đẳng Lý Tự Trọng TPHCM
A45: 40 | B45: 19000040 | C45: Đỗ Trần Quốc | D45: Đạt | E45: Nam | F45: 11/03/2001 | G45: Tp. Hồ Chí Minh | N45: 19T4-VSL1 | P45: Kinh | R45: B14/8 Khu Phố 1 Bình An Q.2 Tp HCM | T45: 0938865717 | AM45: Tp. Hồ Chí Minh | AN45: Quận 2 | AO45: 19T40409 | AP45: Đang học | AQ45: 1 | AR45: 19T4-VSL1 | AS45: 18/05/2019 | AT45: 2019 | AU45: 2019 | AV45: Trung cấp | AW45: Chính quy 3 năm | AX45: Khoa Nhiệt – Lạnh | AY45: Vận hành, sửa chữa thiết bị lạnh | AZ45: Vận hành, sửa chữa thiết bị lạnh | BA45: Trường Cao đẳng Lý Tự Trọng TPHCM
A46: 41 | B46: 19000041 | C46: Mạc Huỳnh Quốc | D46: Huy | E46: Nam | F46: 07/10/1999 | G46: Bến Tre | H46: Mạc văn Tùng | I46: Buôn bán | J46: 0915627618 | K46: Huỳnh Cẩm Tuyết | L46: Buôn bán | M46: 0815627618 | N46: 19C1-CNÔ1 | O46: Bến Tre | P46: Kinh | Q46: Không | R46: số 144, Ấp Phú Đông 1, An Định, Mỏ Cày Nam, Bến Tre | S46: số 144, Ấp Phú Đông 1, An Định, Mỏ Cày Nam, Bến Tre | T46: 0944190142 | U46: 0915627618 | V46: 0815627618 | Y46: 321734843 | Z46: 17/07/2015 | AA46: CA. Bến Tre | AD46: Bến Tre | AE46: THPT Ca Văn Thỉnh | AF46: Huyện Mỏ Cày Nam | AJ46: KV2-NT | AM46: Bến Tre | AN46: Huyện Mỏ Cày Nam | AO46: 19C10132 | AP46: Đang học | AQ46: 1 | AR46: 19C1-CNÔ1 | AS46: 18/05/2019 | AT46: 2019 | AU46: 2019 | AV46: Cao đẳng | AW46: Chính quy 2 năm | AX46: Khoa Động lực | AY46: Công nghệ ô tô | AZ46: Công nghệ ô tô | BA46: Trường Cao đẳng Lý Tự Trọng TPHCM
A47: 42 | B47: 19000042 | C47: Nguyễn Thị Đình | D47: Trúc | E47: Nữ | F47: 03/09/2000 | G47: Bến Tre | H47: Nguyễn Văn Phương | I47: Buôn bán | J47: 0984746663 | K47: Lương Thị Trinh | L47: Buôn bán | M47: 0975644535 | N47: 19C1-CNÔ1 | O47: Bến Tre | P47: Kinh | Q47: Phật Giáo | R47: số nhà 438, Ấp Phú Lộc Thượng, xã An Định, huyện Mỏ Cày Nam, tỉnh Bến Tre | S47: số nhà 438, Ấp Phú Lộc Thượng, xã An Định, huyện Mỏ Cày Nam, tỉnh Bến Tre | T47: 0352922710 | U47: 0984746663 | V47: 0975644535 | X47: A@gmail.com | Y47: 321734808 | Z47: 17/07/2015 | AA47: CA. Bến Tre | AD47: Bến Tre | AE47: THPT Ca Văn Thỉnh | AF47: Huyện Mỏ Cày Nam | AJ47: KV2-NT | AM47: Bến Tre | AN47: Huyện Mỏ Cày Nam | AO47: 19C10133 | AP47: Đang học | AQ47: 1 | AR47: 19C1-CNÔ1 | AS47: 18/05/2019 | AT47: 2019 | AU47: 2019 | AV47: Cao đẳng | AW47: Chính quy 2 năm | AX47: Khoa Động lực | AY47: Công nghệ ô tô | AZ47: Công nghệ ô tô | BA47: Trường Cao đẳng Lý Tự Trọng TPHCM
A48: 43 | B48: 19000043 | C48: Nguyễn Thanh | D48: Tâm | E48: Nam | F48: 26/06/2004 | G48: Tp. Hồ Chí Minh | H48: Nguyễn Thanh Hùng | I48: Xây dựng | J48: 0964399575 | K48: Nguyễn Thị Liên | L48: Công nhân | M48: 0973233246 | N48: 19T4-ĐCN1 | O48: Tp. Hồ Chí Minh | P48: Kinh | Q48: Phật Giáo | R48: 55/12 Đường Số 7, P.7, Q.Gò Vấp, Tp.HCM | S48: 55/12 Đường Số 7, P.7, Q.Gò Vấp, Tp.HCM | T48: 0973233246 | U48: 0964399575 | X48: ThanhTam26062004@gmail.com | Y48: 0 | Z48: 26/06/2019 | AA48: CTCCSQLĐKDC | AD48: Tp. Hồ Chí Minh | AF48: Quận Gò Vấp | AJ48: KV3 | AM48: Tp. Hồ Chí Minh | AN48: Quận Gò Vấp | AO48: 19T40415 | AP48: Đang học | AQ48: 1 | AR48: 19T4-ĐCN1 | AS48: 20/05/2019 | AT48: 2019 | AU48: 2019 | AV48: Trung cấp | AW48: Chính quy 3 năm | AX48: Khoa Điện - Điện tử | AY48: Điện công nghiệp | AZ48: Điện công nghiệp | BA48: Trường Cao đẳng Lý Tự Trọng TPHCM
A49: 44 | B49: 19000044 | C49: Lê Đức | D49: Trong | E49: Nam | F49: 30/10/1996 | G49: Long An | H49: Lê Phước Hùng | I49: Thợ Mộc | J49: 0783624128 | K49: Nguyễn Thị Nguyệt | L49: Làm Nông | M49: 0792493773 | N49: 19C1-ĐĐT1 | O49: Tân Ân- Cần Đước- Long An | P49: Kinh | Q49: Không | R49: Số 16 tổ 1 ấp 1 xã tân ân, huyện cần đước, tỉnh long an | S49: Tân Ân- Cần Đước- Long An | T49: 0344333267 | U49: 0783624128 | V49: 0792493773 | X49: Namta3010@gmail.com | Y49: 301572691 | Z49: 20/08/2014 | AA49: Long An | AB49: 10/12/2015 | AC49: 22/12/2017 | AD49: Long An | AE49: THPT Chu Văn An | AF49: Huyện Cần Đước | AJ49: KV2-NT | AM49: Long An | AN49: Huyện Cần Đước | AO49: 19C10169 | AP49: Đang học | AQ49: 1 | AR49: 19C1-ĐĐT1 | AS49: 20/05/2019 | AT49: 2019 | AU49: 2019 | AV49: Cao đẳng | AW49: Chính quy 2 năm | AX49: Khoa Điện - Điện tử | AY49: Công nghệ kỹ thuật điện, điện tử | AZ49: Công nghệ kỹ thuật điện, điện tử | BA49: Trường Cao đẳng Lý Tự Trọng TPHCM
A50: 45 | B50: 19000045 | C50: Nguyễn Nhật | D50: Huy | E50: Nam | F50: 06/04/1999 | G50: Bình Định | H50: Nguyễn Văn Thọ | I50: Nông dân | J50: 0936646497 | K50: Trần Thị Thúy Hằng | L50: Nông dân | N50: 19T2-ĐCN1 | O50: Bình Định | P50: Kinh | Q50: Không | R50: Phú Thịnh, Tây Phú, Tây Sơn, Bình Định | S50: Phú Thịnh, Tây Phú, Tây Sơn, Bình Định | T50: 0347517340 | U50: 0936646497 | Y50: 215478014 | Z50: 11/01/2014 | AA50: CA. Bình Định | AD50: Bình Định | AE50: THPT Nguyễn Huệ | AF50: Huyện Tây Sơn | AJ50: KV2-NT | AK50: Đối tượng 01 | AM50: Bình Định | AN50: Huyện Tây Sơn | AO50: 19T20005 | AP50: Đang học | AQ50: 1 | AR50: 19T2-ĐCN1 | AS50: 20/05/2019 | AT50: 2019 | AU50: 2019 | AV50: Trung cấp | AW50: Chính quy 1N3 | AX50: Khoa Điện - Điện tử | AY50: Điện công nghiệp | AZ50: Điện công nghiệp | BA50: Trường Cao đẳng Lý Tự Trọng TPHCM
A51: 46 | B51: 19000046 | C51: Trần Nhật | D51: Phong | E51: Nam | F51: 22/01/2004 | G51: Tp. Hồ Chí Minh | H51: Trần Văn Chiến | I51: Tài xé | J51: 0764309698 | K51: Trần Thị Minh Châu | L51: Nội trợ | M51: 0773171889 | N51: 19T4-CNÔ1 | O51: Tp. Hồ Chí Minh | P51: Kinh | Q51: Công Giáo | R51: 225 Lạc Long Quân, Phường 3, Quận 11, Tp.HCM | S51: 225 Lạc Long Quân, Phường 3, Quận 11, Tp.HCM | T51: 0773171889 | U51: 0764309698 | V51: 0773171889 | Y51: 079204017285 | Z51: 02/05/2019 | AA51: CA. Tp.HCM | AD51: Hải Dương | AF51: Huyện Bình Giang | AJ51: KV3 | AM51: Tp. Hồ Chí Minh | AN51: Quận 11 | AO51: 19T40293 | AP51: Đang học | AQ51: 1 | AR51: 19T4-CNÔ1 | AS51: 20/05/2019 | AT51: 2019 | AU51: 2019 | AV51: Trung cấp | AW51: Chính quy 3 năm | AX51: Khoa Động lực | AY51: Công nghệ ô tô | AZ51: Công nghệ ô tô | BA51: Trường Cao đẳng Lý Tự Trọng TPHCM
A52: 47 | B52: 19000047 | C52: Kỳ Chí | D52: An | E52: Nam | F52: 28/08/2004 | G52: Tp. Hồ Chí Minh | N52: 19T4-LTM1 | O52: Tp. Hồ Chí Minh | P52: Hoa | Q52: Không | R52: 027 LÔ A CHUNG CƯ LẠC LONG QUÂN PHƯỜNG 5 QUẬN 11 TP.HCM | S52: 027 LÔ A CHUNG CƯ LẠC LONG QUÂN PHƯỜNG 5 QUẬN 11 TP.HCM | T52: 0902432882 | X52: nguyenthiloc225@gmail.com | Y52: 19000047 | Z52: 15/06/2019 | AA52: trường Lý Tự Trọng | AJ52: KV3 | AM52: Tp. Hồ Chí Minh | AN52: Quận 11 | AO52: 19T40042 | AP52: Đang học | AQ52: 1 | AR52: 19T4-LTM1 | AS52: 20/05/2019 | AT52: 2019 | AU52: 2019 | AV52: Trung cấp | AW52: Chính quy 3 năm | AX52: Khoa Công nghệ Thông tin | AY52: Lập trình máy tính | AZ52: Lập trình máy tính | BA52: Trường Cao đẳng Lý Tự Trọng TPHCM
A53: 48 | B53: 19000048 | C53: Nguyễn Đăng | D53: Khoa | E53: Nam | F53: 04/07/2000 | G53: Tp. Hồ Chí Minh | N53: 19C1-CTM1 | P53: Kinh | R53: 164 đường số 1, ấp 3, xã Phước Vĩnh An, huyện Củ Chi, TP HCM | T53: 0392801742 | AE53: THPT Tân Thông Hội | AJ53: KV2 | AM53: Tp. Hồ Chí Minh | AN53: Huyện Củ Chi | AO53: 19C10363 | AP53: Đang học | AQ53: 1 | AR53: 19C1-CTM1 | AS53: 20/05/2019 | AT53: 2019 | AU53: 2019 | AV53: Cao đẳng | AW53: Chính quy 2 năm | AX53: Khoa Cơ khí | AY53: Công nghệ chế tạo máy | AZ53: Công nghệ chế tạo máy | BA53: Trường Cao đẳng Lý Tự Trọng TPHCM
A54: 49 | B54: 19000049 | C54: Huỳnh Trung | D54: Nhân | E54: Nam | F54: 28/04/2001 | G54: Tp. Hồ Chí Minh | N54: 19C1-ĐĐT1 | P54: Kinh | R54: 1/139B Ấp Đình Xã Tuân Xuân, Huyện Học Môn, TPHCM | T54: 0942560599 | Y54: 079201006533 | AE54: THPT Bà Điểm | AJ54: KV2 | AM54: Tp. Hồ Chí Minh | AN54: Huyện Hóc Môn | AO54: 19C10340 | AP54: Đang học | AQ54: 1 | AR54: 19C1-ĐĐT1 | AS54: 20/05/2019 | AT54: 2019 | AU54: 2019 | AV54: Cao đẳng | AW54: Chính quy 2 năm | AX54: Khoa Điện - Điện tử | AY54: Công nghệ kỹ thuật điện, điện tử | AZ54: Công nghệ kỹ thuật điện, điện tử | BA54: Trường Cao đẳng Lý Tự Trọng TPHCM
A55: 50 | B55: 19000050 | C55: Trần Kim | D55: Thảo | E55: Nữ | F55: 19/05/2001 | G55: Tp. Hồ Chí Minh | N55: 19C1-MVT1 | P55: Kinh | R55: 3/160B ấp Đình, xã Tần Xuân, huyện Hóc Môn, TPHCM | T55: 0817879092 | Y55: 079301023828 | AE55: THPT Bà Điểm | AJ55: KV2 | AM55: Tp. Hồ Chí Minh | AN55: Huyện Hóc Môn | AO55: 19C10473 | AP55: Đang học | AQ55: 1 | AR55: 19C1-MVT1 | AS55: 20/05/2019 | AT55: 2019 | AU55: 2019 | AV55: Cao đẳng | AW55: Chính quy 2 năm | AX55: Khoa May - Thời trang | AY55: Công nghệ may Veston | AZ55: Công nghệ may Veston | BA55: Trường Cao đẳng Lý Tự Trọng TPHCM
A56: 51 | B56: 19000051 | C56: Nguyễn Tuấn | D56: Anh | E56: Nam | F56: 22/04/2003 | G56: Tp. Hồ Chí Minh | H56: Nguyễn Văn Chiến | J56: 0985955046 | K56: Lê Thị Cúc | M56: 0388867831 | N56: 19T4-KML1 | O56: Độc Lập | P56: Kinh | Q56: Không | R56: 11/3 ấp xóm đồng xã Tân Phú Trung Củ Chi | S56: 11/3 ấp xóm đồng xã Tan phú trung củ chi | T56: 0388867831 | U56: 034922576 | V56: 0985955046 | X56: tuananh258789@gmail.com | Y56: 038203000516 | Z56: 12/04/2019 | AA56: Củ Chi | AD56: Tp. Hồ Chí Minh | AF56: Huyện Củ Chi | AJ56: KV2 | AM56: Tp. Hồ Chí Minh | AN56: Huyện Củ Chi | AO56: 19T40148 | AP56: Đang học | AQ56: 1 | AR56: 19T4-KML1 | AS56: 21/05/2019 | AT56: 2019 | AU56: 2019 | AV56: Trung cấp | AW56: Chính quy 3 năm | AX56: Khoa Nhiệt – Lạnh | AY56: Kỹ thuật máy lạnh và điều hòa không khí | AZ56: Kỹ thuật máy lạnh và điều hòa không khí | BA56: Trường Cao đẳng Lý Tự Trọng TPHCM
A57: 52 | B57: 19000052 | C57: Nguyễn Thị Quỳnh | D57: Như | E57: Nữ | F57: 22/06/2004 | G57: Đồng Nai | H57: Nguyễn Văn Toàn | I57: Chạy xe | K57: Thổ Thị Thu Nga | L57: Công nhân | M57: 0773746991 | N57: 19T4-QTD1 | O57: Tp. Hồ Chí Minh | P57: Kinh | Q57: Phật Giáo | R57: 445/17, đường Phan Huy Ích, phường 14, quận Gò Vấp, thành phố Hồ Chí Minh | S57: 911/29 Quang Trung, Phường 14, Quận Gò Vấp, Tp.HCM | T57: 0934125727 | U57: 0773746991 | Y57: 075304000410 | Z57: 08/05/2019 | AA57: TP.HCM | AD57: Tp. Hồ Chí Minh | AF57: Quận Gò Vấp | AJ57: KV3 | AM57: Tp. Hồ Chí Minh | AN57: Quận Gò Vấp | AO57: 19T40410 | AP57: Đang học | AQ57: 1 | AR57: 19T4-QTD1 | AS57: 21/05/2019 | AT57: 2019 | AU57: 2019 | AV57: Trung cấp | AW57: Chính quy 3 năm | AX57: Khoa Kinh tế | AY57: Quản trị doanh nghiệp | AZ57: Quản trị doanh nghiệp | BA57: Trường Cao đẳng Lý Tự Trọng TPHCM
A58: 53 | B58: 19000053 | C58: Trương Thị Hải | D58: Yến | E58: Nữ | F58: 18/01/2004 | G58: Tp. Hồ Chí Minh | H58: Trương Quang Hải | I58: Tài xế | J58: 0903631495 | K58: Lò Thị Hạnh | L58: Nội trợ | M58: 0965745449 | N58: 19T4-LTM1 | O58: Tp. Hồ Chí Minh | P58: Kinh | Q58: Không | R58: 129/5 Nguyễn Duy Cung, phường 12, quận Gò Vấp, thành phố Hồ Chí Minh | S58: 66/19/34/7 Trần Văn Quang, Phường 10, Quận Tân Bình, Tp.HCM | T58: 0707592781 | U58: 0903631495 | V58: 0965745449 | X58: ABC@gmail.com | Y58: 19000053 | Z58: 26/06/2019 | AA58: LTT | AB58: 11/03/2019 | AD58: Bắc Giang | AF58: Huyện Hiệp Hoà | AJ58: KV3 | AM58: Tp. Hồ Chí Minh | AN58: Quận Gò Vấp | AO58: 19T40403 | AP58: Đang học | AQ58: 1 | AR58: 19T4-LTM1 | AS58: 21/05/2019 | AT58: 2019 | AU58: 2019 | AV58: Trung cấp | AW58: Chính quy 3 năm | AX58: Khoa Công nghệ Thông tin | AY58: Lập trình máy tính | AZ58: Lập trình máy tính | BA58: Trường Cao đẳng Lý Tự Trọng TPHCM
A59: 54 | B59: 19000054 | C59: Phan Đức | D59: Trường | E59: Nam | F59: 02/09/2003 | G59: Tp. Hồ Chí Minh | H59: Phan Trung Tuấn | J59: 0909039874 | K59: Bùi Thị Hà | M59: 0358378250 | N59: 19T4-LĐL1 | O59: Quảng Ngải | P59: Kinh | Q59: Phật Giáo | R59: 87/57/2/2 Nguyễn Sỹ Sách, phường 15, Quận Tân Bình, Tp. Hồ Chí Minh | S59: 87/57/2/2 Nguyễn Sỹ Sách, phường 15, Quận Tân Bình, Tp. Hồ Chí Minh | T59: 0352883275 | U59: 0909039874 | V59: 0358378250 | Y59: 051203000218 | Z59: 07/06/2018 | AA59: CCSĐKQL | AD59: Quảng Ngãi | AF59: Huyện Ba Tơ | AJ59: KV3 | AM59: Tp. Hồ Chí Minh | AN59: Quận Tân Bình | AO59: 19T40382 | AP59: Đang học | AQ59: 1 | AR59: 19T4-LĐL1 | AS59: 21/05/2019 | AT59: 2019 | AU59: 2019 | AV59: Trung cấp | AW59: Chính quy 3 năm | AX59: Khoa Nhiệt – Lạnh | AY59: Lắp đặt thiết bị lạnh | AZ59: Lắp đặt thiết bị lạnh | BA59: Trường Cao đẳng Lý Tự Trọng TPHCM
A60: 55 | B60: 19000055 | C60: Kha Trương Đại | D60: Phước | E60: Nam | F60: 31/07/2004 | G60: Tp. Hồ Chí Minh | H60: Kha Thành Hồng | I60: Buôn bán | K60: Trương Thị Hoàng Anh | L60: Buôn bán | N60: 19T4-TĐH1 | O60: Tp Hồ Chí Minh | P60: Hoa | Q60: Không | R60: 63/13 đường 702 Hồng Bàng, phường 1, quận 11, Tp.HCM | S60: 19/36 Dường Kinh Dương Vương, Phường 12,Quận 6 | T60: 0909678496 | U60: 0939935999 | X60: A@gmail.com | Y60: 19000055 | Z60: 01/06/2019 | AA60: Trường Lý Tự Trọng | AD60: Tp. Hồ Chí Minh | AF60: Quận 11 | AJ60: KV3 | AM60: Tp. Hồ Chí Minh | AN60: Quận 6 | AO60: 19T40414 | AP60: Đang học | AQ60: 1 | AR60: 19T4-TĐH1 | AS60: 21/05/2019 | AT60: 2019 | AU60: 2019 | AV60: Trung cấp | AW60: Chính quy 3 năm | AX60: Khoa Điện - Điện tử | AY60: Công nghệ kỹ thuật điều khiển tự động | AZ60: Công nghệ kỹ thuật điều khiển tự động | BA60: Trường Cao đẳng Lý Tự Trọng TPHCM
A61: 56 | B61: 19000056 | C61: Bành Nguyễn Cao | D61: Minh | E61: Nam | F61: 17/07/2004 | G61: Tp. Hồ Chí Minh | H61: Bành Cao Hải | I61: Công nhân | J61: 0396433728 | K61: Nguyễn Thị Tuyết | L61: Công nhân | M61: 0932739606 | N61: 19T4-CNÔ1 | O61: Tp. Hồ Chí Minh | P61: Kinh | Q61: Phật Giáo | R61: 445/1 đường Phan Huy Ích, phường 14, quận Gò Vấp | S61: 445/1 ĐƯỜNG PHAN HUY ÍCH PHƯỜNG 14 QUẬN GÒ VẤP | T61: 0932739606 | Y61: 079204017838 | Z61: 07/05/2019 | AA61: CTCCSĐKQLHCVTTXH | AD61: Tp. Hồ Chí Minh | AF61: Quận Gò Vấp | AJ61: KV3 | AM61: Tp. Hồ Chí Minh | AN61: Quận Gò Vấp | AO61: 19T40443 | AP61: Đang học | AQ61: 1 | AR61: 19T4-CNÔ1 | AS61: 21/05/2019 | AT61: 2019 | AU61: 2019 | AV61: Trung cấp | AW61: Chính quy 3 năm | AX61: Khoa Động lực | AY61: Công nghệ ô tô | AZ61: Công nghệ ô tô | BA61: Trường Cao đẳng Lý Tự Trọng TPHCM
A62: 57 | B62: 19000057 | C62: Võ Trường | D62: Duy | E62: Nam | F62: 04/02/2004 | G62: Tp. Hồ Chí Minh | H62: Võ Tiến Trung | I62: Xe ôm | J62: 0772662547 | K62: Nguyễn Thị Xuân Lợi | L62: Nội trợ | N62: 19T4-NNA1 | O62: Tp. Hồ Chí Minh | P62: Kinh | Q62: Phật Giáo | R62: 956/4 Âu Cơ, P.14, Q.Tân Bình, Tp HCM | S62: 956/4 Âu Cơ, P.14, Q.Tân Bình, Tp HCM | T62: 0772662547 | X62: duytruong2607@gmail.com | Y62: 0762803064 | Z62: 01/05/2019 | AA62: CA. Tp.HCM | AD62: Tp. Hồ Chí Minh | AF62: Quận Tân Bình | AJ62: KV3 | AM62: Tp. Hồ Chí Minh | AN62: Quận Tân Bình | AO62: 19T40317 | AP62: Đang học | AQ62: 1 | AR62: 19T4-NNA1 | AS62: 21/05/2019 | AT62: 2019 | AU62: 2019 | AV62: Trung cấp | AW62: Chính quy 3 năm | AX62: Khoa Khoa học cơ bản | AY62: Tiếng Anh | AZ62: Tiếng Anh | BA62: Trường Cao đẳng Lý Tự Trọng TPHCM
A63: 58 | B63: 19000058 | C63: Huỳnh Phước | D63: Quang | E63: Nam | F63: 18/09/2004 | G63: Tây Ninh | H63: Huỳnh Phước Huy | I63: Công nhân | J63: 0989664058 | K63: Nguyễn Thị Thu | L63: Công nhân | M63: 0398388526 | N63: 19T4-BCN1 | O63: Tây Ninh | P63: Kinh | Q63: Cao Đài | R63: xã An Cơ, Huyện Châu Thành, tỉnh Tây Ninh | S63: 66/19/34/7 Trần Văn Quang, Phường 10, Quận Tân Bình, Tp.HCM | T63: 0989664058 | U63: 0937348584 | V63: 0398388526 | X63: ABC@gmail.com | Y63: 19000058 | Z63: 26/06/2019 | AA63: LTT | AD63: Tây Ninh | AF63: Huyện Châu Thành | AJ63: KV2 | AL63: Trung học cơ sở | AM63: Tây Ninh | AN63: Huyện Châu Thành | AO63: 19T40467 | AP63: Đang học | AQ63: 1 | AR63: 19T4-BCN1 | AS63: 21/05/2019 | AT63: 2019 | AU63: 2019 | AV63: Trung cấp | AW63: Chính quy 3 năm | AX63: Khoa Cơ khí | AY63: Bảo trì hệ thống thiết bị công nghiệp | AZ63: Bảo trì hệ thống thiết bị công nghiệp | BA63: Trường Cao đẳng Lý Tự Trọng TPHCM
A64: 59 | B64: 19000059 | C64: Đặng Hồ Vũ | D64: Lâm | E64: Nam | F64: 30/09/1999 | G64: Bình Thuận | H64: Đặng Ngọc Vũ | I64: Tài xế | J64: 0918590373 | K64: Hồ Thị Tính | L64: Nội trợ | M64: 0949396345 | N64: 19C1-CNÔ1 | O64: Bình Thuận | P64: Kinh | Q64: Phật Giáo | R64: Khu Phố Long Sơn , Phường Mũi Né , Thành Phố Phan Thiết , Tỉnh Bình Thuận | S64: 20/11 Nguyễn Thị Thập, Phường Bình Thuận , Quận 7, Tp.HCM | T64: 0986857720 | Y64: 261543079 | Z64: 17/12/2014 | AA64: CA Bình Thuận | AD64: Bình Thuận | AE64: THPT Bùi Thị Xuân | AF64: Thành phố Phan Thiết | AJ64: KV2 | AM64: Bình Thuận | AN64: Thành phố Phan Thiết | AO64: 19C10322 | AP64: Đang học | AQ64: 1 | AR64: 19C1-CNÔ1 | AS64: 21/05/2019 | AT64: 2019 | AU64: 2019 | AV64: Cao đẳng | AW64: Chính quy 2 năm | AX64: Khoa Động lực | AY64: Công nghệ ô tô | AZ64: Công nghệ ô tô | BA64: Trường Cao đẳng Lý Tự Trọng TPHCM
A65: 60 | B65: 19000060 | C65: Nguyễn Anh | D65: Hào | E65: Nam | F65: 08/06/2004 | G65: Tp. Hồ Chí Minh | H65: Nguyễn Quang Minh | I65: Công nhân | J65: 0918689936 | K65: Nguyễn Tuyết Loan | L65: Công nhân | M65: 0918454523 | N65: 19T4-QTD1 | O65: Tp. Hồ Chí Minh | P65: Kinh | Q65: Công Giáo | R65: 11 Đường Số 6, P.15, Q. Gò Vấp, TPHCM | S65: 11 Đường Số 6, P.15, Q. Gò Vấp, TPHCM | T65: 0918454623 | U65: 0918689936 | V65: 0918454623 | Y65: 0792041013066 | Z65: 13/02/2019 | AA65: CTCCSQLHCVTTXH | AD65: Tp. Hồ Chí Minh | AF65: Quận Gò Vấp | AJ65: KV3 | AM65: Tp. Hồ Chí Minh | AN65: Quận Gò Vấp | AO65: 19T40173 | AP65: Đang học | AQ65: 1 | AR65: 19T4-QTD1 | AS65: 21/05/2019 | AT65: 2019 | AU65: 2019 | AV65: Trung cấp | AW65: Chính quy 3 năm | AX65: Khoa Kinh tế | AY65: Quản trị doanh nghiệp | AZ65: Quản trị doanh nghiệp | BA65: Trường Cao đẳng Lý Tự Trọng TPHCM
A66: 61 | B66: 19000061 | C66: Nguyễn Phan Hoàng | D66: Phúc | E66: Nam | F66: 08/05/1994 | G66: Bình Thuận | H66: Nguyễn Thanh Hùng | I66: Tự do | J66: 0913837490 | K66: Phan Thị Xuân Thảo | L66: Giáo viên | M66: 0984300900 | N66: 19C1-TĐH1 | O66: Bình Thuận | P66: Kinh | Q66: Không | R66: 194 Nguyễn Huệ, khu phố 7, thị trấn Liên Hương, Tỉnh Bình Thuận | S66: 84/19C Đường Số 2, Tân Quy, Quận 7, Tp.HCM | T66: 0394295512 | Y66: 261263101 | Z66: 23/07/2015 | AA66: C.a Binh Thuận | AD66: Bình Thuận | AE66: THPT Chuyên Trần Hưng Đạo | AF66: Huyện Tuy Phong | AJ66: KV2 | AM66: Bình Thuận | AN66: Huyện Tuy Phong | AO66: 19C10151 | AP66: Đang học | AQ66: 1 | AR66: 19C1-TĐH1 | AS66: 21/05/2019 | AT66: 2019 | AU66: 2019 | AV66: Cao đẳng | AW66: Chính quy 2 năm | AX66: Khoa Điện - Điện tử | AY66: Công nghệ kỹ thuật điều khiển và tự động hóa | AZ66: Công nghệ kỹ thuật điều khiển và tự động hóa | BA66: Trường Cao đẳng Lý Tự Trọng TPHCM
A67: 62 | B67: 19000062 | C67: Lê Đăng | D67: Hoàng | E67: Nam | F67: 30/10/2001 | G67: Bình Phước | H67: Lê Đăng Phương | I67: Giáo viên | J67: 0974830844 | K67: Đào Đức Hạnh | L67: Nông dân | M67: 0868414948 | N67: 19T4-ĐĐT1 | O67: Bình Phước | P67: Kinh | Q67: Không | R67: Tổ 1 - An Hòa - Thanh An - Hớn Quản - Bình Phước. | S67: 66/19/34/7 Trần Văn Quang, Phường 10, Quận Tân Bình, Tp.HCM | T67: 0346211309 | U67: 0974830844 | V67: 0868414948 | X67: ABC@gmail.com | Y67: 19000062 | Z67: 26/06/2019 | AA67: LTT | AD67: Bình Phước | AF67: Huyện Hớn Quản | AJ67: KV1 | AM67: Bình Phước | AN67: Huyện Hớn Quản | AO67: 19T40065 | AP67: Đang học | AQ67: 1 | AR67: 19T4-ĐĐT1 | AS67: 22/05/2019 | AT67: 2019 | AU67: 2019 | AV67: Trung cấp | AW67: Chính quy 3 năm | AX67: Khoa Điện - Điện tử | AY67: Công nghệ kỹ thuật điện, điện tử | AZ67: Công nghệ kỹ thuật điện, điện tử | BA67: Trường Cao đẳng Lý Tự Trọng TPHCM
A68: 63 | B68: 19000063 | C68: Bùi Minh | D68: Tuấn | E68: Nam | F68: 09/04/2004 | G68: Tp. Hồ Chí Minh | K68: Huỳnh Thị Loan | M68: 0778957963 | N68: 19T4-ĐCN1 | O68: Tp. Hồ Chí Minh | P68: Kinh | Q68: Phật Giáo | R68: 377/43E, CMT8, Phường 13, Quận 10, Tp.HCM | S68: 377/43E, CMT8, Phường 13, Quận 10, Tp.HCM | T68: 01656417010 | Y68: 079204002825 | Z68: 09/07/2018 | AA68: CCS | AD68: Tp. Hồ Chí Minh | AF68: Quận 10 | AJ68: KV3 | AM68: Tp. Hồ Chí Minh | AN68: Quận 10 | AO68: 19T40491 | AP68: Đang học | AQ68: 1 | AR68: 19T4-ĐCN1 | AS68: 22/05/2019 | AT68: 2019 | AU68: 2019 | AV68: Trung cấp | AW68: Chính quy 3 năm | AX68: Khoa Điện - Điện tử | AY68: Điện công nghiệp | AZ68: Điện công nghiệp | BA68: Trường Cao đẳng Lý Tự Trọng TPHCM
A69: 64 | B69: 19000064 | C69: Xa Đồng | D69: Phúc | E69: Nam | F69: 09/10/2003 | G69: Quảng Ngãi | H69: Xa Đồng Phát | I69: Sữa xe | J69: 0936758958 | K69: Nguyễn Thị Phương | L69: Thợ may | M69: 0902280063 | N69: 19T4-CNÔ1 | O69: Quảng Ngãi | P69: Kinh | Q69: Không | R69: 38/23 đường số 18 B; KP 10; phường Bình Hưng Hòa A; quận Bình Tân; Tp.Hồ Chí Minh | S69: 38/23 đường số 18 B; KP 10; phường Bình Hưng Hòa A; quận Bình Tân; Tp.Hồ Chí Minh | T69: 0936758958 | Y69: 051203000228 | Z69: 12/06/2018 | AA69: CA. Tp.HCM | AD69: Quảng Ngãi | AF69: Huyện Tư Nghĩa | AJ69: KV3 | AM69: Quảng Ngãi | AN69: Huyện Tư Nghĩa | AO69: 19T40045 | AP69: Đang học | AQ69: 1 | AR69: 19T4-CNÔ1 | AS69: 22/05/2019 | AT69: 2019 | AU69: 2019 | AV69: Trung cấp | AW69: Chính quy 3 năm | AX69: Khoa Động lực | AY69: Công nghệ ô tô | AZ69: Công nghệ ô tô | BA69: Trường Cao đẳng Lý Tự Trọng TPHCM
A70: 65 | B70: 19000065 | C70: Nguyễn Phú | D70: Huy | E70: Nam | F70: 27/07/2004 | G70: Tp. Hồ Chí Minh | H70: Nguyễn Phú Hiếu | I70: Tự do | K70: Nguyễn Thị Phương Tâm | L70: Kinh doanh | N70: 19T4-CNÔ4 | O70: Tp. Hồ Chí Minh | P70: Kinh | Q70: Phật Giáo | R70: 309/31 Võ Văn Ngân , Linh Chiểu, Thủ Đức, | S70: 66/19/34/7 Trần Văn Quang, Phường 10, Quận Tân Bình, Tp.HCM | T70: 0938808366 | U70: 0908863217 | X70: ABC@gmail.com | Y70: 0 | Z70: 26/06/2019 | AA70: LTT | AD70: Tp. Hồ Chí Minh | AF70: Quận Thủ Đức | AJ70: KV3 | AM70: Tp. Hồ Chí Minh | AN70: Quận Thủ Đức | AO70: 19T40216 | AP70: Đang học | AQ70: 1 | AR70: 19T4-CNÔ4 | AS70: 22/05/2019 | AT70: 2019 | AU70: 2019 | AV70: Trung cấp | AW70: Chính quy 3 năm | AX70: Khoa Động lực | AY70: Công nghệ ô tô | AZ70: Công nghệ ô tô | BA70: Trường Cao đẳng Lý Tự Trọng TPHCM
A71: 66 | B71: 19000066 | C71: Nguyễn Thanh | D71: Trung | E71: Nam | F71: 15/09/2004 | G71: Tp. Hồ Chí Minh | H71: Nguyễn Thanh Danh | I71: TỰ DO | J71: 0918557779 | K71: Lê Thị Kiều Nhi | L71: CNV | M71: 0919990579 | N71: 19T4-LTM1 | O71: Phường 8, Quận Phú Nhuận, TPHCM | P71: Kinh | Q71: Không | R71: 234 Đường số 6, Phường 7, Gò Vấp,TPHCM | S71: 234 Đường số 6, Phường 7, Gò Vấp,TPHCM | T71: 0938963099 | X71: trungnguyen234gv@gmail.com | Y71: 079204020949 | Z71: 13/06/2019 | AA71: CỤC TRƯỞNG CỤC CẢNH SÁT QUẢN LÝ HẢNH CHÍNH VỀ TRẬT TỰ XÃ HÔI | AD71: Tp. Hồ Chí Minh | AF71: Quận Phú Nhuận | AJ71: KV3 | AM71: Tp. Hồ Chí Minh | AN71: Quận Gò Vấp | AO71: 19T40500 | AP71: Đang học | AQ71: 1 | AR71: 19T4-LTM1 | AS71: 22/05/2019 | AT71: 2019 | AU71: 2019 | AV71: Trung cấp | AW71: Chính quy 3 năm | AX71: Khoa Công nghệ Thông tin | AY71: Lập trình máy tính | AZ71: Lập trình máy tính | BA71: Trường Cao đẳng Lý Tự Trọng TPHCM
A72: 67 | B72: 19000067 | C72: Trịnh Đức | D72: Anh | E72: Nam | F72: 26/02/2004 | G72: Thanh Hoá | H72: Trịnh Đình Phúc | I72: Kinh doanh BĐS | J72: 0988616433 | K72: Lường Thị Hồng | L72: Nội trợ | M72: 0964918276 | N72: 19T4-TKW1 | O72: Thanh Hoá | P72: Kinh | Q72: Không | R72: Thôn Lam Vĩ, Xã Thiệu Vũ, Huyện Thiệu Hóa, Tỉnh Thanh Hóa | S72: 66/19/34/7 Trần Văn Quang, Phường 10, Quận Tân Bình, Tp.HCM | T72: 0964918276 | X72: ABC@gmail.com | Y72: 19000067 | Z72: 26/06/2019 | AA72: LTT | AD72: Thanh Hoá | AF72: Huyện Thiệu Hoá | AJ72: KV3 | AM72: Thanh Hoá | AN72: Huyện Thiệu Hoá | AO72: 19T40482 | AP72: Đang học | AQ72: 1 | AR72: 19T4-TKW1 | AS72: 22/05/2019 | AT72: 2019 | AU72: 2019 | AV72: Trung cấp | AW72: Chính quy 3 năm | AX72: Khoa Công nghệ Thông tin | AY72: Thiết kế trang Web | AZ72: Thiết kế trang Web | BA72: Trường Cao đẳng Lý Tự Trọng TPHCM
A73: 68 | B73: 19000068 | C73: Nguyễn Phương | D73: Nam | E73: Nam | F73: 22/09/2004 | G73: Tp. Hồ Chí Minh | H73: Nguyễn Hồng Phương | I73: Lái xe | J73: 0981806689 | K73: Nguyễn Thị Vân | L73: Kế toán | M73: 0962485759 | N73: 19T4-ĐCN1 | O73: Tp. Hồ Chí Minh | P73: Kinh | Q73: Không | R73: Tổ 5, Khu 12, Long Đức, Long Thành, Đồng Nai | S73: 61/33 Phạm Văn Chiêu, Phường 14, Quận Gò Vấp, Tp.HCM | T73: 0962485759 | Y73: 0983011427 | Z73: 23/05/2019 | AA73: Thành phố Hồ Chỉ Minh | AD73: Hà Tĩnh | AF73: Huyện Đức Thọ | AJ73: KV3 | AM73: Tp. Hồ Chí Minh | AN73: Huyện Hóc Môn | AO73: 19T40199 | AP73: Đang học | AQ73: 1 | AR73: 19T4-ĐCN1 | AS73: 22/05/2019 | AT73: 2019 | AU73: 2019 | AV73: Trung cấp | AW73: Chính quy 3 năm | AX73: Khoa Điện - Điện tử | AY73: Điện công nghiệp | AZ73: Điện công nghiệp | BA73: Trường Cao đẳng Lý Tự Trọng TPHCM
A74: 69 | B74: 19000069 | C74: Phùng Minh | D74: Nhật | E74: Nam | F74: 22/08/2004 | G74: Tp. Hồ Chí Minh | H74: Phùng Hữu Tiến | I74: Giáo viên | J74: 0918255442 | K74: Lê Thị Kim Thu | L74: Buôn bán | M74: 0938339690 | N74: 19T4-KML1 | O74: Tp. Hồ Chí Minh | P74: Kinh | Q74: Công Giáo | R74: 196/14 Nguyễn Thượng Hiền, phường 5, Quận Phú Nhuân, Tp.HCM | S74: 196/14 Nguyễn Thượng Hiền, phường 5, Quận Phú Nhuân, Tp.HCM | T74: 0918255442 | U74: 0918255442 | V74: 0938339690 | X74: abc@gmail.com | Y74: 077204000679 | Z74: 28/09/2018 | AA74: CUC CANH SAT | AD74: Nam Định | AF74: Huyện Nam Trực | AJ74: KV3 | AM74: Tp. Hồ Chí Minh | AN74: Quận Phú Nhuận | AO74: 19T40503 | AP74: Đang học | AQ74: 1 | AR74: 19T4-KML1 | AS74: 22/05/2019 | AT74: 2019 | AU74: 2019 | AV74: Trung cấp | AW74: Chính quy 3 năm | AX74: Khoa Nhiệt – Lạnh | AY74: Kỹ thuật máy lạnh và điều hòa không khí | AZ74: Kỹ thuật máy lạnh và điều hòa không khí | BA74: Trường Cao đẳng Lý Tự Trọng TPHCM
A75: 70 | B75: 19000070 | C75: Nguyễn Hùng | D75: Mạnh | E75: Nam | F75: 01/08/2004 | G75: Tp. Hồ Chí Minh | H75: Nguyễn Văn Hùng | I75: Công Nhân | J75: 0908925350 | K75: Huỳnh Thị Thanh | L75: Nội trợ | M75: 0968319901 | N75: 19T4-CNÔ1 | O75: Hoài Xuân, Hoài Nhơn, Bình Đinh | P75: Kinh | Q75: Không | R75: 72/2A, Tổ 66B, Khu Phố 6, PTTN, Q.12, TPHCM | S75: 72/2A, Tổ 66B, Khu Phố 6, PTTN, Q.12, TPHCM | T75: 0908925350 | Y75: 19000070 | Z75: 22/05/2019 | AA75: TCĐLTT | AD75: Bình Định | AF75: Huyện Hoài Nhơn | AJ75: KV3 | AM75: Tp. Hồ Chí Minh | AN75: Quận 12 | AO75: 19T40241 | AP75: Đang học | AQ75: 1 | AR75: 19T4-CNÔ1 | AS75: 22/05/2019 | AT75: 2019 | AU75: 2019 | AV75: Trung cấp | AW75: Chính quy 3 năm | AX75: Khoa Động lực | AY75: Công nghệ ô tô | AZ75: Công nghệ ô tô | BA75: Trường Cao đẳng Lý Tự Trọng TPHCM
A76: 71 | B76: 19000071 | C76: Nguyễn Tấn | D76: Thịnh | E76: Nam | F76: 13/10/2004 | G76: Tp. Hồ Chí Minh | H76: Nguyễn Tấn Hưng | I76: Tài xế | J76: 0914749804 | K76: Võ Thị Công Lập | L76: Nội trợ | N76: 19T4-CNÔ1 | O76: Tp. Hồ Chí Minh | P76: Kinh | Q76: Không | R76: 1057 Nguyễn Ảnh Thủ F Tân Chính Hiệp Q12 | S76: 66/19/34/7 Trần Văn Quang, Phường 10, Quận Tân Bình, Tp.HCM | T76: 0913749804 | X76: ABC@gmail.com | Y76: 19000071 | Z76: 26/06/2019 | AA76: LTT | AD76: Quảng Ngãi | AF76: Huyện Bình Sơn | AJ76: KV3 | AM76: Tp. Hồ Chí Minh | AN76: Quận Phú Nhuận | AO76: 19T40281 | AP76: Đang học | AQ76: 1 | AR76: 19T4-CNÔ1 | AS76: 22/05/2019 | AT76: 2019 | AU76: 2019 | AV76: Trung cấp | AW76: Chính quy 3 năm | AX76: Khoa Động lực | AY76: Công nghệ ô tô | AZ76: Công nghệ ô tô | BA76: Trường Cao đẳng Lý Tự Trọng TPHCM
A77: 72 | B77: 19000072 | C77: Nguyễn Hoàng | D77: Kha | E77: Nam | F77: 28/09/2004 | G77: Tp. Hồ Chí Minh | H77: Nguyễn Hoàng Tùng | I77: Tài Xế | J77: 0933312242 | K77: Nguyễn Thị Cẩm | L77: Nội trợ | M77: 0938486242 | N77: 19T4-CCK1 | O77: Tp. Hồ Chí Minh | P77: Kinh | Q77: Không | R77: 231/57/70 Bình Tiên, Phường 8, Quận 6, TPHCM | S77: 231/57/70 Bình Tiên, Phường 8, Quận 6, TPHCM | T77: 0933312242 | U77: 0938486242 | X77: nguyenhoangkha2809@gmail.com | Y77: 079204013234 | Z77: 19/02/2019 | AA77: CA. TpHCM | AD77: Tp. Hồ Chí Minh | AF77: Quận 6 | AI77: 231/57/70 Bình Tiên | AJ77: KV3 | AL77: Trung học cơ sở | AM77: Tp. Hồ Chí Minh | AN77: Quận 6 | AO77: 19T40149 | AP77: Đang học | AQ77: 1 | AR77: 19T4-CCK1 | AS77: 22/05/2019 | AT77: 2019 | AU77: 2019 | AV77: Trung cấp | AW77: Chính quy 3 năm | AX77: Khoa Cơ khí | AY77: Công nghệ kỹ thuật cơ khí | AZ77: Công nghệ kỹ thuật cơ khí | BA77: Trường Cao đẳng Lý Tự Trọng TPHCM
A78: 73 | B78: 19000073 | C78: Nguyễn Tuấn | D78: Thành | E78: Nam | F78: 15/04/2004 | G78: Tp. Hồ Chí Minh | H78: Nguyễn Văn Hòa | I78: Thêu vi tính | J78: 0986446119 | K78: Bùi Thị Hương | L78: Thêu vi tính | M78: 0988449119 | N78: 19T4-CNÔ1 | O78: Tp. Hồ Chí Minh | P78: Kinh | Q78: Không | R78: xã Tiên Lương, huyện Cẩm Khê, tỉnh Phú Thọ | S78: 688/19 Đường Tân Kỳ Tân Qúi, Phường Bình Hưng Hòa, Quận Bình Tân, Tp.HCM | T78: 0986449119 | Y78: 132453895 | Z78: 05/06/2018 | AA78: Phú Thọ | AD78: Phú Thọ | AF78: Huyện Cẩm Khê | AJ78: KV3 | AM78: Tp. Hồ Chí Minh | AN78: Quận Bình Tân | AO78: 19T40158 | AP78: Đang học | AQ78: 1 | AR78: 19T4-CNÔ1 | AS78: 23/05/2019 | AT78: 2019 | AU78: 2019 | AV78: Trung cấp | AW78: Chính quy 3 năm | AX78: Khoa Động lực | AY78: Công nghệ ô tô | AZ78: Công nghệ ô tô | BA78: Trường Cao đẳng Lý Tự Trọng TPHCM
A79: 74 | B79: 19000074 | C79: Võ Lân Đông | D79: Trúc | E79: Nam | F79: 21/10/2004 | G79: Tp. Hồ Chí Minh | H79: Võ Thụy Nhi Lân | I79: Xây dựng | J79: 0977683379 | K79: Nguyễn Thị Đặng | L79: Nội trợ | M79: 0974765030 | N79: 19T4-CNÔ1 | O79: Long Khánh, Bến Cầu, Tây Ninh | P79: Kinh | Q79: Không | R79: 46 Hoàng Văn Hòe, P.Tân Quý, Q.Tân Phú, TpHCM | S79: 56/12 Đường số 13, P Bình Hưng Hòa, Q BÌnh Tân, TPHCM | T79: 0966547300 | U79: 0977683379- 0974765030 | Y79: 072204000468 | Z79: 12/11/2018 | AA79: CA TPHCM | AD79: Tp. Hồ Chí Minh | AF79: Quận Bình Tân | AG79: P.Tân Quý | AI79: 46 Hoàng Văn Hòe | AJ79: KV3 | AL79: Trung học cơ sở | AM79: Tp. Hồ Chí Minh | AN79: Quận Tân Phú | AO79: 19T40214 | AP79: Đang học | AQ79: 1 | AR79: 19T4-CNÔ1 | AS79: 23/05/2019 | AT79: 2019 | AU79: 2019 | AV79: Trung cấp | AW79: Chính quy 3 năm | AX79: Khoa Động lực | AY79: Công nghệ ô tô | AZ79: Công nghệ ô tô | BA79: Trường Cao đẳng Lý Tự Trọng TPHCM
A80: 75
A81: 76 | B81: 19000076 | C81: Nguyễn Thái Trung | D81: Nguyên | E81: Nam | F81: 16/01/2000 | G81: Tp. Hồ Chí Minh | H81: Nguyễn Quốc Hùng | K81: Thái Thị Mỹ Nga | M81: 0938945853 | N81: 19C1-CNÔ1 | O81: Tp. Hồ Chí Minh | P81: Kinh | Q81: Không | R81: 23/2 Đặng Văn Ngữ, phường 10, quận Phú Nhuận, Tp.HCM | S81: 80/9 Huỳnh Văn Nghệ, Phường 15, Quận Tân Bình, Tp.HCM | T81: 0707271375 | U81: 0938945853 | X81: nguyenthaitrungnguyen171@gmail.com | Y81: 026090761 | Z81: 24/10/2015 | AA81: CA. Tp.HCM | AD81: Tây Ninh | AE81: THCS và THPT Đăng Khoa | AF81: Huyện Bến Cầu | AJ81: KV3 | AM81: Tp. Hồ Chí Minh | AN81: Quận Phú Nhuận | AO81: 19C10533 | AP81: Đang học | AQ81: 1 | AR81: 19C1-CNÔ1 | AS81: 23/05/2019 | AT81: 2019 | AU81: 2019 | AV81: Cao đẳng | AW81: Chính quy 2 năm | AX81: Khoa Động lực | AY81: Công nghệ ô tô | AZ81: Công nghệ ô tô | BA81: Trường Cao đẳng Lý Tự Trọng TPHCM
A82: 77 | B82: 19000077 | C82: Trần Nhật | D82: Quang | E82: Nam | F82: 14/07/2004 | G82: Đồng Nai | K82: Quách Thị Thúy Nga | L82: Thợ tóc | M82: 0985487168 | N82: 19T4-NNA1 | O82: Đồng Nai | P82: Kinh | Q82: Không | R82: Xã Bắc Sơn, Trảng Bom, Đồng Nai | S82: Xã Bắc Sơn, Trảng Bom, Đồng Nai | T82: 0985487168 | Y82: 2760181480 | Z82: 26/03/2019 | AA82: Đồng Nai | AD82: Đồng Nai | AF82: Huyện Trảng Bom | AJ82: KV1 | AM82: Đồng Nai | AN82: Huyện Trảng Bom | AO82: 19T40324 | AP82: Đang học | AQ82: 1 | AR82: 19T4-NNA1 | AS82: 23/05/2019 | AT82: 2019 | AU82: 2019 | AV82: Trung cấp | AW82: Chính quy 3 năm | AX82: Khoa Khoa học cơ bản | AY82: Tiếng Anh | AZ82: Tiếng Anh | BA82: Trường Cao đẳng Lý Tự Trọng TPHCM
A83: 78 | B83: 19000078 | C83: Lưu Dân | D83: Hiếu | E83: Nam | F83: 17/12/2002 | G83: Tp. Hồ Chí Minh | N83: 19T4-CCK1 | O83: Tp. Hồ Chí Minh | P83: Kinh | R83: 10/23B Cống Lỡ, Phường 15, QuậnTân Bình, TPHCM | T83: 0707197573 | Y83: 0792020292839 | AD83: Tp. Hồ Chí Minh | AF83: Quận Tân Bình | AI83: 10/23B Cống Lỡ | AJ83: KV3 | AL83: Trung học cơ sở | AM83: Tp. Hồ Chí Minh | AN83: Quận Tân Bình | AO83: 19T40397 | AP83: Đang học | AQ83: 1 | AR83: 19T4-CCK1 | AS83: 23/05/2019 | AT83: 2019 | AU83: 2019 | AV83: Trung cấp | AW83: Chính quy 3 năm | AX83: Khoa Cơ khí | AY83: Công nghệ kỹ thuật cơ khí | AZ83: Công nghệ kỹ thuật cơ khí | BA83: Trường Cao đẳng Lý Tự Trọng TPHCM
A84: 79 | B84: 19000079 | C84: Nguyễn Nhật | D84: Quang | E84: Nam | F84: 10/08/2001 | G84: Bến Tre | N84: 19C1-CNÔ1 | P84: Kinh | R84: 135 ấp Tân Mỹ, xã Tân Bình, Mỏ Cày Bắc, tỉnh Bến Tre | T84: 0382045991 | Y84: 321766622 | AE84: THPT Quản Trọng Hoàng | AJ84: KV2-NT | AM84: Bến Tre | AN84: Huyện Mỏ Cày Bắc | AO84: 19C10530 | AP84: Đang học | AQ84: 1 | AR84: 19C1-CNÔ1 | AS84: 23/05/2019 | AT84: 2019 | AU84: 2019 | AV84: Cao đẳng | AW84: Chính quy 2 năm | AX84: Khoa Động lực | AY84: Công nghệ ô tô | AZ84: Công nghệ ô tô | BA84: Trường Cao đẳng Lý Tự Trọng TPHCM
A85: 80 | B85: 19000080 | C85: Vũ Quang | D85: Cường | E85: Nam | F85: 23/11/2003 | G85: Tp. Hồ Chí Minh | H85: Vũ Quang Mạnh | I85: Tài xế | J85: 0919127209 | K85: Lê Thị Hà | L85: Thợ May | M85: 0986108309 | N85: 19T4-CNÔ1 | O85: Tp. Hồ Chí Minh | P85: Kinh | Q85: Không | R85: Thôn Bến, Xã Thanh Thuỷ, Huyện Thanh Liêm, Tỉnh Hà Nam | S85: 32/23/5 Liên Khu 4-5, Phường Bình Hưng Hòa B, Quận Tân Bình, Tp.HCM | T85: 0986108309 | Y85: 035203000671 | Z85: 18/07/2018 | AA85: CA.Hà Nam | AD85: Hà Nam | AF85: Huyện Thanh Liêm | AJ85: KV3 | AM85: Tp. Hồ Chí Minh | AN85: Quận Bình Tân | AO85: 19T40383 | AP85: Đang học | AQ85: 1 | AR85: 19T4-CNÔ1 | AS85: 23/05/2019 | AT85: 2019 | AU85: 2019 | AV85: Trung cấp | AW85: Chính quy 3 năm | AX85: Khoa Động lực | AY85: Công nghệ ô tô | AZ85: Công nghệ ô tô | BA85: Trường Cao đẳng Lý Tự Trọng TPHCM
A86: 81 | B86: 19000081 | C86: Nguyễn Hùng | D86: Cường | E86: Nam | F86: 30/10/2004 | G86: Tp. Hồ Chí Minh | H86: Nguyễn Hùng Ân | I86: Nhân viên | J86: 0908932202 | K86: Phan Thị Phương Thảo | L86: Nhân viên | M86: 0899463524 | N86: 19T4-LĐL1 | O86: Tp. Hồ Chí Minh | P86: Kinh | Q86: Không | R86: 326 Phạm Văn Bạch, Phường 15, Quận Tân Bình, TPHCM | S86: 66/19/34/7 Trần Văn Quang, Phường 10, Quận Tân Bình, Tp.HCM | T86: 0908932202 | U86: 0899463524 | X86: ABC@gmail.com | Y86: 19000081 | Z86: 26/06/2019 | AA86: LTT | AD86: Ninh Bình | AF86: Huyện Gia Viễn | AJ86: KV3 | AM86: Tp. Hồ Chí Minh | AN86: Quận Tân Bình | AO86: 19T40329 | AP86: Đang học | AQ86: 1 | AR86: 19T4-LĐL1 | AS86: 23/05/2019 | AT86: 2019 | AU86: 2019 | AV86: Trung cấp | AW86: Chính quy 3 năm | AX86: Khoa Nhiệt – Lạnh | AY86: Lắp đặt thiết bị lạnh | AZ86: Lắp đặt thiết bị lạnh | BA86: Trường Cao đẳng Lý Tự Trọng TPHCM
A87: 82 | B87: 19000082 | C87: Nguyễn Cảnh | D87: Long | E87: Nam | F87: 05/12/2004 | G87: Tp. Hồ Chí Minh | H87: Nguyễn Cảnh Linh | J87: 0902151398 | K87: Nguyễn Thị Tuyết Mai | M87: 0905197938 | N87: 19T4-CNÔ1 | O87: Tp. Hồ Chí Minh | P87: Kinh | Q87: Không | R87: 87/27 Nguyễn Đình Chính, P15, Quận Phú Nhuận TPHCM | S87: 66/19/34/7 Trần Văn Quang, Phường 10, Quận Tân Bình, Tp.HCM | T87: 0902515298 | X87: ABC@gmail.com | Y87: 19000082 | Z87: 26/06/2019 | AA87: LTT | AD87: Tp. Hồ Chí Minh | AF87: Quận Phú Nhuận | AJ87: KV3 | AM87: Tp. Hồ Chí Minh | AN87: Quận Phú Nhuận | AO87: 19T40264 | AP87: Đang học | AQ87: 1 | AR87: 19T4-CNÔ1 | AS87: 23/05/2019 | AT87: 2019 | AU87: 2019 | AV87: Trung cấp | AW87: Chính quy 3 năm | AX87: Khoa Động lực | AY87: Công nghệ ô tô | AZ87: Công nghệ ô tô | BA87: Trường Cao đẳng Lý Tự Trọng TPHCM
A88: 83 | B88: 19000083 | C88: Trần Trọng | D88: Thoại | E88: Nam | F88: 24/06/1997 | G88: Tây Ninh | H88: Trần Văn Tiệp | I88: Nông dân | J88: 0975753478 | K88: Vương Thị Quyên | L88: Làm ruộng | M88: 01254535398 | N88: 19C1-CNÔ1 | O88: Tây Ninh | P88: Kinh | Q88: Không | R88: Số 6, ấp thuận chánh, xã lợi thuận, huyện bến cầu, tỉnh tây ninh | S88: Số 6, ấp thuận chánh, xã lợi thuận, huyện bến cầu, tỉnh tây ninh | T88: 0911429978 | U88: 0975753478 | V88: 01254535398 | Y88: 291154521 | Z88: 31/05/2012 | AA88: Công an tây ninh | AB88: 26/03/2014 | AC88: 22/02/2019 | AD88: Tây Ninh | AE88: THPT Nguyễn Huệ | AF88: Huyện Bến Cầu | AJ88: KV1 | AM88: Tây Ninh | AN88: Huyện Bến Cầu | AO88: 19C10304 | AP88: Đang học | AQ88: 1 | AR88: 19C1-CNÔ1 | AS88: 23/05/2019 | AT88: 2019 | AU88: 2019 | AV88: Cao đẳng | AW88: Chính quy 2 năm | AX88: Khoa Động lực | AY88: Công nghệ ô tô | AZ88: Công nghệ ô tô | BA88: Trường Cao đẳng Lý Tự Trọng TPHCM
A89: 84 | B89: 19000084 | C89: Lê Bảo | D89: Lộc | E89: Nam | F89: 27/01/1997 | G89: Tây Ninh | H89: Lê Tuấn Thành | I89: Làm nông | J89: 0984642336 | K89: Võ Thị Ngọc Loan | L89: Làm Nông | M89: 0383807774 | N89: 19C1-CNÔ1 | O89: Tây Ninh | P89: Kinh | Q89: Không | R89: 476,781, Phước Tân1, xã Phan, huyện Dương Minh Châu, tỉnh Tây Ninh | S89: 476,781,Phước Tân1,xã phan, Dương Minh Châu,Tây Ninh | T89: 0353153745 | X89: lebaoloc483@gmail.com | Y89: 072097002169 | Z89: 17/05/2017 | AA89: Cục trưởng cục cảnh sát DKQL cư trú vàDLQG về dân cư | AB89: 20/10/2012 | AD89: Tây Ninh | AE89: THPT Dương Minh Châu | AF89: Huyện Dương Minh Châu | AJ89: KV2-NT | AM89: Tây Ninh | AN89: Huyện Dương Minh Châu | AO89: 19C10315 | AP89: Đang học | AQ89: 1 | AR89: 19C1-CNÔ1 | AS89: 23/05/2019 | AT89: 2019 | AU89: 2019 | AV89: Cao đẳng | AW89: Chính quy 2 năm | AX89: Khoa Động lực | AY89: Công nghệ ô tô | AZ89: Công nghệ ô tô | BA89: Trường Cao đẳng Lý Tự Trọng TPHCM
A90: 85 | B90: 19000085 | C90: Huỳnh Thanh | D90: Tuấn | E90: Nam | F90: 02/04/2004 | G90: Tp. Hồ Chí Minh | H90: Huỳnh Thanh Tùng | I90: Thợ Hồ | J90: 0778875610 | K90: Trần Thị Thùy Dung | L90: Buôn bán | M90: 0869024942 | N90: 19T4-LTM1 | O90: Tp. Hồ Chí Minh | P90: Kinh | Q90: Không | R90: 114/38/2 Phạm Văn Chiêu, phường 9, Gò Vấp, TPHCM | S90: 66/19/34/7 Trần Văn Quang, Phường 10, Quận Tân Bình, Tp.HCM | T90: 0869024942 | X90: ABC@gmail.com | Y90: 19000085 | Z90: 26/06/2019 | AA90: LTT | AD90: Tp. Hồ Chí Minh | AF90: Quận Gò Vấp | AJ90: KV3 | AM90: Tp. Hồ Chí Minh | AN90: Quận Gò Vấp | AO90: 19T40469 | AP90: Đang học | AQ90: 1 | AR90: 19T4-LTM1 | AS90: 23/05/2019 | AT90: 2019 | AU90: 2019 | AV90: Trung cấp | AW90: Chính quy 3 năm | AX90: Khoa Công nghệ Thông tin | AY90: Lập trình máy tính | AZ90: Lập trình máy tính | BA90: Trường Cao đẳng Lý Tự Trọng TPHCM
A91: 86 | B91: 19000086 | C91: Giang Lê Đức | D91: Tâm | E91: Nam | F91: 07/07/2004 | G91: Tp. Hồ Chí Minh | H91: Giang Đức Thịnh | I91: Xây dựng | J91: 0902705262 | K91: Lê Thị Kim Điền | L91: Nội trợ | M91: 0939763932 | N91: 19T4-CNÔ1 | O91: Tp. Hồ Chí Minh | P91: Kinh | Q91: Phật Giáo | R91: 453 Lê Văn Sĩ, phường 2, quận Tân Bình, Tp.HCM | S91: 453 Lê văn sĩ phường 2 quận Tân Bình | T91: 0902705262 | U91: 0939763932 | X91: giangtam4003@gmail.com | Y91: 079204003088 | Z91: 12/07/2018 | AA91: cục trưởng cục cảnh sát | AD91: Tp. Hồ Chí Minh | AF91: Quận Tân Bình | AJ91: KV3 | AM91: Tp. Hồ Chí Minh | AN91: Quận Tân Bình | AO91: 19T40541 | AP91: Đang học | AQ91: 1 | AR91: 19T4-CNÔ1 | AS91: 23/05/2019 | AT91: 2019 | AU91: 2019 | AV91: Trung cấp | AW91: Chính quy 3 năm | AX91: Khoa Động lực | AY91: Công nghệ ô tô | AZ91: Công nghệ ô tô | BA91: Trường Cao đẳng Lý Tự Trọng TPHCM
A92: 87 | B92: 19000087 | C92: Trần Kim | D92: Bảo | E92: Nam | F92: 18/07/2004 | G92: Tp. Hồ Chí Minh | H92: Trần Hồng Ngự | K92: Huỳnh Thị Kim Hồng | L92: Nội trợ | M92: 0782117125 | N92: 19T4-CNÔ1 | O92: Tp. Hồ Chí Minh | P92: Kinh | Q92: Không | R92: 362/25/11 Phan Huy Ích, phường 12 | S92: 476,781,Phước Tân1,xã phan, Dương Minh Châu,Tây Ninh | T92: 353153745 | X92: lebaoloc483@gmail.com | Y92: 079204014928 | Z92: 25/06/2019 | AA92: Cục trưởng cục cảnh sát DKQL cư trú vàDLQG về dân cư | AD92: Tp. Hồ Chí Minh | AF92: Quận Gò Vấp | AJ92: KV3 | AM92: Tp. Hồ Chí Minh | AN92: Quận Gò Vấp | AO92: 19T40509 | AP92: Đang học | AQ92: 1 | AR92: 19T4-CNÔ1 | AS92: 23/05/2019 | AT92: 2019 | AU92: 2019 | AV92: Trung cấp | AW92: Chính quy 3 năm | AX92: Khoa Động lực | AY92: Công nghệ ô tô | AZ92: Công nghệ ô tô | BA92: Trường Cao đẳng Lý Tự Trọng TPHCM
A93: 88 | B93: 19000088 | C93: Lê Hoàng | D93: Phước | E93: Nam | F93: 17/11/2004 | G93: Tp. Hồ Chí Minh | H93: Lê Danh Quyết | J93: 0933427005 | K93: Nguyễn Thị Mát | L93: Thợ máy | M93: 0344391035 | N93: 19T4-LTM1 | O93: Tp. Hồ Chí Minh | P93: Kinh | Q93: Công Giáo | R93: 237/18 Trần Văn Đang, phường 11, quận 3, Tp.HCM | S93: 237/18 Trần Văn Đang, phường 11, quận 3, Tp.HCM | T93: 0327686133 | U93: 0933427005 | V93: 0344391035 | X93: lehoangphuoc04@gmail.com | Y93: 079204009790 | Z93: 17/12/2018 | AA93: CA. Tp.HCM | AD93: Nam Định | AF93: Huyện Ý Yên | AJ93: KV3 | AM93: Tp. Hồ Chí Minh | AN93: Quận 3 | AO93: 19T40537 | AP93: Đang học | AQ93: 1 | AR93: 19T4-LTM1 | AS93: 23/05/2019 | AT93: 2019 | AU93: 2019 | AV93: Trung cấp | AW93: Chính quy 3 năm | AX93: Khoa Công nghệ Thông tin | AY93: Lập trình máy tính | AZ93: Lập trình máy tính | BA93: Trường Cao đẳng Lý Tự Trọng TPHCM
A94: 89 | B94: 19000089 | C94: Vũ Hoàng | D94: Đạo | E94: Nam | F94: 22/10/2002 | G94: Tp. Hồ Chí Minh | H94: Vũ Hoàng Hiệp | K94: Võ Thị Phương Đông | N94: 19T4-KML1 | O94: binh chuan, thuan an, binh duong | P94: Kinh | Q94: Công Giáo | R94: 159/90/59 Trần Văn Đang, phường 11 | S94: 159/90/59 Trần Văn Đang, phường 11 | T94: 0988547860 | Y94: 074202000165 | Z94: 02/01/2019 | AA94: cong an Q3 TP HCM | AD94: Bình Dương | AF94: Thị xã Thuận An | AJ94: KV3 | AM94: Tp. Hồ Chí Minh | AN94: Quận 3 | AO94: 19T40384 | AP94: Đang học | AQ94: 1 | AR94: 19T4-KML1 | AS94: 23/05/2019 | AT94: 2019 | AU94: 2019 | AV94: Trung cấp | AW94: Chính quy 3 năm | AX94: Khoa Nhiệt – Lạnh | AY94: Kỹ thuật máy lạnh và điều hòa không khí | AZ94: Kỹ thuật máy lạnh và điều hòa không khí | BA94: Trường Cao đẳng Lý Tự Trọng TPHCM
A95: 90 | B95: 19000090 | C95: Nguyễn Trần Đức | D95: Duy | E95: Nam | F95: 11/01/2004 | G95: Tp. Hồ Chí Minh | H95: Nguyễn Đức Lợi | I95: Thợ Điện | J95: 0919690654 | K95: Trần Thị Thuận | L95: Nội Trợ | M95: 0906943597 | N95: 19T4-ANM1 | O95: Tp. Hồ Chí Minh | P95: Kinh | Q95: Không | R95: 190a Đỗ Bí, phường Phú Thạnh, quận Tân Phú, TPHCM | S95: 190a Đỗ Bí, phường Phú Thạnh, quận Tân Phú, Tp.HCM | T95: 0906943597 | U95: 0919690654 | Y95: 0793204000057 | Z95: 31/01/2018 | AA95: CA. Tp.HCM | AD95: Quảng Ngãi | AF95: Huyện Bình Sơn | AI95: 190a Đỗ Bí | AJ95: KV3 | AL95: Trung học cơ sở | AM95: Tp. Hồ Chí Minh | AN95: Quận Tân Phú | AO95: 19T40447 | AP95: Đang học | AQ95: 1 | AR95: 19T4-ANM1 | AS95: 23/05/2019 | AT95: 2019 | AU95: 2019 | AV95: Trung cấp | AW95: Chính quy 3 năm | AX95: Khoa Công nghệ Thông tin | AY95: An ninh mạng | AZ95: An ninh mạng | BA95: Trường Cao đẳng Lý Tự Trọng TPHCM
A96: 91 | B96: 19000091 | C96: Lý Ngô Bảo | D96: Nguyên | E96: Nữ | F96: 04/10/2004 | G96: Tp. Hồ Chí Minh | H96: Ngô Bil | I96: Tự do | J96: 0375111836 | K96: Lý Hòa Sinh | L96: Nội Trợ | M96: 0369210636 | N96: 19T4-THU1 | O96: Tp. Hồ Chí Minh | P96: Kinh | Q96: Không | R96: 528/5/44 Điện Biên Phủ p.11 q.10 tp HCM | S96: 120/6/2A Cống Lỡ, Phường 15, Quận Tân Bình, Tp.HCM | T96: 0375111836 | X96: baonguyenk89371@gmail.com | Y96: 079304007824 | Z96: 14/11/2018 | AA96: CÔNG AN QUẬN 10 | AD96: Sóc Trăng | AF96: Thị xã Vĩnh Châu | AJ96: KV3 | AM96: Tp. Hồ Chí Minh | AN96: Quận 10 | AO96: 19T40320 | AP96: Đang học | AQ96: 1 | AR96: 19T4-THU1 | AS96: 24/05/2019 | AT96: 2019 | AU96: 2019 | AV96: Trung cấp | AW96: Chính quy 3 năm | AX96: Khoa Công nghệ Thông tin | AY96: Tin học ứng dụng | AZ96: Tin học ứng dụng | BA96: Trường Cao đẳng Lý Tự Trọng TPHCM
A97: 92 | B97: 19000092 | C97: Nguyễn Bá Duy | D97: Thành | E97: Nam | F97: 28/09/2004 | G97: Tp. Hồ Chí Minh | N97: 19T4-VSL1 | P97: Kinh | R97: 9/12 Đường số 7, Cư xá Đô Thành, Phường 4, Quận 3, Tp.HCM | T97: 0904788095 | AJ97: KV3 | AM97: Tp. Hồ Chí Minh | AN97: Quận 3 | AO97: 19T40551 | AP97: Đang học | AQ97: 1 | AR97: 19T4-VSL1 | AS97: 24/05/2019 | AT97: 2019 | AU97: 2019 | AV97: Trung cấp | AW97: Chính quy 3 năm | AX97: Khoa Nhiệt – Lạnh | AY97: Vận hành, sửa chữa thiết bị lạnh | AZ97: Vận hành, sửa chữa thiết bị lạnh | BA97: Trường Cao đẳng Lý Tự Trọng TPHCM
A98: 93 | B98: 19000093 | C98: Trần Trí | D98: Lực | E98: Nam | F98: 25/12/2004 | G98: Tp. Hồ Chí Minh | H98: Trần Đình Đại | I98: Công nhân | J98: 0934106596 | K98: La Kim Hạnh | L98: Buôn bán | M98: 0376857527 | N98: 19T4-CNÔ1 | O98: Tp. Hồ Chí Minh | P98: Kinh | Q98: Phật Giáo | R98: 29 Nguyễn Định Chính p.15 q.Phú Nhuận | S98: 23/25 Nguyễn Đình Chính, Phường 15, Quận Phú Nhuận, Tp.HCM | T98: 0934106596 | Y98: 079204018312 | Z98: 04/06/2019 | AA98: công an quận phú nhuận | AD98: Bến Tre | AF98: Thành phố Bến Tre | AJ98: KV3 | AM98: Tp. Hồ Chí Minh | AN98: Quận Phú Nhuận | AO98: 19T40223 | AP98: Đang học | AQ98: 1 | AR98: 19T4-CNÔ1 | AS98: 24/05/2019 | AT98: 2019 | AU98: 2019 | AV98: Trung cấp | AW98: Chính quy 3 năm | AX98: Khoa Động lực | AY98: Công nghệ ô tô | AZ98: Công nghệ ô tô | BA98: Trường Cao đẳng Lý Tự Trọng TPHCM
A99: 94 | B99: 19000094 | C99: Nguyễn Ngọc Hoàng | D99: An | E99: Nữ | F99: 08/04/2004 | G99: Tp. Hồ Chí Minh | H99: Nguyễn Minh Hoàng | I99: Hưu trí | J99: 0907126019 | K99: Thiện Lê Hương | L99: Nội trợ | M99: 0938192619 | N99: 19T4-LTM1 | O99: Tp. Hồ Chí Minh | P99: Kinh | Q99: Không | R99: 487A Âu Cơ, phường 10, Quận Tân Bình, Tp. Hồ Chí Minh | S99: 487A Âu Cơ, phường 10, Quận Tân Bình, Tp. Hồ Chí Minh | T99: 0938192619 | U99: 0907126019 | V99: 0938192619 | X99: bhtt8469@gmail.com | Y99: 079304018860 | Z99: 21/05/2019 | AA99: cuc truong cuc canh sat TP HCM | AD99: Tp. Hồ Chí Minh | AF99: Quận Tân Bình | AM99: Tp. Hồ Chí Minh | AN99: Quận Tân Bình | AO99: 19T40394 | AP99: Đang học | AQ99: 1 | AR99: 19T4-LTM1 | AS99: 24/05/2019 | AT99: 2019 | AU99: 2019 | AV99: Trung cấp | AW99: Chính quy 3 năm | AX99: Khoa Công nghệ Thông tin | AY99: Lập trình máy tính | AZ99: Lập trình máy tính | BA99: Trường Cao đẳng Lý Tự Trọng TPHCM
A100: 95 | B100: 19000095 | C100: Nguyễn Ngọc Hoàng | D100: Ân | E100: Nữ | F100: 08/04/2004 | G100: Tp. Hồ Chí Minh | H100: Nguyễn Minh Hoàng | I100: Hưu trí | J100: 0907126019 | K100: Thiên Lệ Hương | M100: 0938192619 | N100: 19T4-LTM1 | O100: Tp. Hồ Chí Minh | P100: Kinh | Q100: Không | R100: 487A Âu Cơ, phường 10, Quận Tân Bình, Tp. Hồ Chí Minh | S100: 220/1 Hồ Văn Huê, phường 9, quận Phú Nhuận, thành phố Hồ Chí Minh | T100: 0938192619 | X100: bhtt8469@gmail.com | Y100: 079304018861 | Z100: 21/06/2019 | AA100: CTCCSQLĐKHCDC | AD100: Tp. Hồ Chí Minh | AF100: Quận Tân Bình | AM100: Tp. Hồ Chí Minh | AN100: Quận Tân Bình | AO100: 19T40395 | AP100: Đang học | AQ100: 1 | AR100: 19T4-LTM1 | AS100: 24/05/2019 | AT100: 2019 | AU100: 2019 | AV100: Trung cấp | AW100: Chính quy 3 năm | AX100: Khoa Công nghệ Thông tin | AY100: Lập trình máy tính | AZ100: Lập trình máy tính | BA100: Trường Cao đẳng Lý Tự Trọng TPHCM
A101: 96 | B101: 19000096 | C101: Trương Hữu | D101: Thiên | E101: Nam | F101: 08/08/2003 | G101: Tp. Hồ Chí Minh | H101: Trương Quang Tùng | I101: Tài xế | K101: Phạm Thị Tranh | N101: 19T4-CNÔ2 | O101: ninh thuan | P101: Kinh | Q101: Tin Lành | R101: 18/84 bis Trần Quang Diện, phường 14, quận 3, TP.HCM | S101: 18/84 bis Trần Quang Diện, phường 14, quận 3, TP.HCM | T101: 0903065868 | U101: 0989772896 | X101: thienphomaique8235@gmail.com | Y101: 056203000107 | Z101: 03/06/2019 | AA101: cong an quan 3 | AJ101: KV3 | AM101: Tp. Hồ Chí Minh | AN101: Quận 3 | AO101: 19T40554 | AP101: Đang học | AQ101: 1 | AR101: 19T4-CNÔ2 | AS101: 24/05/2019 | AT101: 2019 | AU101: 2019 | AV101: Trung cấp | AW101: Chính quy 3 năm | AX101: Khoa Động lực | AY101: Công nghệ ô tô | AZ101: Công nghệ ô tô | BA101: Trường Cao đẳng Lý Tự Trọng TPHCM
A102: 97 | B102: 19000097 | C102: Nguyễn Thế | D102: Bảo | E102: Nam | F102: 01/01/2003 | G102: Tp. Hồ Chí Minh | H102: Nguyễn Thế Cường | I102: Kinh doanh | J102: 0906364630 | K102: Nguyễn Thị Thụy Anh | L102: Kinh doanh | M102: 0989072029 | N102: 19T4-CNÔ1 | O102: Tp. Hồ Chí Minh | P102: Kinh | Q102: Phật Giáo | R102: 127/21 Ba Vân, phường 14, quận Tân Bình, Tp.HCM | S102: 127/21 Ba Vân, phường 14, quận Tân Bình, Tp.HCM | T102: 0989072029 | U102: 0906364630 | V102: 0989072029 | Y102: 079203017623 | Z102: 16/05/2018 | AA102: CCSĐKQLDC | AD102: Tp. Hồ Chí Minh | AF102: Quận Phú Nhuận | AJ102: KV3 | AM102: Tp. Hồ Chí Minh | AN102: Quận Tân Bình | AO102: 19T40534 | AP102: Đang học | AQ102: 1 | AR102: 19T4-CNÔ1 | AS102: 24/05/2019 | AT102: 2019 | AU102: 2019 | AV102: Trung cấp | AW102: Chính quy 3 năm | AX102: Khoa Động lực | AY102: Công nghệ ô tô | AZ102: Công nghệ ô tô | BA102: Trường Cao đẳng Lý Tự Trọng TPHCM
A103: 98 | B103: 19000098 | C103: Trịnh Tấn | D103: An | E103: Nam | F103: 04/03/1995 | G103: Tây Ninh | H103: Trịnh Văn Chính | I103: Buôn bán | J103: 0903800670 | K103: Võ Ngọc Khâm | L103: Buôn bán | N103: 19C1-ĐCN1 | O103: Tây Ninh | P103: Kinh | Q103: Không | R103: Số 44, đường 782, ấp Lộc Khê , xã Gia Lộc, huyện Trảng Bàng, tỉnh Tây Ninh | S103: Số 44,đường 782,ấp Lộc Khê, Xã Gia Lộc,huyện Trảng Bàng,tỉnh Tây Ninh | T103: 0393909615 | X103: an.trinh.9615@gmail.com | Y103: 072095002288 | Z103: 12/06/2017 | AA103: Cục cảnh sát | AB103: 26/03/2012 | AC103: 25/01/2019 | AD103: Tây Ninh | AE103: THPT Trảng Bàng | AF103: Huyện Trảng Bàng | AJ103: KV2-NT | AM103: Tây Ninh | AN103: Huyện Trảng Bàng | AO103: 19C10047 | AP103: Đang học | AQ103: 1 | AR103: 19C1-ĐCN1 | AS103: 24/05/2019 | AT103: 2019 | AU103: 2019 | AV103: Cao đẳng | AW103: Chính quy 2 năm | AX103: Khoa Điện - Điện tử | AY103: Điện công nghiệp | AZ103: Điện công nghiệp | BA103: Trường Cao đẳng Lý Tự Trọng TPHCM
A104: 99 | B104: 19000099 | C104: Trần Thái Thành | D104: Đạt | E104: Nam | F104: 20/12/2004 | G104: Tp. Hồ Chí Minh | H104: Trần Thiện Thanh | I104: Nhân viên | J104: 0915671801 | K104: Vũ Thị Thái Hằng | L104: Công nhân | M104: 0938967443 | N104: 19T4-QTM1 | O104: Tp. Hồ Chí Minh | P104: Kinh | Q104: Phật Giáo | R104: 25/9 KP6, P.Tân Thới Nhất, Q.12, TPHCM | S104: 66/19/34/7 Trần Văn Quang, Phường 10, Quận Tân Bình, Tp.HCM | T104: 0938967443 | U104: 0963843122 | V104: 0915671801 | X104: ABC@gmail.com | Y104: 19000099 | Z104: 26/06/2019 | AA104: LTT | AD104: Tp. Hồ Chí Minh | AF104: Quận 12 | AJ104: KV3 | AM104: Tp. Hồ Chí Minh | AN104: Quận 12 | AO104: 19T40126 | AP104: Đang học | AQ104: 1 | AR104: 19T4-QTM1 | AS104: 24/05/2019 | AT104: 2019 | AU104: 2019 | AV104: Trung cấp | AW104: Chính quy 3 năm | AX104: Khoa Công nghệ Thông tin | AY104: Quản trị mạng máy tính | AZ104: Quản trị mạng máy tính | BA104: Trường Cao đẳng Lý Tự Trọng TPHCM
...

Sheet ĐKKCBBĐ K2019(UPDATE)
A2: DANH SÁCH ĐĂNG KÝ THAM GIA BHYT NĂM 2020
A4: STT | B4: MSSV | C4: HỌ VÀ TÊN | D4: MSBHXH(SV CUNG CẤP)CHỈ GHI NHỮNG MÃ THẺ ĐẦY ĐỦ | E4: MÃ BV | F4: NƠI ĐKKCBBĐ(VIẾT ĐÚNG TÊN BỆNH VIỆN CV:2312) | G4: MÃ BHXH( TRUY CẬP) | H4: MÃ BHXH( TRUY CẬP CHƯA ĐỒNG BỘ) | I4: THÔN ẤP(SỬA) | J4: XÃ -HK(SỬA) | K4: HUYỆN -HK(SỬA) | L4: TỈNH-HK(SỬA) | M4: Ghi chú(DÀNH CHO NHỮNG TRƯỜNG HỢP CẦN GHI CHÚ 0
A5: 1 | B5: 2 | C5: 3 | D5: 4 | E5: 5 | F5: 6 | G5: 7 | H5: 8 | I5: 9 | J5: 10 | K5: 11 | L5: 12 | M5: 13
A6: 01 | B6: 19000001 | C6: Phan Phú Hào | E6: 025 | F6: =VLOOKUP(E6,'MÃ BV'!$C$2:$D$137,2,0) -> BỆNH VIỆN THỐNG NHẤT
A7: 02 | B7: 19000002 | C7: Phùng Đức Dương | D7: GD4797936952403 | E7: 025 | F7: =VLOOKUP(E7,'MÃ BV'!$C$2:$D$137,2,0) -> BỆNH VIỆN THỐNG NHẤT | M7: Mua BHYT hộ gia đình
A8: 03 | B8: 19000003 | C8: Lê Trọng Tiến | D8: HS4797935160094 | F8: =VLOOKUP(E8,'MÃ BV'!$C$2:$D$137,2,0) -> #N/A
A9: 04 | B9: 19000004 | C9: Phạm Hữu Hoàng | E9: 031 | F9: =VLOOKUP(E9,'MÃ BV'!$C$2:$D$137,2,0) -> BỆNH VIỆN QUẬN BÌNH THẠNH | M9: Mua thêm từ 01/6/2019-31/12/2019
A10: 05 | B10: 19000005 | C10: Nguyễn Khắc Trung Kiên | E10: 025 | F10: =VLOOKUP(E10,'MÃ BV'!$C$2:$D$137,2,0) -> BỆNH VIỆN THỐNG NHẤT
A11: 06 | B11: 19000006 | C11: Trần Minh Quang | E11: 033 | F11: =VLOOKUP(E11,'MÃ BV'!$C$2:$D$137,2,0) -> BỆNH VIỆN QUẬN TÂN BÌNH
A12: 07 | B12: 19000007 | F12: =VLOOKUP(E12,'MÃ BV'!$C$2:$D$137,2,0) -> #N/A | G12: 8222267122
A13: 08 | B13: 19000008 | C13: Võ Trung Khang | D13: HS4797931705829 | E13: 054 | F13: =VLOOKUP(E13,'MÃ BV'!$C$2:$D$137,2,0) -> BỆNH VIỆN QUẬN TÂN PHÚ
A14: 09 | B14: 19000009 | C14: Nguyễn Lê Hoàng | F14: =VLOOKUP(E14,'MÃ BV'!$C$2:$D$137,2,0) -> #N/A | G14: 7934223996
A15: 10 | B15: 19000010 | C15: Trần Cao Long | E15: 055 | F15: =VLOOKUP(E15,'MÃ BV'!$C$2:$D$137,2,0) -> BỆNH VIỆN QUẬN BÌNH TÂN
A16: 11 | B16: 19000011 | C16: Huỳnh Nhựt Thành | D16: HS4797934005910 | E16: 013 | F16: =VLOOKUP(E16,'MÃ BV'!$C$2:$D$137,2,0) -> BỆNH VIỆN NGUYỄN TRI PHƯƠNG
A17: 12 | B17: 19000012 | C17: Nguyễn Hoàng Minh Quân | D17: GD4797933322737 | E17: 012 | F17: =VLOOKUP(E17,'MÃ BV'!$C$2:$D$137,2,0) -> BỆNH VIỆN AN BÌNH | M17: Mua thêm (01/08/2019 - 31/12/2019)
A18: 13 | B18: 19000013 | C18: Nguyễn Nhật Huy | D18: HS4797930311705 | E18: 470 | F18: =VLOOKUP(E18,'MÃ BV'!$C$2:$D$137,2,0) -> PHÒNG KHÁM ĐA KHOA CƠ SỞ 2 - BỆNH VIỆN QUẬN GÒ VẤP
A19: 14 | B19: 19000014 | C19: Vũ Trường Khanh | E19: 470 | F19: =VLOOKUP(E19,'MÃ BV'!$C$2:$D$137,2,0) -> PHÒNG KHÁM ĐA KHOA CƠ SỞ 2 - BỆNH VIỆN QUẬN GÒ VẤP | G19: 7931924170
A20: 15 | B20: 19000015 | C20: Vũ Ngọc Mai Khanh | E20: 470 | F20: =VLOOKUP(E20,'MÃ BV'!$C$2:$D$137,2,0) -> PHÒNG KHÁM ĐA KHOA CƠ SỞ 2 - BỆNH VIỆN QUẬN GÒ VẤP | G20: 7931883424
A21: 16 | B21: 19000016 | C21: Nguyễn Dương Thanh | D21: GD4808023599812 | F21: =VLOOKUP(E21,'MÃ BV'!$C$2:$D$137,2,0) -> #N/A | M21: có thẻ BHYT
A22: 17 | B22: 19000017 | C22: Đặng Hữu Giác | E22: 034 | F22: =VLOOKUP(E22,'MÃ BV'!$C$2:$D$137,2,0) -> BỆNH VIỆN 175 | G22: 9122136081 | M22: Chưa Có thẻ BHYT
A23: 18 | B23: 19000018 | C23: Đào Thanh Tùng | D23: HS4797931161714 | E23: 025 | F23: =VLOOKUP(E23,'MÃ BV'!$C$2:$D$137,2,0) -> BỆNH VIỆN THỐNG NHẤT | G23: 7931161714
A24: 19 | B24: 19000019 | F24: =VLOOKUP(E24,'MÃ BV'!$C$2:$D$137,2,0) -> #N/A | G24: 7930510278
A25: 20 | B25: 19000020 | C25: Phan Nguyễn Thanh Thiện | E25: 054 | F25: =VLOOKUP(E25,'MÃ BV'!$C$2:$D$137,2,0) -> BỆNH VIỆN QUẬN TÂN PHÚ | G25: 7222247032
A26: 21 | B26: 19000021 | F26: =VLOOKUP(E26,'MÃ BV'!$C$2:$D$137,2,0) -> #N/A | G26: 7937711664
A27: 22 | B27: 19000022 | F27: =VLOOKUP(E27,'MÃ BV'!$C$2:$D$137,2,0) -> #N/A | G27: 6021111837
A28: 23 | B28: 19000023 | C28: Nguyễn Cao Hưng | D28: HS4797934304799 | F28: =VLOOKUP(E28,'MÃ BV'!$C$2:$D$137,2,0) -> #N/A
A29: 24 | B29: 19000024 | F29: =VLOOKUP(E29,'MÃ BV'!$C$2:$D$137,2,0) -> #N/A | G29: 7932371881
A30: 25 | B30: 19000025 | C30: Nguyễn Minh Ánh | E30: 032 | F30: =VLOOKUP(E30,'MÃ BV'!$C$2:$D$137,2,0) -> BỆNH VIỆN QUẬN PHÚ NHUẬN | G30: 7930937730
A31: 26 | B31: 19000026 | F31: =VLOOKUP(E31,'MÃ BV'!$C$2:$D$137,2,0) -> #N/A | G31: 7936148178
A32: 27 | B32: 19000027 | C32: Lê Hoàng Quốc Anh | D32: HS4797931377033 | E32: 025 | F32: =VLOOKUP(E32,'MÃ BV'!$C$2:$D$137,2,0) -> BỆNH VIỆN THỐNG NHẤT
A33: 28 | B33: 19000028 | C33: Bùi Hoàng An Vỹ | E33: 054 | F33: =VLOOKUP(E33,'MÃ BV'!$C$2:$D$137,2,0) -> BỆNH VIỆN QUẬN TÂN PHÚ | G33: 7931511443
A34: 29 | B34: 19000029 | C34: Mach Arafin | E34: 032 | F34: =VLOOKUP(E34,'MÃ BV'!$C$2:$D$137,2,0) -> BỆNH VIỆN QUẬN PHÚ NHUẬN | G34: 7931931864
A35: 30 | B35: 19000030 | C35: Lê Nguyễn Trung Hiếu | E35: 032 | F35: =VLOOKUP(E35,'MÃ BV'!$C$2:$D$137,2,0) -> BỆNH VIỆN QUẬN PHÚ NHUẬN | G35: 7931859708
A36: 31 | B36: 19000031 | F36: =VLOOKUP(E36,'MÃ BV'!$C$2:$D$137,2,0) -> #N/A | G36: 7932795051
A37: 32 | B37: 19000032 | C37: Huỳnh Văn Đạt | D37: HS4797936735269 | E37: 034 | F37: =VLOOKUP(E37,'MÃ BV'!$C$2:$D$137,2,0) -> BỆNH VIỆN 175
A38: 33 | B38: 19000033 | C38: Nguyễn Quốc Phục | E38: 034 | F38: =VLOOKUP(E38,'MÃ BV'!$C$2:$D$137,2,0) -> BỆNH VIỆN 175 | M38: Mua thêm từ 01/6/2019-31/12/2019
A39: 34 | B39: 19000034 | C39: Nguyễn Lê Minh Kha | D39: HS4797935719015 | E39: 058 | F39: =VLOOKUP(E39,'MÃ BV'!$C$2:$D$137,2,0) -> BỆNH VIỆN ĐA KHOA TƯ NHÂN TRIỀU AN
A40: 35 | B40: 19000035 | C40: Võ Thanh Hiếu | D40: HS4797928535928 | E40: 030 | F40: =VLOOKUP(E40,'MÃ BV'!$C$2:$D$137,2,0) -> BỆNH VIỆN NHÂN DÂN GIA ĐỊNH
A41: 36 | B41: 19000036 | F41: =VLOOKUP(E41,'MÃ BV'!$C$2:$D$137,2,0) -> #N/A | G41: 7932703471
A42: 37 | B42: 19000037 | C42: Ngô Khí Tài | D42: SV4797938292389 | E42: 030 | F42: =VLOOKUP(E42,'MÃ BV'!$C$2:$D$137,2,0) -> BỆNH VIỆN NHÂN DÂN GIA ĐỊNH
A43: 38 | B43: 19000038 | F43: =VLOOKUP(E43,'MÃ BV'!$C$2:$D$137,2,0) -> #N/A | G43: 7928441683
A44: 39 | B44: 19000039 | F44: =VLOOKUP(E44,'MÃ BV'!$C$2:$D$137,2,0) -> #N/A | G44: 7931307559
A45: 40 | B45: 19000040 | F45: =VLOOKUP(E45,'MÃ BV'!$C$2:$D$137,2,0) -> #N/A | G45: 7939215767
A46: 41 | B46: 19000041 | F46: =VLOOKUP(E46,'MÃ BV'!$C$2:$D$137,2,0) -> #N/A | G46: 8321671433
A47: 42 | B47: 19000042 | F47: =VLOOKUP(E47,'MÃ BV'!$C$2:$D$137,2,0) -> #N/A | G47: 8321684972
A48: 43 | B48: 19000043 | C48: Nguyễn Thanh Tâm | E48: 035 | F48: =VLOOKUP(E48,'MÃ BV'!$C$2:$D$137,2,0) -> BỆNH VIỆN QUẬN GÒ VẤP | G48: 7930215806
A49: 44 | B49: 19000044 | F49: =VLOOKUP(E49,'MÃ BV'!$C$2:$D$137,2,0) -> #N/A | G49: 8022586365
A50: 45 | B50: 19000045 | F50: =VLOOKUP(E50,'MÃ BV'!$C$2:$D$137,2,0) -> #N/A | G50: 5221601381
A51: 46 | B51: 19000046 | C51: Trần Nhật Phong | F51: =VLOOKUP(E51,'MÃ BV'!$C$2:$D$137,2,0) -> #N/A | G51: 7932779307 | M51: BV Quận 11
A52: 47 | B52: 19000047 | C52: Kỳ Chí An | D52: HS4797932636358 | E52: 028 | F52: =VLOOKUP(E52,'MÃ BV'!$C$2:$D$137,2,0) -> BỆNH VIỆN QUẬN 11
A53: 48 | B53: 19000048 | C53: Nguyễn Đăng Khoa | D53: HS4797935021523 | E53: 040 | F53: =VLOOKUP(E53,'MÃ BV'!$C$2:$D$137,2,0) -> BỆNH VIỆN ĐA KHOA KHU VỰC CỦ CHI | M53: Mua thêm từ 01/6/2019-31/12/2019
A54: 49 | B54: 19000049 | C54: Huỳnh Trung Nhân | D54: HS4797937633341 | E54: 041 | F54: =VLOOKUP(E54,'MÃ BV'!$C$2:$D$137,2,0) -> BỆNH VIỆN ĐA KHOA KHU VỰC HÓC MÔN
A55: 50 | B55: 19000050 | C55: Trần Kim Thảo | D55: HS4797935362287 | E55: 041 | F55: =VLOOKUP(E55,'MÃ BV'!$C$2:$D$137,2,0) -> BỆNH VIỆN ĐA KHOA KHU VỰC HÓC MÔN
A56: 51 | B56: 19000051 | C56: Nguyễn Tuấn Anh | D56: HS4797939201157 | E56: 488 | F56: =VLOOKUP(E56,'MÃ BV'!$C$2:$D$137,2,0) -> BỆNH VIỆN ĐA KHOA TƯ NHÂN XUYÊN Á
A57: 52 | B57: 19000052 | C57: Nguyễn Thị Quỳnh Như | D57: HS4797936735319 | E57: 035 | F57: =VLOOKUP(E57,'MÃ BV'!$C$2:$D$137,2,0) -> BỆNH VIỆN QUẬN GÒ VẤP
A58: 53 | B58: 19000053 | C58: Trương Thị Hải Yến | D58: HS4797930068545 | E58: 488 | F58: =VLOOKUP(E58,'MÃ BV'!$C$2:$D$137,2,0) -> BỆNH VIỆN ĐA KHOA TƯ NHÂN XUYÊN Á
A59: 54 | B59: 19000054 | F59: =VLOOKUP(E59,'MÃ BV'!$C$2:$D$137,2,0) -> #N/A | G59: 7937811836
A60: 55 | B60: 19000055 | C60: Kha Trương Đại Phước | D60: HS4797932642826 | E60: 017 | F60: =VLOOKUP(E60,'MÃ BV'!$C$2:$D$137,2,0) -> BỆNH VIỆN QUẬN 6
A61: 56 | B61: 19000056 | C61: Bành Nguyên Cao Minh | D61: HS4797936735463 | E61: 035 | F61: =VLOOKUP(E61,'MÃ BV'!$C$2:$D$137,2,0) -> BỆNH VIỆN QUẬN GÒ VẤP
A62: 57 | B62: 19000057 | C62: Võ Trường Duy | D62: HS4797937812125 | E62: 033 | F62: =VLOOKUP(E62,'MÃ BV'!$C$2:$D$137,2,0) -> BỆNH VIỆN QUẬN TÂN BÌNH
A63: 58 | B63: 19000058 | C63: Huỳnh Phước Quang | E63: 033 | F63: =VLOOKUP(E63,'MÃ BV'!$C$2:$D$137,2,0) -> BỆNH VIỆN QUẬN TÂN BÌNH | G63: 7221639694
A64: 59 | B64: 19000059 | F64: =VLOOKUP(E64,'MÃ BV'!$C$2:$D$137,2,0) -> #N/A | G64: 6020011673
A65: 60 | B65: 19000060 | F65: =VLOOKUP(E65,'MÃ BV'!$C$2:$D$137,2,0) -> #N/A | G65: 7936652853
A66: 61 | B66: 19000061 | C66: Nguyễn Phan Hoàng Phúc | D66: GD4606020438078 | E66: 019 | F66: =VLOOKUP(E66,'MÃ BV'!$C$2:$D$137,2,0) -> BỆNH VIỆN QUẬN 7
A67: 62 | B67: 19000062 | F67: =VLOOKUP(E67,'MÃ BV'!$C$2:$D$137,2,0) -> #N/A | G67: 7021448958
A68: 63 | B68: 19000063 | C68: Bùi Minh Tuấn | D68: HS4797937959008 | E68: 027 | F68: =VLOOKUP(E68,'MÃ BV'!$C$2:$D$137,2,0) -> BỆNH VIỆN QUẬN 10
A69: 64 | B69: 19000064 | C69: Xa Đồng Phúc | D69: GD4795121590334 | E69: GD | F69: =VLOOKUP(E69,'MÃ BV'!$C$2:$D$137,2,0) -> #N/A
A70: 65 | B70: 19000065 | F70: =VLOOKUP(E70,'MÃ BV'!$C$2:$D$137,2,0) -> #N/A
A71: 66 | B71: 19000066 | C71: Nguyễn Thanh Trung | D71: HS4797937970717 | E71: 470 | F71: =VLOOKUP(E71,'MÃ BV'!$C$2:$D$137,2,0) -> PHÒNG KHÁM ĐA KHOA CƠ SỞ 2 - BỆNH VIỆN QUẬN GÒ VẤP
A72: 67 | B72: 19000067 | C72: Trịnh Đức Anh | D72: HS4797935628128 | E72: 483 | F72: =VLOOKUP(E72,'MÃ BV'!$C$2:$D$137,2,0) -> PHÒNG KHÁM ĐA KHOA (THUỘC CP TTYK THÀNH CÔNG )
A73: 68 | B73: 19000068 | C73: Nguyễn Phương Nam | D73: HS47979 36735522 | E73: 029 | F73: =VLOOKUP(E73,'MÃ BV'!$C$2:$D$137,2,0) -> BỆNH VIỆN QUẬN 12
A74: 69 | B74: 19000069 | C74: Phùng Minh Nhật | D74: HS4797931981574 | E74: 032 | F74: =VLOOKUP(E74,'MÃ BV'!$C$2:$D$137,2,0) -> BỆNH VIỆN QUẬN PHÚ NHUẬN | K74: Quận Phú Nhuận
A75: 70 | B75: 19000070 | C75: Nguyễn Hùng Mạnh | D75: HS4797928816197 | E75: 054 | F75: =VLOOKUP(E75,'MÃ BV'!$C$2:$D$137,2,0) -> BỆNH VIỆN QUẬN TÂN PHÚ
A76: 71 | B76: 19000071 | C76: Nguyễn Tấn Thịnh | E76: 071 | F76: =VLOOKUP(E76,'MÃ BV'!$C$2:$D$137,2,0) -> BỆNH VIỆN ĐA KHOA HOÀN MỸ SÀI GÒN | G76: 7931970052
A77: 72 | B77: 19000072 | F77: =VLOOKUP(E77,'MÃ BV'!$C$2:$D$137,2,0) -> #N/A
A78: 73 | B78: 19000073 | C78: Nguyễn Tuấn Thành | E78: 064 | F78: =VLOOKUP(E78,'MÃ BV'!$C$2:$D$137,2,0) -> PHÒNG KHÁM ĐA KHOA (THUỘC Cty TNHH PKĐK VIỆT PHƯỚC ) | G78: 2520779006
A79: 74 | B79: 19000074 | C79: Võ Lân Đông Trúc | D79: HS4797937194623 | E79: 054 | F79: =VLOOKUP(E79,'MÃ BV'!$C$2:$D$137,2,0) -> BỆNH VIỆN QUẬN TÂN PHÚ
A80: 75 | B80: 19000075 | F80: =VLOOKUP(E80,'MÃ BV'!$C$2:$D$137,2,0) -> #N/A
A81: 76 | B81: 19000076 | C81: Nguyễn Thái Trung Nguyên | D81: GD4797931905610 | E81: 071 | F81: =VLOOKUP(E81,'MÃ BV'!$C$2:$D$137,2,0) -> BỆNH VIỆN ĐA KHOA HOÀN MỸ SÀI GÒN
A82: 77 | B82: 19000077 | C82: Trần Nhật Quang | D82: HS4757526412835 | E82: 025 | F82: =VLOOKUP(E82,'MÃ BV'!$C$2:$D$137,2,0) -> BỆNH VIỆN THỐNG NHẤT
A83: 78 | B83: 19000078 | C83: Lưu dân Hiếu | D83: HS4797939068260 | E83: 489 | F83: =VLOOKUP(E83,'MÃ BV'!$C$2:$D$137,2,0) -> BỆNH VIỆN ĐA KHOA TÂM TRÍ SÀI GÒN
A84: 79 | B84: 19000079 | F84: =VLOOKUP(E84,'MÃ BV'!$C$2:$D$137,2,0) -> #N/A
A85: 80 | B85: 19000080 | C85: Vũ Quang Cường | D85: HS4797937811830 | E85: 033 | F85: =VLOOKUP(E85,'MÃ BV'!$C$2:$D$137,2,0) -> BỆNH VIỆN QUẬN TÂN BÌNH
A86: 81 | B86: 19000081 | C86: Nguyễn Hùng Cường | E86: 033 | F86: =VLOOKUP(E86,'MÃ BV'!$C$2:$D$137,2,0) -> BỆNH VIỆN QUẬN TÂN BÌNH | G86: 7937592115
A87: 82 | B87: 19000082 | C87: Nguyễn Cảnh Long | D87: HS4797931844506 | E87: 032 | F87: =VLOOKUP(E87,'MÃ BV'!$C$2:$D$137,2,0) -> BỆNH VIỆN QUẬN PHÚ NHUẬN
A88: 83 | B88: 19000083 | C88: Trần Trọng Thoại | E88: 025 | F88: =VLOOKUP(E88,'MÃ BV'!$C$2:$D$137,2,0) -> BỆNH VIỆN THỐNG NHẤT | M88: Mua thêm từ 01/6/2019-31/12/2019
A89: 84 | B89: 19000084 | C89: Lê Bảo Lộc | E89: 025 | F89: =VLOOKUP(E89,'MÃ BV'!$C$2:$D$137,2,0) -> BỆNH VIỆN THỐNG NHẤT | G89: 7222689995 | M89: Mua thêm từ 01/6/2019-31/12/2020
A90: 85 | B90: 19000085 | C90: Huỳnh Thanh Tuấn | D90: HS4797930280827 | E90: 470 | F90: =VLOOKUP(E90,'MÃ BV'!$C$2:$D$137,2,0) -> PHÒNG KHÁM ĐA KHOA CƠ SỞ 2 - BỆNH VIỆN QUẬN GÒ VẤP
A91: 86 | B91: 19000086 | C91: Giang Lê Đức Tâm | D91: HS479791328612 | E91: 025 | F91: =VLOOKUP(E91,'MÃ BV'!$C$2:$D$137,2,0) -> BỆNH VIỆN THỐNG NHẤT
A92: 87 | B92: 19000087 | C92: Trần Kim Bảo | D92: HS4797937766772 | E92: 025 | F92: =VLOOKUP(E92,'MÃ BV'!$C$2:$D$137,2,0) -> BỆNH VIỆN THỐNG NHẤT | K92: Gò Vấp
A93: 88 | B93: 19000088 | C93: Lê Hoàng Phước | D93: HS4797932208256 | E93: 009 | F93: =VLOOKUP(E93,'MÃ BV'!$C$2:$D$137,2,0) -> BỆNH VIỆN QUẬN 3
A94: 89 | B94: 19000089 | C94: Vũ Hoàng Đạo | D94: GD4797937564701 | E94: 022 | F94: =VLOOKUP(E94,'MÃ BV'!$C$2:$D$137,2,0) -> BỆNH VIỆN QUẬN 9 | M94: PKĐK Kỳ Hòa
A95: 90 | B95: 19000090 | C95: Nguyễn Trần Đức Duy | D95: HS4797931373497 | E95: 025/054 | F95: =VLOOKUP(E95,'MÃ BV'!$C$2:$D$137,2,0) -> #N/A
A96: 91 | B96: 19000091 | C96: Lý Ngô Bảo Nguyên | D96: HS4797937812086 | E96: 025 | F96: =VLOOKUP(E96,'MÃ BV'!$C$2:$D$137,2,0) -> BỆNH VIỆN THỐNG NHẤT
A97: 92 | B97: 19000092 | C97: Nguyễn Bá Duy Thành | E97: 026 | F97: =VLOOKUP(E97,'MÃ BV'!$C$2:$D$137,2,0) -> BỆNH VIỆN CẤP CỨU TRƯNG VƯƠNG | G97: 7937564723
A98: 93 | B98: 19000093 | C98: Trần Trí Lực | D98: HS4797931863719 | E98: 032 | F98: =VLOOKUP(E98,'MÃ BV'!$C$2:$D$137,2,0) -> BỆNH VIỆN QUẬN PHÚ NHUẬN
A99: 94 | B99: 19000094 | C99: Nguyễn Ngọc Hoàng An | D99: HS4797938025581 | E99: 054 | F99: =VLOOKUP(E99,'MÃ BV'!$C$2:$D$137,2,0) -> BỆNH VIỆN QUẬN TÂN PHÚ
A100: 95 | B100: 19000095 | C100: Nguyễn Ngọc Hoàng Ân | D100: HS4797930940144 | E100: 054 | F100: =VLOOKUP(E100,'MÃ BV'!$C$2:$D$137,2,0) -> BỆNH VIỆN QUẬN TÂN PHÚ
A101: 96 | B101: 19000096 | F101: =VLOOKUP(E101,'MÃ BV'!$C$2:$D$137,2,0) -> #N/A
A102: 97 | B102: 19000097 | C102: Nguyễn Thế Bảo | E102: 033 | F102: =VLOOKUP(E102,'MÃ BV'!$C$2:$D$137,2,0) -> BỆNH VIỆN QUẬN TÂN BÌNH | G102: 7937711622
...

Sheet MAUDANGKYBHXH (T7)
A1: Tên đơn vị: TRƯỜNG CAO ĐẲNG LÝ TỰ TRỌNG THÀNH PHỐ HỒ CHÍ MINH
A2: Mã đơn vị: BD0240Z
A3: Địa chỉ: 390 Hoàng Văn Thụ,Phường 4,Quận Tân Bình, Thành Phố Hồ Chí Minh
A4: DANH SÁCH NGƯỜI CHỈ THAM GIA BẢO HIỂM Y TẾ
A5: Số : 3 tháng 12 năm 2018
A6: DANH SÁCH ĐANG LÀM :UPDATE 29/6
B7: Đối tượng tham gia | F7: Lương cơ sở: ……………… đồng
A8: STT | B8: Mã số BHXH | C8: Họ và tên | E8: Giới tính | F8: Ngày tháng năm sinh | G8: Nơi đăng ký KCB ban đầu | H8: Biên lai, ngày tham gia | J8: Tiền lương, trợ cấp hoặc số tiền đóng | K8: Thời hạn sử dụng thẻ | R8: Địa chỉ | Y8: Số CMND | AA8: Mã PB | AC8: mã tỉnh KS | AD8: mã tỉnh KS | AE8: mã huyện KS | AF8: mã huyện KS | AG8: mã xã KS | AH8: mã xã KS | AI8: HKTT số nhà
B9: cột này để làm MPB | H9: Số | I9: Ngày | K9: Số tháng | L9: Từ ngày
A10: A | B10: 1 | C10: B | D10: B | E10: 3 | F10: 2 | G10: 4 | H10: 5 | I10: 6 | J10: 7 | K10: 9(MABHXH Truy cap) | L10: 10 | R10: 11 | Y10: 12 | AA10: 13 | AC10: 14 | AD10: 14 | AE10: 15 | AF10: 15 | AG10: 16 | AH10: 16
A11: STT | B11: cột này để làm MPB | C11: Họ | D11: Tên | E11: Giới tính(SAU NGÀY SINH) | F11: Ngày sinh(TRƯỚC GIỚI TÍNH) | G11: Nơi sinh(NHẬP NĐKKCBBĐ) | H11: Họ tên cha(XÓA KHI HOÀN THÀNH DS) | I11: Nghề nghiệp cha(XÓA ) | J11: Số điện thoại cha(XÓA) | K11: Họ tên mẹ(XÓA KHI HOÀN THÀNH DANH SÁCH ) | L11: Nghề nghiệp mẹ(XÓA) | M11: SĐT (DÙNG KHI CẦN) | N11: Lớp( GIỮ LẠI LÀM mpb) | O11: Nguyên quán | P11: Dân tộc | Q11: Tôn giáo | R11: ĐC thường trú | S11: ĐC liên lạc | T11: ĐC thường trú(ĐÃ SỬA) | U11: ĐC thường trú(THÔN,ẤP,SỐ NHÀ) | V11: ĐC thường trú(PHƯỜNG, XÃ) | W11: ĐC thường trú(QUẬN , HUYỆN) | X11: ĐC thường trú(TỈNH, THÀNH) | Y11: Số CMND | Z11: Ngày cấp | AA11: Nơi cấp | AB11: Ngày vào đoàn | AC11: Ngày vào đảng | AD11: HKTT tỉnh | AE11: Trường tốt nghiệp | AF11: HKTT huyện | AG11: HKTT phường xã | AH11: HKTT thôn xóm | AI11: HKTT số nhà | AJ11: Khu vực | AK11: Đối tượng | AL11: Đối tượng chính sách | AM11: Tỉnh | AN11: Huyện | AO11: Hồ sơ | AP11: Trạng thái | AQ11: Nhóm | AR11: Mã lớp | AS11: Ngày nhập học | AT11: Năm vào | AU11: Khóa học | AV11: Hệ đào tạo | AW11: Loại hình ĐT | AX11: Khoa | AY11: Ngành | AZ11: Nghề | BA11: Cơ sở(MÃ PHÂN BIỆT) | BB11: MÃ SV | BC11: MÃ THẺ BHYT(VLOOK) | BD11: MÃ BV (VL) | BE11: TÊN BV | BF11: MÃ THẺ BHYT(TRUY CẬP) | BH11: NƠI ĐKKCB BAN ĐẨU (VL) | BI11: MÃ TRUY CẬP(VL) | BJ11: MÃ THẺ BHYT(VLOOK) | BK11: MÃ BV (VL) | BL11: NƠI ĐKKCB BAN ĐẨU (VL) | BM11: MÃ TRUY CẬP(VL)
A12: 1 | B12: 19000001 | C12: Phan Phú | D12: Hào | E12: Nam | F12: 23/03/1997 | I12: =MID(G12,3,1) | J12: =MID(G12,4,2) | N12: 19C1-CNÔ1 | R12: 17/15a khu phố 6a p.tân thới nhất quận 12 tp. Hồ Chí Minh | S12: 17/15a khu phố 6a p.tân thới nhất quận 12 tp. Hồ Chí Minh | T12: 17/15A Khu Phố 6A ,P.Tân Thới Nhất, Quận 12, Tp. Hồ Chí Minh | U12: 17/15A Khu Phố 6A | V12: P.Tân Thới Nhất | W12: Quận 12 | X12: Thành phố Hồ Chí Minh | AB12: 20/03/2014 | AC12: 79 | AD12: Thành phố Hồ Chí Minh | AE12: 761 | AF12: Quận 12 | AG12: 26791 | AH12: Phường Tân Thới Nhất | AK12: Đối tượng 03 | AM12: Tp. Hồ Chí Minh | AN12: Quận 12 | AO12: 19C10211 | AP12: Đang học | AQ12: 1 | AR12: 19C1-CNÔ1 | AS12: 10/05/2019 | AT12: 2019 | AU12: 2019 | AV12: Cao đẳng | AW12: Chính quy 2 năm | AX12: Khoa Động lực | AY12: Công nghệ ô tô | AZ12: Công nghệ ô tô | BA12: =BB12&";"&AR12 -> 19000001;19C1-CNÔ1 | BB12: 19000001 | BC12: =VLOOKUP(B12,'ĐKKCBBĐ K2019(UPDATE)'!$B$6:$F$2005,3,0) -> 0 | BD12: =VLOOKUP(B12,'ĐKKCBBĐ K2019(UPDATE)'!$B$6:$F$2005,4,0) -> 025 | BF12: =VLOOKUP(BB12,'ĐKKCBBĐ K2019(UPDATE)'!$B$6:$G$2005,4,0) -> 025 | BG12: =VLOOKUP(BB12,'ĐKKCBBĐ K2019(UPDATE)'!$B$6:$G$2005,6,0) | BH12: =VLOOKUP(BB12,'ĐKKCBBĐ K2019(UPDATE)'!$B$6:$F$2267,5,0) -> BỆNH VIỆN THỐNG NHẤT | BI12: =VLOOKUP(BB12,'ĐKKCBBĐ K2019(UPDATE)'!B6:G2005,6,0) | BJ12: 0 | BK12: 025 | BL12: BỆNH VIỆN THỒNG NHẤT
A13: 2 | B13: 19000002 | C13: Phùng Đức | D13: Dương | E13: Nam | F13: 17/10/2001 | G13: GD4797936952403 | H13: =LEFT(G13,2) -> GD | I13: =MID(G13,3,1) -> 4 | J13: =MID(G13,4,2) -> 79 | K13: 0 | L13: GD4797936952403 | N13: 19T4-KML1 | R13: Nghĩa Hương, Xã Mỹ Hương, Huyện Lương Tài, Tỉnh Bắc Ninh | S13: 5/25H tổ 14 ấp 2 xã Xuân Thới Thượng huyện Hóc Môn tp Hồ Chí Minh | T13: Nghĩa Hương, Xã Mỹ Hương, Huyện Lương Tài, Tỉnh Bắc Ninh | U13: Nghĩa Hương | V13: Xã Mỹ Hương | W13: Huyện Lương Tài | X13: Tỉnh Bắc Ninh | AM13: Bắc Ninh | AN13: Huyện Lương Tài | AO13: 19T40054 | AP13: Đang học | AQ13: 1 | AR13: 19T4-KML1 | AS13: 10/05/2019 | AT13: 2019 | AU13: 2019 | AV13: Trung cấp | AW13: Chính quy 3 năm | AX13: Khoa Nhiệt – Lạnh | AY13: Kỹ thuật máy lạnh và điều hòa không khí | AZ13: Kỹ thuật máy lạnh và điều hòa không khí | BA13: =BB13&";"&AR13 -> 19000002;19T4-KML1 | BB13: 19000002 | BC13: =VLOOKUP(B13,'ĐKKCBBĐ K2019(UPDATE)'!$B$6:$F$2005,3,0) -> GD4797936952403 | BD13: =VLOOKUP(B13,'ĐKKCBBĐ K2019(UPDATE)'!$B$6:$F$2005,4,0) -> 025 | BG13: =VLOOKUP(BB13,'ĐKKCBBĐ K2019(UPDATE)'!$B$6:$G$2005,6,0) -> 0 | BH13: =VLOOKUP(BB13,'ĐKKCBBĐ K2019(UPDATE)'!$B$6:$F$2267,5,0) -> BỆNH VIỆN THỐNG NHẤT | BI13: =VLOOKUP(BB13,'ĐKKCBBĐ K2019(UPDATE)'!B7:G2006,6,0) -> 0 | BJ13: GD4797936952403 | BK13: 025 | BL13: BỆNH VIỆN THỒNG NHẤT | BM13: 0
A14: 3 | B14: 19000003 | C14: Lê Trọng | D14: Tiến | E14: Nam | F14: 15/03/2002 | G14: HS4797935160094 | H14: =LEFT(G14,2) -> HS | I14: =MID(G14,3,1) -> 4 | J14: =MID(G14,4,2) -> 79 | K14: 0 | L14: HS4797935160094 | N14: 19T4-CNÔ1 | R14: 24 Nguyễn Văn Tỷ, Khu phố 2, thị trấn Củ Chi, huyện Củ Chi, TPHCM | S14: 24 Nguyễn Văn Tỷ, Khu phố 2, thị trấn Củ Chi, huyện Củ Chi, TPHCM | T14: 24 Nguyễn Văn Tỷ Khu Phố 2, Thị Trấn Củ Chi, Huyện Củ Chi, Tphcm | U14: 24 Nguyễn Văn Tỷ Khu Phố 2 | V14: Thị Trấn Củ Chi | W14: Huyện Củ Chi | X14: Thành phố Hồ Chí Minh | AC14: 79 | AD14: Thành phố Hồ Chí Minh | AE14: 783 | AF14: Huyện Củ Chi | AG14: 27496 | AH14: Thị trấn Củ Chi | AM14: Tp. Hồ Chí Minh | AN14: Huyện Củ Chi | AO14: 19T40059 | AP14: Đang học | AQ14: 1 | AR14: 19T4-CNÔ1 | AS14: 10/05/2019 | AT14: 2019 | AU14: 2019 | AV14: Trung cấp | AW14: Chính quy 3 năm | AX14: Khoa Động lực | AY14: Công nghệ ô tô | AZ14: Công nghệ ô tô | BA14: =BB14&";"&AR14 -> 19000003;19T4-CNÔ1 | BB14: 19000003 | BC14: =VLOOKUP(B14,'ĐKKCBBĐ K2019(UPDATE)'!$B$6:$F$2005,3,0) -> HS4797935160094 | BD14: =VLOOKUP(B14,'ĐKKCBBĐ K2019(UPDATE)'!$B$6:$F$2005,4,0) -> 0 | BG14: =VLOOKUP(BB14,'ĐKKCBBĐ K2019(UPDATE)'!$B$6:$G$2005,6,0) -> 0 | BH14: =VLOOKUP(BB14,'ĐKKCBBĐ K2019(UPDATE)'!$B$6:$F$2267,5,0) -> #N/A | BI14: =VLOOKUP(BB14,'ĐKKCBBĐ K2019(UPDATE)'!B8:G2007,6,0) -> 0 | BJ14: HS4797935160094 | BK14: 0 | BL14: 0 | BM14: 0
A15: 4 | B15: 19000004 | C15: Phạm Hữu | D15: Hoàng | E15: Nam | F15: 02/02/1993 | I15: =MID(G15,3,1) | J15: =MID(G15,4,2) | N15: 19C1-LGT1 | R15: Ấp 3 xã Phú Lộc, huyện Tân Phú, tỉnh Đồng Nai | S15: 122/54 Bùi Đình Túy, P12, Quận Bình Thạnh, Tp. HCM | T15: Ấp 3 ,Xã Phú Lộc, Huyện Tân Phú, Tỉnh Đồng Nai | U15: Ấp 3 | V15: Xã Phú Lộc | W15: Huyện Tân Phú | X15: Tỉnh Đồng Nai | AB15: 13/12/2009 | AC15: 75 | AD15: Tỉnh Đồng Nai | AM15: Đồng Nai | AN15: Huyện Tân Phú | AO15: 19C10008 | AP15: Đang học | AQ15: 1 | AR15: 19C1-LGT1 | AS15: 10/05/2019 | AT15: 2019 | AU15: 2019 | AV15: Cao đẳng | AW15: Chính quy 2 năm | AX15: Khoa Kinh tế | AY15: Logistics | AZ15: Logistics | BA15: =BB15&";"&AR15 -> 19000004;19C1-LGT1 | BB15: 19000004 | BC15: =VLOOKUP(B15,'ĐKKCBBĐ K2019(UPDATE)'!$B$6:$F$2005,3,0) -> 0 | BD15: =VLOOKUP(B15,'ĐKKCBBĐ K2019(UPDATE)'!$B$6:$F$2005,4,0) -> 031 | BG15: =VLOOKUP(BB15,'ĐKKCBBĐ K2019(UPDATE)'!$B$6:$G$2005,6,0) | BH15: =VLOOKUP(BB15,'ĐKKCBBĐ K2019(UPDATE)'!$B$6:$F$2267,5,0) -> BỆNH VIỆN QUẬN BÌNH THẠNH | BI15: =VLOOKUP(BB15,'ĐKKCBBĐ K2019(UPDATE)'!B9:G2008,6,0) | BJ15: 0 | BK15: 031 | BL15: BỆNH VIỆN QUẬN BÌNH THẠNH
A16: 5 | B16: 19000005 | C16: Nguyễn Khắc Trung | D16: Kiên | E16: Nam | F16: 10/12/1997 | I16: =MID(G16,3,1) | J16: =MID(G16,4,2) | N16: 19C1-ĐCN1 | R16: Xã Vũ Công, Huyện Kiến Xương, Tỉnh Thái Bình | S16: 257/38/9 đường bình thành, phường bình hưng hoà B, Quận Bình Tân | T16: ,Xã Vũ Công, Huyện Kiến Xương, Tỉnh Thái Bình | V16: Xã Vũ Công | W16: Huyện Kiến Xương | X16: Tỉnh Thái Bình | AB16: 26/03/2016 | AM16: Thái Bình | AN16: Huyện Kiến Xương | AO16: 19C10116 | AP16: Đang học | AQ16: 1 | AR16: 19C1-ĐCN1 | AS16: 10/05/2019 | AT16: 2019 | AU16: 2019 | AV16: Cao đẳng | AW16: Chính quy 2 năm | AX16: Khoa Điện - Điện tử | AY16: Điện công nghiệp | AZ16: Điện công nghiệp | BA16: =BB16&";"&AR16 -> 19000005;19C1-ĐCN1 | BB16: 19000005 | BC16: =VLOOKUP(B16,'ĐKKCBBĐ K2019(UPDATE)'!$B$6:$F$2005,3,0) -> 0 | BD16: =VLOOKUP(B16,'ĐKKCBBĐ K2019(UPDATE)'!$B$6:$F$2005,4,0) -> 025 | BG16: =VLOOKUP(BB16,'ĐKKCBBĐ K2019(UPDATE)'!$B$6:$G$2005,6,0) | BH16: =VLOOKUP(BB16,'ĐKKCBBĐ K2019(UPDATE)'!$B$6:$F$2267,5,0) -> BỆNH VIỆN THỐNG NHẤT | BI16: =VLOOKUP(BB16,'ĐKKCBBĐ K2019(UPDATE)'!B10:G2009,6,0) | BJ16: 0 | BK16: 025 | BL16: BỆNH VIỆN THỒNG NHẤT
A17: 6 | B17: 19000006 | C17: Trần Minh | D17: Quang | E17: Nam | F17: 17/06/1999 | I17: =MID(G17,3,1) | J17: =MID(G17,4,2) | N17: 19C1-CNÔ1 | R17: Ấp 2, Vĩnh Bình, Vĩnh Hưng, Long An | S17: 142/18 Cộng Hòa, Phường 4, Quận Tân Bình, Tp.HCM | T17: Ấp 2, Vĩnh Bình, Vĩnh Hưng, Long An | U17: Ấp 2 | V17: Vĩnh Bình | W17: Vĩnh Hưng | X17: Long An | AM17: Long An | AN17: Huyện Vĩnh Hưng | AO17: 19C10090 | AP17: Đang học | AQ17: 1 | AR17: 19C1-CNÔ1 | AS17: 11/05/2019 | AT17: 2019 | AU17: 2019 | AV17: Cao đẳng | AW17: Chính quy 2 năm | AX17: Khoa Động lực | AY17: Công nghệ ô tô | AZ17: Công nghệ ô tô | BA17: =BB17&";"&AR17 -> 19000006;19C1-CNÔ1 | BB17: 19000006 | BC17: =VLOOKUP(B17,'ĐKKCBBĐ K2019(UPDATE)'!$B$6:$F$2005,3,0) -> 0 | BD17: =VLOOKUP(B17,'ĐKKCBBĐ K2019(UPDATE)'!$B$6:$F$2005,4,0) -> 033 | BG17: =VLOOKUP(BB17,'ĐKKCBBĐ K2019(UPDATE)'!$B$6:$G$2005,6,0) | BH17: =VLOOKUP(BB17,'ĐKKCBBĐ K2019(UPDATE)'!$B$6:$F$2267,5,0) -> BỆNH VIỆN QUẬN TÂN BÌNH | BI17: =VLOOKUP(BB17,'ĐKKCBBĐ K2019(UPDATE)'!B11:G2010,6,0) | BJ17: 0 | BK17: 033 | BL17: BỆNH VIỆN QUẬN TÂN BÌNH
A18: 7 | B18: 19000007 | C18: Lê Minh | D18: Sang | E18: Nam | F18: 28/01/1995 | I18: =MID(G18,3,1) | J18: =MID(G18,4,2) | K18: 8222267122 | L18: 8222267122 | N18: 19C1-TĐH1 | R18: Số 204, tổ 6, ấp 3, xã An Thái Trung, huyện Cái bè, tỉnh Tiền Giang | S18: Số 204, tổ 6, ấp 3, xã An Thái Trung, huyện Cái bè, tỉnh Tiền Giang | T18: Số 204 Tổ 6 Ấp 3, Xã An Thái Trung, Huyện Cái Bè, Tỉnh Tiền Giang | U18: Số 204 Tổ 6 Ấp 3 | V18: Xã An Thái Trung | W18: Huyện Cái Bè | X18: Tỉnh Tiền Giang | AK18: Đối tượng 03 | AM18: Tiền Giang | AN18: Huyện Cái Bè | AO18: 19C10159 | AP18: Đang học | AQ18: 1 | AR18: 19C1-TĐH1 | AS18: 11/05/2019 | AT18: 2019 | AU18: 2019 | AV18: Cao đẳng | AW18: Chính quy 2 năm | AX18: Khoa Điện - Điện tử | AY18: Công nghệ kỹ thuật điều khiển và tự động hóa | AZ18: Công nghệ kỹ thuật điều khiển và tự động hóa | BA18: =BB18&";"&AR18 -> 19000007;19C1-TĐH1 | BB18: 19000007 | BC18: =VLOOKUP(B18,'ĐKKCBBĐ K2019(UPDATE)'!$B$6:$F$2005,3,0) -> 0 | BD18: =VLOOKUP(B18,'ĐKKCBBĐ K2019(UPDATE)'!$B$6:$F$2005,4,0) -> 0 | BG18: =VLOOKUP(BB18,'ĐKKCBBĐ K2019(UPDATE)'!$B$6:$G$2005,6,0) -> 8222267122 | BH18: =VLOOKUP(BB18,'ĐKKCBBĐ K2019(UPDATE)'!$B$6:$F$2267,5,0) -> #N/A | BI18: =VLOOKUP(BB18,'ĐKKCBBĐ K2019(UPDATE)'!B12:G2011,6,0) -> 8222267122 | BJ18: 0 | BK18: 0 | BL18: 0 | BM18: 8222267122
A19: 8 | B19: 19000008 | C19: Võ Trung | D19: Khang | E19: Nam | F19: 17/04/2004 | G19: HS4797931705829 | H19: =LEFT(G19,2) -> HS | I19: =MID(G19,3,1) -> 4 | J19: =MID(G19,4,2) -> 79 | N19: 19T4-VSL1 | R19: 787/72 Trường Chinh p.Tây Thạnh Q.tân Phú | S19: 787/72 Trường Chinh p.Tây Thạnh Q.tân Phú | T19: 787/72 Trường Chinh, P.Tây Thạnh, Q.Tân Phú,HCM | U19: 787/72 Trường Chinh | V19: P.Tây Thạnh | W19: Q.Tân Phú | X19: Thành phố Hồ Chí Minh | AC19: 79 | AD19: Thành phố Hồ Chí Minh | AE19: 767 | AF19: Quận Tân Phú | AG19: 27013 | AH19: Phường Tây Thạnh | AM19: Tp. Hồ Chí Minh | AN19: Quận Tân Phú | AO19: 19T40276 | AP19: Đang học | AQ19: 1 | AR19: 19T4-VSL1 | AS19: 13/05/2019 | AT19: 2019 | AU19: 2019 | AV19: Trung cấp | AW19: Chính quy 3 năm | AX19: Khoa Nhiệt – Lạnh | AY19: Vận hành, sửa chữa thiết bị lạnh | AZ19: Vận hành, sửa chữa thiết bị lạnh | BA19: =BB19&";"&AR19 -> 19000008;19T4-VSL1 | BB19: 19000008 | BC19: =VLOOKUP(B19,'ĐKKCBBĐ K2019(UPDATE)'!$B$6:$F$2005,3,0) -> HS4797931705829 | BD19: =VLOOKUP(B19,'ĐKKCBBĐ K2019(UPDATE)'!$B$6:$F$2005,4,0) -> 054 | BG19: =VLOOKUP(BB19,'ĐKKCBBĐ K2019(UPDATE)'!$B$6:$G$2005,6,0) | BH19: =VLOOKUP(BB19,'ĐKKCBBĐ K2019(UPDATE)'!$B$6:$F$2267,5,0) -> BỆNH VIỆN QUẬN TÂN PHÚ | BI19: =VLOOKUP(BB19,'ĐKKCBBĐ K2019(UPDATE)'!B13:G2012,6,0) | BJ19: HS4797931705829 | BK19: 054 | BL19: BỆNH VIỆN QUẬN TÂN PHÚ
A20: 9 | B20: 19000009 | C20: Nguyễn Lê | D20: Hoàng | E20: Nam | F20: 13/08/2003 | I20: =MID(G20,3,1) | J20: =MID(G20,4,2) | K20: 7934223996 | L20: 7934223996 | N20: 19T4-CNÔ1 | R20: E3/21c3 - Ấp 5A - Xã Vĩnh Lộc A - Huyện Bình Chánh HCM | S20: E3/21c3 - Ấp 5A - Xã Vĩnh Lộc A - Huyện Bình Chánh HCM | T20: E3/21C3 Ấp 5A ,Xã Vĩnh Lộc A , Huyện Bình Chánh, Hcm | U20: E3/21C3 Ấp 5A | V20: Xã Vĩnh Lộc A | W20: Huyện Bình Chánh | X20: Thành phố Hồ Chí Minh | AC20: 79 | AD20: Thành phố Hồ Chí Minh | AE20: 785 | AF20: Huyện Bình Chánh | AG20: 27601 | AH20: Xã Vĩnh Lộc A | AM20: Tp. Hồ Chí Minh | AN20: Huyện Bình Chánh | AO20: 19T40157 | AP20: Đang học | AQ20: 1 | AR20: 19T4-CNÔ1 | AS20: 13/05/2019 | AT20: 2019 | AU20: 2019 | AV20: Trung cấp | AW20: Chính quy 3 năm | AX20: Khoa Động lực | AY20: Công nghệ ô tô | AZ20: Công nghệ ô tô | BA20: =BB20&";"&AR20 -> 19000009;19T4-CNÔ1 | BB20: 19000009 | BC20: =VLOOKUP(B20,'ĐKKCBBĐ K2019(UPDATE)'!$B$6:$F$2005,3,0) -> 0 | BD20: =VLOOKUP(B20,'ĐKKCBBĐ K2019(UPDATE)'!$B$6:$F$2005,4,0) -> 0 | BG20: =VLOOKUP(BB20,'ĐKKCBBĐ K2019(UPDATE)'!$B$6:$G$2005,6,0) -> 7934223996 | BH20: =VLOOKUP(BB20,'ĐKKCBBĐ K2019(UPDATE)'!$B$6:$F$2267,5,0) -> #N/A | BI20: =VLOOKUP(BB20,'ĐKKCBBĐ K2019(UPDATE)'!B14:G2013,6,0) -> 7934223996 | BJ20: 0 | BK20: 0 | BL20: 0 | BM20: 7934223996
A21: 10 | B21: 19000010 | C21: Trần Cao | D21: Long | E21: Nam | F21: 20/11/2004 | I21: =MID(G21,3,1) | J21: =MID(G21,4,2) | N21: 19T4-CNÔ1 | R21: 507/39 Hương Lộ 3 Phường Bình Hưng Hòa Q.bình tân | T21: 507/39 Hương Lộ 3 ,Phường Bình Hưng Hòa, Q.Bình Tân,HCM | U21: 507/39 Hương Lộ 3 | V21: Phường Bình Hưng Hòa | W21: Q.Bình Tân | X21: Thành phố Hồ Chí Minh | AC21: 79 | AD21: Thành phố Hồ Chí Minh | AE21: 777 | AF21: Quận Bình Tân | AG21: 27436 | AH21: Phường Bình Hưng Hòa | AM21: Tp. Hồ Chí Minh | AN21: Quận Bình Tân | AO21: 19T40117 | AP21: Đang học | AQ21: 1 | AR21: 19T4-CNÔ1 | AS21: 13/05/2019 | AT21: 2019 | AU21: 2019 | AV21: Trung cấp | AW21: Chính quy 3 năm | AX21: Khoa Động lực | AY21: Công nghệ ô tô | AZ21: Công nghệ ô tô | BA21: =BB21&";"&AR21 -> 19000010;19T4-CNÔ1 | BB21: 19000010 | BC21: =VLOOKUP(B21,'ĐKKCBBĐ K2019(UPDATE)'!$B$6:$F$2005,3,0) -> 0 | BD21: =VLOOKUP(B21,'ĐKKCBBĐ K2019(UPDATE)'!$B$6:$F$2005,4,0) -> 055 | BG21: =VLOOKUP(BB21,'ĐKKCBBĐ K2019(UPDATE)'!$B$6:$G$2005,6,0) | BH21: =VLOOKUP(BB21,'ĐKKCBBĐ K2019(UPDATE)'!$B$6:$F$2267,5,0) -> BỆNH VIỆN QUẬN BÌNH TÂN | BI21: =VLOOKUP(BB21,'ĐKKCBBĐ K2019(UPDATE)'!B15:G2014,6,0) | BJ21: 0 | BK21: 055 | BL21: BỆNH VIỆN QUẬN BÌNH TÂN
A22: 11 | B22: 19000011 | C22: Huỳnh Nhựt | D22: Thành | E22: Nam | F22: 08/01/2003 | G22: HS4797934005910 | H22: =LEFT(G22,2) -> HS | I22: =MID(G22,3,1) -> 4 | J22: =MID(G22,4,2) -> 79 | K22: 0 | L22: HS4797934005910 | N22: 19T4-CNÔ1 | R22: 139/26/13 Chiến Lược, P. Bình Trị Đông, Q. Bình Tân, TPHCM | S22: 139/26/13 Chiến Lược, P. Bình Trị Đông, Q. Bình Tân, TPHCM | T22: 139/26/13 Chiến Lược, P. Bình Trị Đông, Q. Bình Tân, Tphcm | U22: 139/26/13 Chiến Lược | V22: P. Bình Trị Đông | W22: Q. Bình Tân | X22: Thành phố Hồ Chí Minh | AC22: 79 | AD22: Thành phố Hồ Chí Minh | AE22: 777 | AF22: Quận Bình Tân | AG22: 27445 | AH22: Phường Bình Trị Đông | AM22: Tp. Hồ Chí Minh | AN22: Quận Bình Tân | AO22: 19T40039 | AP22: Đang học | AQ22: 1 | AR22: 19T4-CNÔ1 | AS22: 13/05/2019 | AT22: 2019 | AU22: 2019 | AV22: Trung cấp | AW22: Chính quy 3 năm | AX22: Khoa Động lực | AY22: Công nghệ ô tô | AZ22: Công nghệ ô tô | BA22: =BB22&";"&AR22 -> 19000011;19T4-CNÔ1 | BB22: 19000011 | BC22: =VLOOKUP(B22,'ĐKKCBBĐ K2019(UPDATE)'!$B$6:$F$2005,3,0) -> HS4797934005910 | BD22: =VLOOKUP(B22,'ĐKKCBBĐ K2019(UPDATE)'!$B$6:$F$2005,4,0) -> 013 | BG22: =VLOOKUP(BB22,'ĐKKCBBĐ K2019(UPDATE)'!$B$6:$G$2005,6,0) -> 0 | BH22: =VLOOKUP(BB22,'ĐKKCBBĐ K2019(UPDATE)'!$B$6:$F$2267,5,0) -> BỆNH VIỆN NGUYỄN TRI PHƯƠNG | BI22: =VLOOKUP(BB22,'ĐKKCBBĐ K2019(UPDATE)'!B16:G2015,6,0) -> 0 | BJ22: HS4797934005910 | BK22: 013 | BL22: BỆNH VIỆN NGUYỄN TRI PHƯƠNG | BM22: 0
A23: 12 | B23: 19000012 | C23: Nguyễn Hoàng Minh | D23: Quân | E23: Nam | F23: 13/12/2000 | G23: GD4797933322737 | H23: =LEFT(G23,2) -> GD | I23: =MID(G23,3,1) -> 4 | J23: =MID(G23,4,2) -> 79 | K23: 0 | L23: GD 4797933322737 | N23: 19C1-CNÔ1 | R23: 995/122 Hồng Bàng, Phường 12, Quận 6, Tp.Hồ Chí Minh | S23: 995/122 Hồng Bàng, Phường 12, Quận 6, Tp.Hồ Chí Minh | T23: 995/122 Hồng Bàng, Phường 12, Quận 6, Tp.Hồ Chí Minh | U23: 995/122 Hồng Bàng | V23: Phường 12 | W23: Quận 6 | X23: Thành phố Hồ Chí Minh | AC23: 79 | AD23: Thành phố Hồ Chí Minh | AE23: 775 | AF23: Quận 6 | AG23: 27358 | AH23: Phường 12 | AM23: Tp. Hồ Chí Minh | AN23: Quận 6 | AO23: 19C10036 | AP23: Đang học | AQ23: 1 | AR23: 19C1-CNÔ1 | AS23: 13/05/2019 | AT23: 2019 | AU23: 2019 | AV23: Cao đẳng | AW23: Chính quy 2 năm | AX23: Khoa Động lực | AY23: Công nghệ ô tô | AZ23: Công nghệ ô tô | BA23: =BB23&";"&AR23 -> 19000012;19C1-CNÔ1 | BB23: 19000012 | BC23: =VLOOKUP(B23,'ĐKKCBBĐ K2019(UPDATE)'!$B$6:$F$2005,3,0) -> GD4797933322737 | BD23: =VLOOKUP(B23,'ĐKKCBBĐ K2019(UPDATE)'!$B$6:$F$2005,4,0) -> 012 | BG23: =VLOOKUP(BB23,'ĐKKCBBĐ K2019(UPDATE)'!$B$6:$G$2005,6,0) -> 0 | BH23: =VLOOKUP(BB23,'ĐKKCBBĐ K2019(UPDATE)'!$B$6:$F$2267,5,0) -> BỆNH VIỆN AN BÌNH | BI23: =VLOOKUP(BB23,'ĐKKCBBĐ K2019(UPDATE)'!B17:G2016,6,0) -> 0 | BJ23: GD4797933322737 | BK23: 012 | BL23: BỆNH VIỆN AN BÌNH | BM23: 0
A24: 13 | B24: 19000013 | C24: Nguyễn Nhật | D24: Huy | E24: Nam | F24: 11/05/2004 | G24: HS4797930311705 | H24: =LEFT(G24,2) -> HS | I24: =MID(G24,3,1) -> 4 | J24: =MID(G24,4,2) -> 79 | K24: 0 | L24: 7930311750 | N24: 19T4-TKĐ1 | R24: 411/11/ Lê Đức Thọ f.17 | T24: 411/11/ Lê Đức Thọ ,F.17, QUẬN GÒ VẤP, TPHCM | U24: 411/11/ Lê Đức Thọ | V24: F.17 | W24: QUẬN GÒ VẤP | X24: Thành phố Hồ Chí Minh | AC24: 79 | AD24: Thành phố Hồ Chí Minh | AE24: 764 | AF24: Quận Gò Vấp | AG24: 26875 | AH24: Phường 17 | AM24: Tp. Hồ Chí Minh | AN24: Quận Gò Vấp | AO24: 19T40172 | AP24: Đang học | AQ24: 1 | AR24: 19T4-TKĐ1 | AS24: 13/05/2019 | AT24: 2019 | AU24: 2019 | AV24: Trung cấp | AW24: Chính quy 3 năm | AX24: Khoa Công nghệ Thông tin | AY24: Thiết kế đồ họa | AZ24: Thiết kế đồ họa | BA24: =BB24&";"&AR24 -> 19000013;19T4-TKĐ1 | BB24: 19000013 | BC24: =VLOOKUP(B24,'ĐKKCBBĐ K2019(UPDATE)'!$B$6:$F$2005,3,0) -> HS4797930311705 | BD24: =VLOOKUP(B24,'ĐKKCBBĐ K2019(UPDATE)'!$B$6:$F$2005,4,0) -> 470 | BG24: =VLOOKUP(BB24,'ĐKKCBBĐ K2019(UPDATE)'!$B$6:$G$2005,6,0) -> 0 | BH24: =VLOOKUP(BB24,'ĐKKCBBĐ K2019(UPDATE)'!$B$6:$F$2267,5,0) -> PHÒNG KHÁM ĐA KHOA CƠ SỞ 2 - BỆNH VIỆN QUẬN GÒ VẤP | BI24: =VLOOKUP(BB24,'ĐKKCBBĐ K2019(UPDATE)'!B18:G2017,6,0) -> 0 | BJ24: HS4797930311705 | BK24: 470 | BL24: PHÒNG KHÁM ĐA KHOA CƠ SỞ 2 - BỆNH VIỆN QUẬN GÒ VẤP | BM24: 0
A25: 14 | B25: 19000014 | C25: Vũ Trường | D25: Khanh | E25: Nam | F25: 30/10/2004 | I25: =MID(G25,3,1) | J25: =MID(G25,4,2) | K25: 7931924170 | L25: 7931924170 | N25: 19T4-LTM1 | R25: 499/44 Quang Trung, P.10, Q.Gò Vấp, TPHCM | T25: 499/44 Quang Trung, P.10, Q.Gò Vấp, Tphcm | U25: 499/44 Quang Trung | V25: P.10 | W25: Q.Gò Vấp | X25: Thành phố Hồ Chí Minh | AC25: 79 | AD25: Thành phố Hồ Chí Minh | AE25: 764 | AF25: Quận Gò Vấp | AG25: 26884 | AH25: Phường 10 | AM25: Tp. Hồ Chí Minh | AN25: Quận Gò Vấp | AO25: 19T40164 | AP25: Đang học | AQ25: 1 | AR25: 19T4-LTM1 | AS25: 14/05/2019 | AT25: 2019 | AU25: 2019 | AV25: Trung cấp | AW25: Chính quy 3 năm | AX25: Khoa Công nghệ Thông tin | AY25: Lập trình máy tính | AZ25: Lập trình máy tính | BA25: =BB25&";"&AR25 -> 19000014;19T4-LTM1 | BB25: 19000014 | BC25: =VLOOKUP(B25,'ĐKKCBBĐ K2019(UPDATE)'!$B$6:$F$2005,3,0) -> 0 | BD25: =VLOOKUP(B25,'ĐKKCBBĐ K2019(UPDATE)'!$B$6:$F$2005,4,0) -> 470 | BG25: =VLOOKUP(BB25,'ĐKKCBBĐ K2019(UPDATE)'!$B$6:$G$2005,6,0) -> 7931924170 | BH25: =VLOOKUP(BB25,'ĐKKCBBĐ K2019(UPDATE)'!$B$6:$F$2267,5,0) -> PHÒNG KHÁM ĐA KHOA CƠ SỞ 2 - BỆNH VIỆN QUẬN GÒ VẤP | BI25: =VLOOKUP(BB25,'ĐKKCBBĐ K2019(UPDATE)'!B19:G2018,6,0) -> 7931924170 | BJ25: 0 | BK25: 470 | BL25: PHÒNG KHÁM ĐA KHOA CƠ SỞ 2 - BỆNH VIỆN QUẬN GÒ VẤP | BM25: 7931924170
A26: 15 | B26: 19000015 | C26: Vũ Ngọc Mai | D26: Khanh | E26: Nữ | F26: 30/10/2004 | I26: =MID(G26,3,1) | J26: =MID(G26,4,2) | K26: 7931883424 | L26: 7931883424 | N26: 19T4-MTT1 | R26: 499/44 Quang Trung, P.10, Quận Gò Vấp, TPHCM | T26: 499/44 Quang Trung, P.10, Quận Gò Vấp, Tphcm | U26: 499/44 Quang Trung | V26: P.10 | W26: Quận Gò Vấp | X26: Thành phố Hồ Chí Minh | AC26: 79 | AD26: Thành phố Hồ Chí Minh | AE26: 764 | AF26: Quận Gò Vấp | AG26: 26884 | AH26: Phường 10 | AM26: Tp. Hồ Chí Minh | AN26: Quận Gò Vấp | AO26: 19T40175 | AP26: Đang học | AQ26: 1 | AR26: 19T4-MTT1 | AS26: 14/05/2019 | AT26: 2019 | AU26: 2019 | AV26: Trung cấp | AW26: Chính quy 3 năm | AX26: Khoa May - Thời trang | AY26: May thời trang | AZ26: May thời trang | BA26: =BB26&";"&AR26 -> 19000015;19T4-MTT1 | BB26: 19000015 | BC26: =VLOOKUP(B26,'ĐKKCBBĐ K2019(UPDATE)'!$B$6:$F$2005,3,0) -> 0 | BD26: =VLOOKUP(B26,'ĐKKCBBĐ K2019(UPDATE)'!$B$6:$F$2005,4,0) -> 470 | BG26: =VLOOKUP(BB26,'ĐKKCBBĐ K2019(UPDATE)'!$B$6:$G$2005,6,0) -> 7931883424 | BH26: =VLOOKUP(BB26,'ĐKKCBBĐ K2019(UPDATE)'!$B$6:$F$2267,5,0) -> PHÒNG KHÁM ĐA KHOA CƠ SỞ 2 - BỆNH VIỆN QUẬN GÒ VẤP | BI26: =VLOOKUP(BB26,'ĐKKCBBĐ K2019(UPDATE)'!B20:G2019,6,0) -> 7931883424 | BJ26: 0 | BK26: 470 | BL26: PHÒNG KHÁM ĐA KHOA CƠ SỞ 2 - BỆNH VIỆN QUẬN GÒ VẤP | BM26: 7931883424
A27: 16 | B27: 19000016 | C27: Nguyễn Dương | D27: Thanh | E27: Nam | F27: 11/03/1997 | G27: GD4808023599812 | H27: =LEFT(G27,2) -> GD | I27: =MID(G27,3,1) -> 4 | J27: =MID(G27,4,2) -> 80 | K27: 0 | L27: GD 4808023599812 | N27: 19C1-CNL1 | R27: 52 ấp Xóm Mới, xã Tân Lân, huyện Cần Đước, tỉnh Long An | S27: 52 ấp Xóm Mới, xã Tân Lân, huyện Cần Đước, tỉnh Long An | T27: 52 Ấp Xóm Mới, Xã Tân Lân, Huyện Cần Đước, Tỉnh Long An | U27: 52 Ấp Xóm Mới | V27: Xã Tân Lân | W27: Huyện Cần Đước | X27: Tỉnh Long An | AK27: Đối tượng 03 | AM27: Long An | AN27: Huyện Cần Đước | AO27: 19C10088 | AP27: Đang học | AQ27: 1 | AR27: 19C1-CNL1 | AS27: 14/05/2019 | AT27: 2019 | AU27: 2019 | AV27: Cao đẳng | AW27: Chính quy 2 năm | AX27: Khoa Nhiệt – Lạnh | AY27: Công nghệ kỹ thuật nhiệt | AZ27: Công nghệ kỹ thuật nhiệt | BA27: =BB27&";"&AR27 -> 19000016;19C1-CNL1 | BB27: 19000016 | BC27: =VLOOKUP(B27,'ĐKKCBBĐ K2019(UPDATE)'!$B$6:$F$2005,3,0) -> GD4808023599812 | BD27: =VLOOKUP(B27,'ĐKKCBBĐ K2019(UPDATE)'!$B$6:$F$2005,4,0) -> 0 | BG27: =VLOOKUP(BB27,'ĐKKCBBĐ K2019(UPDATE)'!$B$6:$G$2005,6,0) -> 0 | BH27: =VLOOKUP(BB27,'ĐKKCBBĐ K2019(UPDATE)'!$B$6:$F$2267,5,0) -> #N/A | BI27: =VLOOKUP(BB27,'ĐKKCBBĐ K2019(UPDATE)'!B21:G2020,6,0) -> 0 | BJ27: GD4808023599812 | BK27: 0 | BL27: có thẻ BHYT | BM27: 0
A28: 17 | B28: 19000017 | C28: Đặng Hữu | D28: Giác | E28: Nam | F28: 19/10/2000 | I28: =MID(G28,3,1) | J28: =MID(G28,4,2) | K28: 9122136081 | L28: 9122136081 | N28: 19C1-CNÔ1 | R28: Lô D11, khu dân cư ấp Tân Hoà B,xã Tân Hoà,huyện Tân Hiệp,tỉnh Kiên Giang | S28: 194 Trần Bá Giao, Phường 5, Quận Gò Vấp, Tp.HCM | T28: Lô D11 Khu Dân Cư Ấp Tân Hoà B,Xã Tân Hoà,Huyện Tân Hiệp,Tỉnh Kiên Giang | U28: Lô D11 Khu Dân Cư Ấp Tân Hoà B | V28: Xã Tân Hoà | W28: Huyện Tân Hiệp | X28: Tỉnh Kiên Giang | AM28: Kiên Giang | AN28: Huyện Tân Hiệp | AO28: 19C10004 | AP28: Đang học | AQ28: 1 | AR28: 19C1-CNÔ1 | AS28: 14/05/2019 | AT28: 2019 | AU28: 2019 | AV28: Cao đẳng | AW28: Chính quy 2 năm | AX28: Khoa Động lực | AY28: Công nghệ ô tô | AZ28: Công nghệ ô tô | BA28: =BB28&";"&AR28 -> 19000017;19C1-CNÔ1 | BB28: 19000017 | BC28: =VLOOKUP(B28,'ĐKKCBBĐ K2019(UPDATE)'!$B$6:$F$2005,3,0) -> 0 | BD28: =VLOOKUP(B28,'ĐKKCBBĐ K2019(UPDATE)'!$B$6:$F$2005,4,0) -> 034 | BG28: =VLOOKUP(BB28,'ĐKKCBBĐ K2019(UPDATE)'!$B$6:$G$2005,6,0) -> 9122136081 | BH28: =VLOOKUP(BB28,'ĐKKCBBĐ K2019(UPDATE)'!$B$6:$F$2267,5,0) -> BỆNH VIỆN 175 | BI28: =VLOOKUP(BB28,'ĐKKCBBĐ K2019(UPDATE)'!B22:G2021,6,0) -> 9122136081 | BJ28: 0 | BK28: 034 | BL28: BỆNH VIỆN 175 | BM28: 9122136081
A29: 18 | B29: 19000018 | C29: Đào Thanh | D29: Tùng | E29: Nam | F29: 03/12/2002 | I29: =MID(G29,3,1) | J29: =MID(G29,4,2) | K29: 7931161714 | L29: 7931161714 | N29: 19T4-CNÔ1 | R29: 154/31/11A Đường Cống Lỡ, P.15, Q.Tân Bình, TPHCM | T29: 154/31/11A Đường Cống Lỡ, P.15, Q.Tân Bình, Tphcm | U29: 154/31/11A Đường Cống Lỡ | V29: P.15 | W29: Q.Tân Bình | X29: Thành phố Hồ Chí Minh | AC29: 79 | AD29: Thành phố Hồ Chí Minh | AE29: 766 | AF29: Quận Tân Bình | AG29: 27007 | AH29: Phường 15 | AM29: Tp. Hồ Chí Minh | AN29: Quận Tân Bình | AO29: 19T40122 | AP29: Đang học | AQ29: 1 | AR29: 19T4-CNÔ1 | AS29: 14/05/2019 | AT29: 2019 | AU29: 2019 | AV29: Trung cấp | AW29: Chính quy 3 năm | AX29: Khoa Động lực | AY29: Công nghệ ô tô | AZ29: Công nghệ ô tô | BA29: =BB29&";"&AR29 -> 19000018;19T4-CNÔ1 | BB29: 19000018 | BC29: =VLOOKUP(B29,'ĐKKCBBĐ K2019(UPDATE)'!$B$6:$F$2005,3,0) -> HS4797931161714 | BD29: =VLOOKUP(B29,'ĐKKCBBĐ K2019(UPDATE)'!$B$6:$F$2005,4,0) -> 025 | BG29: =VLOOKUP(BB29,'ĐKKCBBĐ K2019(UPDATE)'!$B$6:$G$2005,6,0) -> 7931161714 | BH29: =VLOOKUP(BB29,'ĐKKCBBĐ K2019(UPDATE)'!$B$6:$F$2267,5,0) -> BỆNH VIỆN THỐNG NHẤT | BI29: =VLOOKUP(BB29,'ĐKKCBBĐ K2019(UPDATE)'!B23:G2022,6,0) -> 7931161714 | BJ29: 0 | BK29: 025 | BL29: BỆNH VIỆN THỒNG NHẤT | BM29: 7931161714
A30: 19 | B30: 19000019 | C30: Phạm Hoàng | D30: Khôi | E30: Nam | F30: 17/07/2002 | I30: =MID(G30,3,1) | J30: =MID(G30,4,2) | K30: 7930510278 | L30: 7930510278 | N30: 19T4-CNÔ1 | R30: 125/16/26 Bùi Đình Túy P.24 Q.Bình Thạnh Tp HCM | T30: 125/16/26 Bùi Đình Túy, P.24 ,Q.Bình Thạnh, Tp Hcm | U30: 125/16/26 Bùi Đình Túy | V30: P.24 | W30: Q.Bình Thạnh | X30: Thành phố Hồ Chí Minh | AC30: 79 | AD30: Thành phố Hồ Chí Minh | AE30: 765 | AF30: Quận Bình Thạnh | AG30: 26929 | AH30: Phường 24 | AM30: Tp. Hồ Chí Minh | AN30: Huyện Bình Chánh | AO30: 19T40314 | AP30: Đang học | AQ30: 1 | AR30: 19T4-CNÔ1 | AS30: 14/05/2019 | AT30: 2019 | AU30: 2019 | AV30: Trung cấp | AW30: Chính quy 3 năm | AX30: Khoa Động lực | AY30: Công nghệ ô tô | AZ30: Công nghệ ô tô | BA30: =BB30&";"&AR30 -> 19000019;19T4-CNÔ1 | BB30: 19000019 | BC30: =VLOOKUP(B30,'ĐKKCBBĐ K2019(UPDATE)'!$B$6:$F$2005,3,0) -> 0 | BD30: =VLOOKUP(B30,'ĐKKCBBĐ K2019(UPDATE)'!$B$6:$F$2005,4,0) -> 0 | BG30: =VLOOKUP(BB30,'ĐKKCBBĐ K2019(UPDATE)'!$B$6:$G$2005,6,0) -> 7930510278 | BH30: =VLOOKUP(BB30,'ĐKKCBBĐ K2019(UPDATE)'!$B$6:$F$2267,5,0) -> #N/A | BI30: =VLOOKUP(BB30,'ĐKKCBBĐ K2019(UPDATE)'!B24:G2023,6,0) -> 7930510278 | BJ30: 0 | BK30: 0 | BL30: 0 | BM30: 7930510278
A31: 20 | B31: 19000020 | C31: Phan Nguyễn Thanh | D31: Thiện | E31: Nam | F31: 31/05/1996 | I31: =MID(G31,3,1) | J31: =MID(G31,4,2) | K31: 7222247032 | L31: 7222247032 | N31: 19T4-ĐCN1 | R31: Phước Trung , Phước Chỉ , Trảng Bàng , Tây Ninh | S31: Phước Trung, Phước Chỉ, Trảng Bàng, Tây Ninh | T31: Phước Trung , Phước Chỉ , Trảng Bàng , Tây Ninh | U31: Phước Trung | V31: Phước Chỉ | W31: Trảng Bàng | X31: Tây Ninh | AM31: Tây Ninh | AN31: Huyện Trảng Bàng | AO31: 19T40106 | AP31: Đang học | AQ31: 1 | AR31: 19T4-ĐCN1 | AS31: 15/05/2019 | AT31: 2019 | AU31: 2019 | AV31: Trung cấp | AW31: Chính quy 3 năm | AX31: Khoa Điện - Điện tử | AY31: Điện công nghiệp | AZ31: Điện công nghiệp | BA31: =BB31&";"&AR31 -> 19000020;19T4-ĐCN1 | BB31: 19000020 | BC31: =VLOOKUP(B31,'ĐKKCBBĐ K2019(UPDATE)'!$B$6:$F$2005,3,0) -> 0 | BD31: =VLOOKUP(B31,'ĐKKCBBĐ K2019(UPDATE)'!$B$6:$F$2005,4,0) -> 054 | BG31: =VLOOKUP(BB31,'ĐKKCBBĐ K2019(UPDATE)'!$B$6:$G$2005,6,0) -> 7222247032 | BH31: =VLOOKUP(BB31,'ĐKKCBBĐ K2019(UPDATE)'!$B$6:$F$2267,5,0) -> BỆNH VIỆN QUẬN TÂN PHÚ | BI31: =VLOOKUP(BB31,'ĐKKCBBĐ K2019(UPDATE)'!B25:G2024,6,0) -> 7222247032 | BJ31: 0 | BK31: 054 | BL31: BỆNH VIỆN QUẬN TÂN PHÚ | BM31: 7222247032
A32: 21 | B32: 19000021 | C32: Đỗ Viết Thành | D32: An | E32: Nam | F32: 20/03/2004 | I32: =MID(G32,3,1) | J32: =MID(G32,4,2) | K32: 7937711664 | L32: 7937711664 | N32: 19T4-ĐCN1 | R32: 66/25 Phan Sào Nam P.11 Q.Tân Bình | T32: 66/25 Phan Sào Nam, P.11, Q.Tân Bình,TPHCM | U32: 66/25 Phan Sào Nam | V32: P.11 | W32: Q.Tân Bình | X32: Thành phố Hồ Chí Minh | AC32: 79 | AD32: Thành phố Hồ Chí Minh | AE32: 766 | AF32: Quận Tân Bình | AG32: 26983 | AH32: Phường 11 | AM32: Tp. Hồ Chí Minh | AN32: Quận Tân Bình | AO32: 19T40112 | AP32: Đang học | AQ32: 1 | AR32: 19T4-ĐCN1 | AS32: 15/05/2019 | AT32: 2019 | AU32: 2019 | AV32: Trung cấp | AW32: Chính quy 3 năm | AX32: Khoa Điện - Điện tử | AY32: Điện công nghiệp | AZ32: Điện công nghiệp | BA32: =BB32&";"&AR32 -> 19000021;19T4-ĐCN1 | BB32: 19000021 | BC32: =VLOOKUP(B32,'ĐKKCBBĐ K2019(UPDATE)'!$B$6:$F$2005,3,0) -> 0 | BD32: =VLOOKUP(B32,'ĐKKCBBĐ K2019(UPDATE)'!$B$6:$F$2005,4,0) -> 0 | BG32: =VLOOKUP(BB32,'ĐKKCBBĐ K2019(UPDATE)'!$B$6:$G$2005,6,0) -> 7937711664 | BH32: =VLOOKUP(BB32,'ĐKKCBBĐ K2019(UPDATE)'!$B$6:$F$2267,5,0) -> #N/A | BI32: =VLOOKUP(BB32,'ĐKKCBBĐ K2019(UPDATE)'!B26:G2025,6,0) -> 7937711664 | BJ32: 0 | BK32: 0 | BL32: 0 | BM32: 7937711664
A33: 22 | B33: 19000022 | C33: Đào Tấn | D33: Phát | E33: Nam | F33: 24/11/2003 | I33: =MID(G33,3,1) | J33: =MID(G33,4,2) | K33: 6021111837 | L33: 6021111837 | N33: 19T4-CĐT1 | R33: Tổ 10, Thôn 4, Đức Hạnh, Đức Linh, Bình Thuận | S33: 36/13 Đường Bình Gỉa, Phường 13, Quận Tân Bình, Tp.HCM | T33: Tổ 10 Thôn 4, Đức Hạnh, Đức Linh, Bình Thuận | U33: Tổ 10 Thôn 4 | V33: Đức Hạnh | W33: Đức Linh | X33: Bình Thuận | AM33: Bình Thuận | AN33: Huyện Đức Linh | AO33: 19T40070 | AP33: Đang học | AQ33: 1 | AR33: 19T4-CĐT1 | AS33: 15/05/2019 | AT33: 2019 | AU33: 2019 | AV33: Trung cấp | AW33: Chính quy 3 năm | AX33: Khoa Điện - Điện tử | AY33: Cơ điện tử | AZ33: Cơ điện tử | BA33: =BB33&";"&AR33 -> 19000022;19T4-CĐT1 | BB33: 19000022 | BC33: =VLOOKUP(B33,'ĐKKCBBĐ K2019(UPDATE)'!$B$6:$F$2005,3,0) -> 0 | BD33: =VLOOKUP(B33,'ĐKKCBBĐ K2019(UPDATE)'!$B$6:$F$2005,4,0) -> 0 | BG33: =VLOOKUP(BB33,'ĐKKCBBĐ K2019(UPDATE)'!$B$6:$G$2005,6,0) -> 6021111837 | BH33: =VLOOKUP(BB33,'ĐKKCBBĐ K2019(UPDATE)'!$B$6:$F$2267,5,0) -> #N/A | BI33: =VLOOKUP(BB33,'ĐKKCBBĐ K2019(UPDATE)'!B27:G2026,6,0) -> 6021111837 | BJ33: 0 | BK33: 0 | BL33: 0 | BM33: 6021111837
A34: 23 | B34: 19000023 | C34: Nguyễn Cao | D34: Hưng | E34: Nam | F34: 02/07/1998 | G34: HS4797934304799 | H34: =LEFT(G34,2) -> HS | I34: =MID(G34,3,1) -> 4 | J34: =MID(G34,4,2) -> 79 | K34: 0 | L34: HS 4797934304799 | N34: 19T2-TKW1 | R34: 30/2 Nguyễn Văn Cự kp5 p Tân Tạo A Q.Binh Tân Tp HCM | T34: 30/2 Nguyễn Văn Cự Kp5, P Tân Tạo A, Q.Binh Tân, Tp Hcm | U34: 30/2 Nguyễn Văn Cự Kp5 | V34: P Tân Tạo A | W34: Q.Binh Tân | X34: Thành phố Hồ Chí Minh | AC34: 79 | AD34: Thành phố Hồ Chí Minh | AE34: 777 | AF34: Quận Bình Tân | AG34: 27457 | AH34: Phường Tân Tạo A | AM34: Tp. Hồ Chí Minh | AN34: Quận Bình Tân | AO34: 19T20059 | AP34: Đang học | AQ34: 1 | AR34: 19T2-TKW1 | AS34: 15/05/2019 | AT34: 2019 | AU34: 2019 | AV34: Trung cấp | AW34: Chính quy 1N3 | AX34: Khoa Công nghệ Thông tin | AY34: Thiết kế trang Web | AZ34: Thiết kế trang Web | BA34: =BB34&";"&AR34 -> 19000023;19T2-TKW1 | BB34: 19000023 | BC34: =VLOOKUP(B34,'ĐKKCBBĐ K2019(UPDATE)'!$B$6:$F$2005,3,0) -> HS4797934304799 | BD34: =VLOOKUP(B34,'ĐKKCBBĐ K2019(UPDATE)'!$B$6:$F$2005,4,0) -> 0 | BG34: =VLOOKUP(BB34,'ĐKKCBBĐ K2019(UPDATE)'!$B$6:$G$2005,6,0) -> 0 | BH34: =VLOOKUP(BB34,'ĐKKCBBĐ K2019(UPDATE)'!$B$6:$F$2267,5,0) -> #N/A | BI34: =VLOOKUP(BB34,'ĐKKCBBĐ K2019(UPDATE)'!B28:G2027,6,0) -> 0 | BJ34: HS4797934304799 | BK34: 0 | BL34: 0 | BM34: 0
A35: 24 | B35: 19000024 | C35: Tô Hà Kỳ | D35: Duyên | E35: Nữ | F35: 06/02/2004 | I35: =MID(G35,3,1) | J35: =MID(G35,4,2) | K35: 7932371881 | L35: 7932371881 | N35: 19T4-NNA1 | R35: 152/48 Lý Chính Thắng, P.7, Q.3, TPHCM | S35: 164C Võ Thị Sáu, Phường 8, Tp.HCM | T35: 152/48 Lý Chính Thắng, P.7, Q.3, Tphcm | U35: 152/48 Lý Chính Thắng | V35: P.7 | W35: Q.3 | X35: Thành phố Hồ Chí Minh | AC35: 79 | AD35: Thành phố Hồ Chí Minh | AE35: 770 | AF35: Quận 3 | AG35: 27124 | AH35: Phường 07 | AM35: Tp. Hồ Chí Minh | AN35: Quận 3 | AO35: 19T40348 | AP35: Đang học | AQ35: 1 | AR35: 19T4-NNA1 | AS35: 15/05/2019 | AT35: 2019 | AU35: 2019 | AV35: Trung cấp | AW35: Chính quy 3 năm | AX35: Khoa Khoa học cơ bản | AY35: Tiếng Anh | AZ35: Tiếng Anh | BA35: =BB35&";"&AR35 -> 19000024;19T4-NNA1 | BB35: 19000024 | BC35: =VLOOKUP(B35,'ĐKKCBBĐ K2019(UPDATE)'!$B$6:$F$2005,3,0) -> 0 | BD35: =VLOOKUP(B35,'ĐKKCBBĐ K2019(UPDATE)'!$B$6:$F$2005,4,0) -> 0 | BG35: =VLOOKUP(BB35,'ĐKKCBBĐ K2019(UPDATE)'!$B$6:$G$2005,6,0) -> 7932371881 | BH35: =VLOOKUP(BB35,'ĐKKCBBĐ K2019(UPDATE)'!$B$6:$F$2267,5,0) -> #N/A | BI35: =VLOOKUP(BB35,'ĐKKCBBĐ K2019(UPDATE)'!B29:G2028,6,0) -> 7932371881 | BJ35: 0 | BK35: 0 | BL35: 0 | BM35: 7932371881
A36: 25 | B36: 19000025 | C36: Nguyễn Minh | D36: Ánh | E36: Nữ | F36: 23/07/2004 | I36: =MID(G36,3,1) | J36: =MID(G36,4,2) | K36: 7930937730 | L36: 7930937730 | N36: 19T4-TKĐ1 | R36: 291D Hoàng Văn Thụ, P.2, Q. Tân Bình, TPHCM | T36: 291D Hoàng Văn Thụ, P.2, Q. Tân Bình, Tphcm | U36: 291D Hoàng Văn Thụ | V36: P.2 | W36: Q.Tân Bình | X36: Thành phố Hồ Chí Minh | AC36: 79 | AD36: Thành phố Hồ Chí Minh | AE36: 766 | AF36: Quận Tân Bình | AG36: 26965 | AH36: Phường 02 | AM36: Tp. Hồ Chí Minh | AN36: Quận Tân Phú | AO36: 19T40163 | AP36: Đang học | AQ36: 1 | AR36: 19T4-TKĐ1 | AS36: 15/05/2019 | AT36: 2019 | AU36: 2019 | AV36: Trung cấp | AW36: Chính quy 3 năm | AX36: Khoa Công nghệ Thông tin | AY36: Thiết kế đồ họa | AZ36: Thiết kế đồ họa | BA36: =BB36&";"&AR36 -> 19000025;19T4-TKĐ1 | BB36: 19000025 | BC36: =VLOOKUP(B36,'ĐKKCBBĐ K2019(UPDATE)'!$B$6:$F$2005,3,0) -> 0 | BD36: =VLOOKUP(B36,'ĐKKCBBĐ K2019(UPDATE)'!$B$6:$F$2005,4,0) -> 032 | BG36: =VLOOKUP(BB36,'ĐKKCBBĐ K2019(UPDATE)'!$B$6:$G$2005,6,0) -> 7930937730 | BH36: =VLOOKUP(BB36,'ĐKKCBBĐ K2019(UPDATE)'!$B$6:$F$2267,5,0) -> BỆNH VIỆN QUẬN PHÚ NHUẬN | BI36: =VLOOKUP(BB36,'ĐKKCBBĐ K2019(UPDATE)'!B30:G2029,6,0) -> 7930937730 | BJ36: 0 | BK36: 032 | BL36: BỆNH VIỆN QUẬN PHÚ NHUẬN | BM36: 7930937730
A37: 26 | B37: 19000026 | C37: Võ Kiều Minh | D37: Thư | E37: Nữ | F37: 25/02/1999 | I37: =MID(G37,3,1) | J37: =MID(G37,4,2) | K37: 7936148178 | L37: 7936148178 | N37: 19T4-NNA1 | R37: D12/53 đường Huỳnh Văn Trí, ấp 4, xã Bình Chánh, huyện Bình Chánh, TPHCM | T37: D12/53 Đường Huỳnh Văn Trí Ấp 4, Xã Bình Chánh, Huyện Bình Chánh, Tphcm | U37: D12/53 Đường Huỳnh Văn Trí Ấp 4 | V37: Xã Bình Chánh | W37: Huyện Bình Chánh | X37: Thành phố Hồ Chí Minh | AC37: 79 | AD37: Thành phố Hồ Chí Minh | AE37: 785 | AF37: Huyện Bình Chánh | AG37: 27637 | AH37: Xã Bình Chánh | AM37: Tp. Hồ Chí Minh | AN37: Huyện Bình Chánh | AO37: 19T40034 | AP37: Đang học | AQ37: 1 | AR37: 19T4-NNA1 | AS37: 15/05/2019 | AT37: 2019 | AU37: 2019 | AV37: Trung cấp | AW37: Chính quy 3 năm | AX37: Khoa Khoa học cơ bản | AY37: Tiếng Anh | AZ37: Tiếng Anh | BA37: =BB37&";"&AR37 -> 19000026;19T4-NNA1 | BB37: 19000026 | BC37: =VLOOKUP(B37,'ĐKKCBBĐ K2019(UPDATE)'!$B$6:$F$2005,3,0) -> 0 | BD37: =VLOOKUP(B37,'ĐKKCBBĐ K2019(UPDATE)'!$B$6:$F$2005,4,0) -> 0 | BG37: =VLOOKUP(BB37,'ĐKKCBBĐ K2019(UPDATE)'!$B$6:$G$2005,6,0) -> 7936148178 | BH37: =VLOOKUP(BB37,'ĐKKCBBĐ K2019(UPDATE)'!$B$6:$F$2267,5,0) -> #N/A | BI37: =VLOOKUP(BB37,'ĐKKCBBĐ K2019(UPDATE)'!B31:G2030,6,0) -> 7936148178 | BJ37: 0 | BK37: 0 | BL37: 0 | BM37: 7936148178
A38: 27 | B38: 19000027 | C38: Lê Hoàng Quốc | D38: Anh | E38: Nam | F38: 23/07/2004 | G38: HS4797931377033 | H38: =LEFT(G38,2) -> HS | I38: =MID(G38,3,1) -> 4 | J38: =MID(G38,4,2) -> 79 | K38: 0 | L38: HS4797931377033 | N38: 19T4-TKĐ1 | R38: C12/37 ẤP 3B XÃ VĨNH LỘC B , BÌNH CHÁNH , TP.HCM | S38: C12/37 ẤP 3B XÃ VĨNH LỘC B , BÌNH CHÁNH , TP.HCM | T38: C12/37 Ấp 3B ,Xã Vĩnh Lộc B , Bình Chánh , Tp.Hcm | U38: C12/37 Ấp 3B | V38: Xã Vĩnh Lộc B | W38: Huyện Bình Chánh | X38: Thành phố Hồ Chí Minh | AC38: 79 | AD38: Thành phố Hồ Chí Minh | AE38: 785 | AF38: Huyện Bình Chánh | AG38: 27604 | AH38: Xã Vĩnh Lộc B | AM38: Tp. Hồ Chí Minh | AN38: Huyện Bình Chánh | AO38: 19T40093 | AP38: Đang học | AQ38: 1 | AR38: 19T4-TKĐ1 | AS38: 16/05/2019 | AT38: 2019 | AU38: 2019 | AV38: Trung cấp | AW38: Chính quy 3 năm | AX38: Khoa Công nghệ Thông tin | AY38: Thiết kế đồ họa | AZ38: Thiết kế đồ họa | BA38: =BB38&";"&AR38 -> 19000027;19T4-TKĐ1 | BB38: 19000027 | BC38: =VLOOKUP(B38,'ĐKKCBBĐ K2019(UPDATE)'!$B$6:$F$2005,3,0) -> HS4797931377033 | BD38: =VLOOKUP(B38,'ĐKKCBBĐ K2019(UPDATE)'!$B$6:$F$2005,4,0) -> 025 | BG38: =VLOOKUP(BB38,'ĐKKCBBĐ K2019(UPDATE)'!$B$6:$G$2005,6,0) -> 0 | BH38: =VLOOKUP(BB38,'ĐKKCBBĐ K2019(UPDATE)'!$B$6:$F$2267,5,0) -> BỆNH VIỆN THỐNG NHẤT | BI38: =VLOOKUP(BB38,'ĐKKCBBĐ K2019(UPDATE)'!B32:G2031,6,0) -> 0 | BJ38: HS4797931377033 | BK38: 025 | BL38: BỆNH VIỆN THỒNG NHẤT | BM38: 0
A39: 28 | B39: 19000028 | C39: Bùi Hoàng An | D39: Vỹ | E39: Nam | F39: 27/10/2001 | I39: =MID(G39,3,1) | J39: =MID(G39,4,2) | K39: 7931511443 | L39: 7931511443 | N39: 19T4-ĐCN1 | R39: 263/10 Thạch Lam, P. Phú Thạch, Q. Tân Phú, TPHCM | S39: 263/10 Thạch Lam, P. Phú Thạch, Q. Tân Phú, TPHCM | T39: 263/10 Thạch Lam, P. Phú Thạch, Q. Tân Phú, Tphcm | U39: 263/10 Thạch Lam | V39: P. Phú Thạch | W39: Q. Tân Phú | X39: Thành phố Hồ Chí Minh | AC39: 79 | AD39: Thành phố Hồ Chí Minh | AE39: 767 | AF39: Quận Tân Phú | AG39: 27028 | AH39: Phường Phú Thạnh | AM39: Tp. Hồ Chí Minh | AN39: Quận Tân Phú | AO39: 19T40072 | AP39: Đang học | AQ39: 1 | AR39: 19T4-ĐCN1 | AS39: 16/05/2019 | AT39: 2019 | AU39: 2019 | AV39: Trung cấp | AW39: Chính quy 3 năm | AX39: Khoa Điện - Điện tử | AY39: Điện công nghiệp | AZ39: Điện công nghiệp | BA39: =BB39&";"&AR39 -> 19000028;19T4-ĐCN1 | BB39: 19000028 | BC39: =VLOOKUP(B39,'ĐKKCBBĐ K2019(UPDATE)'!$B$6:$F$2005,3,0) -> 0 | BD39: =VLOOKUP(B39,'ĐKKCBBĐ K2019(UPDATE)'!$B$6:$F$2005,4,0) -> 054 | BG39: =VLOOKUP(BB39,'ĐKKCBBĐ K2019(UPDATE)'!$B$6:$G$2005,6,0) -> 7931511443 | BH39: =VLOOKUP(BB39,'ĐKKCBBĐ K2019(UPDATE)'!$B$6:$F$2267,5,0) -> BỆNH VIỆN QUẬN TÂN PHÚ | BI39: =VLOOKUP(BB39,'ĐKKCBBĐ K2019(UPDATE)'!B33:G2032,6,0) -> 7931511443 | BJ39: 0 | BK39: 054 | BL39: BỆNH VIỆN QUẬN TÂN PHÚ | BM39: 7931511443
A40: 29 | B40: 19000029 | C40: Mach | D40: Arafin | E40: Nam | F40: 15/02/2004 | I40: =MID(G40,3,1) | J40: =MID(G40,4,2) | K40: 7931931864 | L40: 7931931864 | N40: 19T4-CNÔ1 | R40: 127/29 Cao Thắng P.17 Q.Phú Nhuận Tp.HCM | S40: 127/29 Cao Thắng P.17 Q.Phú Nhuận Tp.HCM | T40: 127/29 Cao Thắng ,P.17, Q.Phú Nhuận ,Tp.Hcm | U40: 127/29 Cao Thắng | V40: P.17 | W40: Q.Phú Nhuận | X40: Thành phố Hồ Chí Minh | AC40: 79 | AD40: Thành phố Hồ Chí Minh | AE40: 768 | AF40: Quận Phú Nhuận | AG40: 27076 | AH40: Phường 17 | AM40: Tp. Hồ Chí Minh | AN40: Quận Phú Nhuận | AO40: 19T40374 | AP40: Đang học | AQ40: 1 | AR40: 19T4-CNÔ1 | AS40: 16/05/2019 | AT40: 2019 | AU40: 2019 | AV40: Trung cấp | AW40: Chính quy 3 năm | AX40: Khoa Động lực | AY40: Công nghệ ô tô | AZ40: Công nghệ ô tô | BA40: =BB40&";"&AR40 -> 19000029;19T4-CNÔ1 | BB40: 19000029 | BC40: =VLOOKUP(B40,'ĐKKCBBĐ K2019(UPDATE)'!$B$6:$F$2005,3,0) -> 0 | BD40: =VLOOKUP(B40,'ĐKKCBBĐ K2019(UPDATE)'!$B$6:$F$2005,4,0) -> 032 | BG40: =VLOOKUP(BB40,'ĐKKCBBĐ K2019(UPDATE)'!$B$6:$G$2005,6,0) -> 7931931864 | BH40: =VLOOKUP(BB40,'ĐKKCBBĐ K2019(UPDATE)'!$B$6:$F$2267,5,0) -> BỆNH VIỆN QUẬN PHÚ NHUẬN | BI40: =VLOOKUP(BB40,'ĐKKCBBĐ K2019(UPDATE)'!B34:G2033,6,0) -> 7931931864 | BJ40: 0 | BK40: 032 | BL40: BỆNH VIỆN QUẬN PHÚ NHUẬN | BM40: 7931931864
A41: 30 | B41: 19000030 | C41: Lê Nguyễn Trung | D41: Hiếu | E41: Nam | F41: 03/12/2004 | I41: =MID(G41,3,1) | J41: =MID(G41,4,2) | K41: 7931859708 | L41: 7931859708 | N41: 19T4-THU1 | R41: 105/10 Cao Thắng Phường 17, Q.Phú Nhuận TPHCM | T41: 105/10 Cao Thắng, Phường 17, Q.Phú Nhuận Tphcm | U41: 105/10 Cao Thắng | V41: Phường 17 | W41: Q.Phú Nhuận | X41: Thành phố Hồ Chí Minh | AC41: 79 | AD41: Thành phố Hồ Chí Minh | AE41: 768 | AF41: Quận Phú Nhuận | AG41: 27076 | AH41: Phường 17 | AM41: Tp. Hồ Chí Minh | AN41: Quận Phú Nhuận | AO41: 19T40277 | AP41: Đang học | AQ41: 1 | AR41: 19T4-THU1 | AS41: 16/05/2019 | AT41: 2019 | AU41: 2019 | AV41: Trung cấp | AW41: Chính quy 3 năm | AX41: Khoa Công nghệ Thông tin | AY41: Tin học ứng dụng | AZ41: Tin học ứng dụng | BA41: =BB41&";"&AR41 -> 19000030;19T4-THU1 | BB41: 19000030 | BC41: =VLOOKUP(B41,'ĐKKCBBĐ K2019(UPDATE)'!$B$6:$F$2005,3,0) -> 0 | BD41: =VLOOKUP(B41,'ĐKKCBBĐ K2019(UPDATE)'!$B$6:$F$2005,4,0) -> 032 | BG41: =VLOOKUP(BB41,'ĐKKCBBĐ K2019(UPDATE)'!$B$6:$G$2005,6,0) -> 7931859708 | BH41: =VLOOKUP(BB41,'ĐKKCBBĐ K2019(UPDATE)'!$B$6:$F$2267,5,0) -> BỆNH VIỆN QUẬN PHÚ NHUẬN | BI41: =VLOOKUP(BB41,'ĐKKCBBĐ K2019(UPDATE)'!B35:G2034,6,0) -> 7931859708 | BJ41: 0 | BK41: 032 | BL41: BỆNH VIỆN QUẬN PHÚ NHUẬN | BM41: 7931859708
A42: 31 | B42: 19000031 | C42: Huỳnh Thái | D42: Toàn | E42: Nam | F42: 07/09/2004 | I42: =MID(G42,3,1) | J42: =MID(G42,4,2) | K42: 7932795051 | L42: 7932795051 | N42: 19T4-CNÔ1 | R42: 216/3 Lạc Long Quân, Phường 10, Quận 11 TP.Hồ Chí Minh | S42: 216/3 Lạc Long Quân, Phường 10, Quận 11 TP.Hồ Chí Minh | T42: 216/3 Lạc Long Quân, Phường 10, Quận 11, Tp.Hồ Chí Minh | U42: 216/3 Lạc Long Quân | V42: Phường 10 | W42: Quận 11 | X42: Thành phố Hồ Chí Minh | AC42: 79 | AD42: Thành phố Hồ Chí Minh | AE42: 772 | AF42: Quận 11 | AG42: 27223 | AH42: Phường 10 | AM42: Tp. Hồ Chí Minh | AN42: Quận 11 | AO42: 19T40194 | AP42: Đang học | AQ42: 1 | AR42: 19T4-CNÔ1 | AS42: 16/05/2019 | AT42: 2019 | AU42: 2019 | AV42: Trung cấp | AW42: Chính quy 3 năm | AX42: Khoa Động lực | AY42: Công nghệ ô tô | AZ42: Công nghệ ô tô | BA42: =BB42&";"&AR42 -> 19000031;19T4-CNÔ1 | BB42: 19000031 | BC42: =VLOOKUP(B42,'ĐKKCBBĐ K2019(UPDATE)'!$B$6:$F$2005,3,0) -> 0 | BD42: =VLOOKUP(B42,'ĐKKCBBĐ K2019(UPDATE)'!$B$6:$F$2005,4,0) -> 0 | BG42: =VLOOKUP(BB42,'ĐKKCBBĐ K2019(UPDATE)'!$B$6:$G$2005,6,0) -> 7932795051 | BH42: =VLOOKUP(BB42,'ĐKKCBBĐ K2019(UPDATE)'!$B$6:$F$2267,5,0) -> #N/A | BI42: =VLOOKUP(BB42,'ĐKKCBBĐ K2019(UPDATE)'!B36:G2035,6,0) -> 7932795051 | BJ42: 0 | BK42: 0 | BL42: 0 | BM42: 7932795051
A43: 32 | B43: 19000032 | C43: Huỳnh Văn | D43: Đạt | E43: Nam | F43: 14/05/2004 | G43: HS4797936735269 | H43: =LEFT(G43,2) -> HS | I43: =MID(G43,3,1) -> 4 | J43: =MID(G43,4,2) -> 79 | K43: 0 | L43: HS4797936735269 | N43: 19T4-QTM1 | R43: 66/12/9 Đường 45, Phường 14, Q.Gò Vấp TPHCM | S43: 66/12/9 Đường 45, Phường 14, Q.Gò Vấp TPHCM | T43: 66/12/9 Đường 45, Phường 14, Q.Gò Vấp, Tphcm | U43: 66/12/9 Đường 45 | V43: Phường 14 | W43: Q.Gò Vấp | X43: Thành phố Hồ Chí Minh | AC43: 79 | AD43: Thành phố Hồ Chí Minh | AE43: 764 | AF43: Quận Gò Vấp | AG43: 26882 | AH43: Phường 14 | AM43: Tp. Hồ Chí Minh | AN43: Quận Gò Vấp | AO43: 19T40232 | AP43: Đang học | AQ43: 1 | AR43: 19T4-QTM1 | AS43: 16/05/2019 | AT43: 2019 | AU43: 2019 | AV43: Trung cấp | AW43: Chính quy 3 năm | AX43: Khoa Công nghệ Thông tin | AY43: Quản trị mạng máy tính | AZ43: Quản trị mạng máy tính | BA43: =BB43&";"&AR43 -> 19000032;19T4-QTM1 | BB43: 19000032 | BC43: =VLOOKUP(B43,'ĐKKCBBĐ K2019(UPDATE)'!$B$6:$F$2005,3,0) -> HS4797936735269 | BD43: =VLOOKUP(B43,'ĐKKCBBĐ K2019(UPDATE)'!$B$6:$F$2005,4,0) -> 034 | BG43: =VLOOKUP(BB43,'ĐKKCBBĐ K2019(UPDATE)'!$B$6:$G$2005,6,0) -> 0 | BH43: =VLOOKUP(BB43,'ĐKKCBBĐ K2019(UPDATE)'!$B$6:$F$2267,5,0) -> BỆNH VIỆN 175 | BI43: =VLOOKUP(BB43,'ĐKKCBBĐ K2019(UPDATE)'!B37:G2036,6,0) -> 0 | BJ43: HS4797936735269 | BK43: 034 | BL43: BỆNH VIỆN 175 | BM43: 0
A44: 33 | B44: 19000033 | C44: Nguyễn Quốc | D44: Phục | E44: Nam | F44: 20/09/1997 | I44: =MID(G44,3,1) | J44: =MID(G44,4,2) | N44: 19C1-CNÔ1 | R44: Số 72 Quang Trung, Tổ dân phố 2, TT.Chư Sê, huyện Chư Sê, tỉnh Gia Lai | S44: Số 72 Quang Trung, Tổ dân phố 2, TT.Chư Sê, huyện Chư Sê, tỉnh Gia Lai | T44: Số 72 Quang Trung Tổ Dân Phố 2, Tt.Chư Sê, Huyện Chư Sê, Tỉnh Gia Lai | U44: Số 72 Quang Trung Tổ Dân Phố 2 | V44: Tt.Chư Sê | W44: Huyện Chư Sê | X44: Tỉnh Gia Lai | AM44: Gia Lai | AN44: Huyện Chư Sê | AO44: 19C10129 | AP44: Đang học | AQ44: 1 | AR44: 19C1-CNÔ1 | AS44: 16/05/2019 | AT44: 2019 | AU44: 2019 | AV44: Cao đẳng | AW44: Chính quy 2 năm | AX44: Khoa Động lực | AY44: Công nghệ ô tô | AZ44: Công nghệ ô tô | BA44: =BB44&";"&AR44 -> 19000033;19C1-CNÔ1 | BB44: 19000033 | BC44: =VLOOKUP(B44,'ĐKKCBBĐ K2019(UPDATE)'!$B$6:$F$2005,3,0) -> 0 | BD44: =VLOOKUP(B44,'ĐKKCBBĐ K2019(UPDATE)'!$B$6:$F$2005,4,0) -> 034 | BG44: =VLOOKUP(BB44,'ĐKKCBBĐ K2019(UPDATE)'!$B$6:$G$2005,6,0) | BH44: =VLOOKUP(BB44,'ĐKKCBBĐ K2019(UPDATE)'!$B$6:$F$2267,5,0) -> BỆNH VIỆN 175 | BI44: =VLOOKUP(BB44,'ĐKKCBBĐ K2019(UPDATE)'!B38:G2037,6,0) | BJ44: 0 | BK44: 034 | BL44: BỆNH VIỆN 175
A45: 34 | B45: 19000034 | C45: Nguyễn Lê Minh | D45: Kha | E45: Nam | F45: 30/08/2004 | G45: HS4797935719015 | H45: =LEFT(G45,2) -> HS | I45: =MID(G45,3,1) -> 4 | J45: =MID(G45,4,2) -> 79 | K45: 0 | L45: HS4797935719015 | N45: 19T4-TĐH1 | R45: C9/28 Đường Trịnh Như Khuê, Ấp 3, Xã Bình Chánh, Huyện Bình Chánh, Tp.HCM | S45: C9/28 Đường Trịnh Như Khuê, Ấp 3, Xã Bình Chánh, Huyện Bình Chánh, Tp.HCM | T45: C9/28 Đường Trịnh Như Khuê Ấp 3, Xã Bình Chánh, Huyện Bình Chánh, Tp.Hcm | U45: C9/28 Đường Trịnh Như Khuê Ấp 3 | V45: Xã Bình Chánh | W45: Huyện Bình Chánh | X45: Thành phố Hồ Chí Minh | AC45: 79 | AD45: Thành phố Hồ Chí Minh | AE45: 785 | AF45: Huyện Bình Chánh | AG45: 27637 | AH45: Xã Bình Chánh | AM45: Tp. Hồ Chí Minh | AN45: Huyện Bình Chánh | AO45: 19T40389 | AP45: Đang học | AQ45: 1 | AR45: 19T4-TĐH1 | AS45: 17/05/2019 | AT45: 2019 | AU45: 2019 | AV45: Trung cấp | AW45: Chính quy 3 năm | AX45: Khoa Điện - Điện tử | AY45: Công nghệ kỹ thuật điều khiển tự động | AZ45: Công nghệ kỹ thuật điều khiển tự động | BA45: =BB45&";"&AR45 -> 19000034;19T4-TĐH1 | BB45: 19000034 | BC45: =VLOOKUP(B45,'ĐKKCBBĐ K2019(UPDATE)'!$B$6:$F$2005,3,0) -> HS4797935719015 | BD45: =VLOOKUP(B45,'ĐKKCBBĐ K2019(UPDATE)'!$B$6:$F$2005,4,0) -> 058 | BG45: =VLOOKUP(BB45,'ĐKKCBBĐ K2019(UPDATE)'!$B$6:$G$2005,6,0) -> 0 | BH45: =VLOOKUP(BB45,'ĐKKCBBĐ K2019(UPDATE)'!$B$6:$F$2267,5,0) -> BỆNH VIỆN ĐA KHOA TƯ NHÂN TRIỀU AN | BI45: =VLOOKUP(BB45,'ĐKKCBBĐ K2019(UPDATE)'!B39:G2038,6,0) -> 0 | BJ45: HS4797935719015 | BK45: 058 | BL45: BỆNH VIỆN ĐA KHOA TƯ NHÂN TRIỀU AN | BM45: 0
A46: 35 | B46: 19000035 | C46: Võ Thanh | D46: Hiếu | E46: Nam | F46: 28/06/2004 | G46: HS4797928535928 | H46: =LEFT(G46,2) -> HS | I46: =MID(G46,3,1) -> 4 | J46: =MID(G46,4,2) -> 79 | K46: 0 | L46: HS 4797928535928 | N46: 19T4-ĐCN1 | R46: 21/35 TRẦN BÁ THƯỚC P7 PHÚ NHUẬN | S46: 21/35 TRẦN BÁ THƯỚC P7 PHÚ NHUẬN | T46: 21/35 Cầm Bá Thước ,P7 ,Phú Nhuận,tppcm | U46: 21/35 Cầm Bá Thước | V46: P7 | W46: Phú Nhuận | X46: Thành phố Hồ Chí Minh | AC46: 79 | AD46: Thành phố Hồ Chí Minh | AE46: 768 | AF46: Quận Phú Nhuận | AG46: 27052 | AH46: Phường 07 | AM46: Tp. Hồ Chí Minh | AN46: Quận Phú Nhuận | AO46: 19T40278 | AP46: Đang học | AQ46: 1 | AR46: 19T4-ĐCN1 | AS46: 17/05/2019 | AT46: 2019 | AU46: 2019 | AV46: Trung cấp | AW46: Chính quy 3 năm | AX46: Khoa Điện - Điện tử | AY46: Điện công nghiệp | AZ46: Điện công nghiệp | BA46: =BB46&";"&AR46 -> 19000035;19T4-ĐCN1 | BB46: 19000035 | BC46: =VLOOKUP(B46,'ĐKKCBBĐ K2019(UPDATE)'!$B$6:$F$2005,3,0) -> HS4797928535928 | BD46: =VLOOKUP(B46,'ĐKKCBBĐ K2019(UPDATE)'!$B$6:$F$2005,4,0) -> 030 | BG46: =VLOOKUP(BB46,'ĐKKCBBĐ K2019(UPDATE)'!$B$6:$G$2005,6,0) -> 0 | BH46: =VLOOKUP(BB46,'ĐKKCBBĐ K2019(UPDATE)'!$B$6:$F$2267,5,0) -> BỆNH VIỆN NHÂN DÂN GIA ĐỊNH | BI46: =VLOOKUP(BB46,'ĐKKCBBĐ K2019(UPDATE)'!B40:G2039,6,0) -> 0 | BJ46: HS4797928535928 | BK46: 030 | BL46: BỆNH VIỆN NHÂN DÂN GIA ĐỊNH | BM46: 0
A47: 36 | B47: 19000036 | C47: Vũ Y | D47: Phụng | E47: Nữ | F47: 13/10/2003 | I47: =MID(G47,3,1) | J47: =MID(G47,4,2) | K47: 7932703471 | L47: 7932703471 | N47: 19T4-NNA1 | R47: 148 Nguyễn Thị Nhỏ, P.15, Q.11, TPHCM | S47: 148 Nguyễn Thị Nhỏ, P.15, Q.11, TPHCM | T47: 148 Nguyễn Thị Nhỏ, P.15, Q.11, Tphcm | U47: 148 Nguyễn Thị Nhỏ | V47: P.15 | W47: Q.11 | X47: Thành phố Hồ Chí Minh | AC47: 79 | AD47: Thành phố Hồ Chí Minh | AE47: 772 | AF47: Quận 11 | AG47: 27208 | AH47: Phường 15 | AM47: Tp. Hồ Chí Minh | AN47: Quận 11 | AO47: 19T40009 | AP47: Đang học | AQ47: 1 | AR47: 19T4-NNA1 | AS47: 17/05/2019 | AT47: 2019 | AU47: 2019 | AV47: Trung cấp | AW47: Chính quy 3 năm | AX47: Khoa Khoa học cơ bản | AY47: Tiếng Anh | AZ47: Tiếng Anh | BA47: =BB47&";"&AR47 -> 19000036;19T4-NNA1 | BB47: 19000036 | BC47: =VLOOKUP(B47,'ĐKKCBBĐ K2019(UPDATE)'!$B$6:$F$2005,3,0) -> 0 | BD47: =VLOOKUP(B47,'ĐKKCBBĐ K2019(UPDATE)'!$B$6:$F$2005,4,0) -> 0 | BG47: =VLOOKUP(BB47,'ĐKKCBBĐ K2019(UPDATE)'!$B$6:$G$2005,6,0) -> 7932703471 | BH47: =VLOOKUP(BB47,'ĐKKCBBĐ K2019(UPDATE)'!$B$6:$F$2267,5,0) -> #N/A | BI47: =VLOOKUP(BB47,'ĐKKCBBĐ K2019(UPDATE)'!B41:G2040,6,0) -> 7932703471 | BJ47: 0 | BK47: 0 | BL47: 0 | BM47: 7932703471
A48: 37 | B48: 19000037 | C48: Ngô Khí | D48: Tài | E48: Nam | F48: 23/03/2000 | G48: SV4797938292389 | H48: =LEFT(G48,2) -> SV | I48: =MID(G48,3,1) -> 4 | J48: =MID(G48,4,2) -> 79 | K48: 0 | L48: SV 4797938292389 | N48: 19C1-TKĐ1 | R48: 108 L1, Đường Hồ Tùng Mậu, Phường Bến Nghé, Quận 1, Thành phố Hồ Chí Minh | S48: 182 Chiến Thắng, Phường 9, Quận Phú Nhuận | T48: 108 L1 Đường Hồ Tùng Mậu, Phường Bến Nghé, Quận 1, Thành Phố Hồ Chí Minh | U48: 108 L1 Đường Hồ Tùng Mậu | V48: Phường Bến Nghé | W48: Quận 1 | X48: Thành phố Hồ Chí Minh | AB48: 14/04/2016 | AC48: 79 | AD48: Thành phố Hồ Chí Minh | AE48: 760 | AF48: Quận 1 | AG48: 26740 | AH48: Phường Bến Nghé | AM48: Tp. Hồ Chí Minh | AN48: Quận 1 | AO48: 19C10062 | AP48: Đang học | AQ48: 1 | AR48: 19C1-TKĐ1 | AS48: 17/05/2019 | AT48: 2019 | AU48: 2019 | AV48: Cao đẳng | AW48: Chính quy 2 năm | AX48: Khoa Công nghệ Thông tin | AY48: Thiết kế đồ họa | AZ48: Thiết kế đồ họa | BA48: =BB48&";"&AR48 -> 19000037;19C1-TKĐ1 | BB48: 19000037 | BC48: =VLOOKUP(B48,'ĐKKCBBĐ K2019(UPDATE)'!$B$6:$F$2005,3,0) -> SV4797938292389 | BD48: =VLOOKUP(B48,'ĐKKCBBĐ K2019(UPDATE)'!$B$6:$F$2005,4,0) -> 030 | BG48: =VLOOKUP(BB48,'ĐKKCBBĐ K2019(UPDATE)'!$B$6:$G$2005,6,0) -> 0 | BH48: =VLOOKUP(BB48,'ĐKKCBBĐ K2019(UPDATE)'!$B$6:$F$2267,5,0) -> BỆNH VIỆN NHÂN DÂN GIA ĐỊNH | BI48: =VLOOKUP(BB48,'ĐKKCBBĐ K2019(UPDATE)'!B42:G2041,6,0) -> 0 | BJ48: SV4797938292389 | BK48: 030 | BL48: BỆNH VIỆN NHÂN DÂN GIA ĐỊNH | BM48: 0
A49: 38 | B49: 19000038 | C49: Trần Ngọc | D49: Tú | E49: Nam | F49: 06/12/1996 | I49: =MID(G49,3,1) | J49: =MID(G49,4,2) | K49: 7928441683 | L49: 7928441683 | N49: 19C1-CCK1 | R49: 4E , Khu phố 2, Phường Trung Mỹ Tây, Quận 12, TPHCM | S49: 4E , Khu phố 2, Phường Trung Mỹ Tây, Quận 12, TPHCM | T49: 4E Khu Phố 2, Phường Trung Mỹ Tây, Quận 12, Tphcm | U49: 4E Khu Phố 2 | V49: Phường Trung Mỹ Tây | W49: Quận 12 | X49: Thành phố Hồ Chí Minh | AC49: 79 | AD49: Thành phố Hồ Chí Minh | AE49: 761 | AF49: Quận 12 | AG49: 26785 | AH49: Phường Trung Mỹ Tây | AM49: Tp. Hồ Chí Minh | AN49: Quận 12 | AO49: 19C10157 | AP49: Đang học | AQ49: 1 | AR49: 19C1-CCK1 | AS49: 18/05/2019 | AT49: 2019 | AU49: 2019 | AV49: Cao đẳng | AW49: Chính quy 2 năm | AX49: Khoa Cơ khí | AY49: Công nghệ kỹ thuật cơ khí | AZ49: Công nghệ kỹ thuật cơ khí | BA49: =BB49&";"&AR49 -> 19000038;19C1-CCK1 | BB49: 19000038 | BC49: =VLOOKUP(B49,'ĐKKCBBĐ K2019(UPDATE)'!$B$6:$F$2005,3,0) -> 0 | BD49: =VLOOKUP(B49,'ĐKKCBBĐ K2019(UPDATE)'!$B$6:$F$2005,4,0) -> 0 | BG49: =VLOOKUP(BB49,'ĐKKCBBĐ K2019(UPDATE)'!$B$6:$G$2005,6,0) -> 7928441683 | BH49: =VLOOKUP(BB49,'ĐKKCBBĐ K2019(UPDATE)'!$B$6:$F$2267,5,0) -> #N/A | BI49: =VLOOKUP(BB49,'ĐKKCBBĐ K2019(UPDATE)'!B43:G2042,6,0) -> 7928441683 | BJ49: 0 | BK49: 0 | BL49: 0 | BM49: 7928441683
A50: 39 | B50: 19000039 | C50: Mai Quốc | D50: An | E50: Nam | F50: 26/07/2003 | I50: =MID(G50,3,1) | J50: =MID(G50,4,2) | K50: 7931307559 | L50: 7931307559 | N50: 19T4-ANM1 | R50: 225 Chung Cư Thanh Niên Bàu cát 2 p.14 | S50: 027 chung cư thanh niên đường bàu cát 2 phường 14 Quận Tân Bình | T50: 225 Chung Cư Thanh Niên Bàu Cát 2 ,P.14, quận tb, tphcm | U50: 225 Chung Cư Thanh Niên Bàu Cát 2 | V50: P.14 | W50: Q.Tân Bình | X50: Thành phố Hồ Chí Minh | AB50: 05/05/2019 | AC50: 79 | AD50: Thành phố Hồ Chí Minh | AE50: 766 | AF50: Quận Tân Bình | AG50: 27004 | AH50: Phường 14 | AM50: Tp. Hồ Chí Minh | AN50: Quận Tân Phú | AO50: 19T40155 | AP50: Đang học | AQ50: 1 | AR50: 19T4-ANM1 | AS50: 18/05/2019 | AT50: 2019 | AU50: 2019 | AV50: Trung cấp | AW50: Chính quy 3 năm | AX50: Khoa Công nghệ Thông tin | AY50: An ninh mạng | AZ50: An ninh mạng | BA50: =BB50&";"&AR50 -> 19000039;19T4-ANM1 | BB50: 19000039 | BC50: =VLOOKUP(B50,'ĐKKCBBĐ K2019(UPDATE)'!$B$6:$F$2005,3,0) -> 0 | BD50: =VLOOKUP(B50,'ĐKKCBBĐ K2019(UPDATE)'!$B$6:$F$2005,4,0) -> 0 | BG50: =VLOOKUP(BB50,'ĐKKCBBĐ K2019(UPDATE)'!$B$6:$G$2005,6,0) -> 7931307559 | BH50: =VLOOKUP(BB50,'ĐKKCBBĐ K2019(UPDATE)'!$B$6:$F$2267,5,0) -> #N/A | BI50: =VLOOKUP(BB50,'ĐKKCBBĐ K2019(UPDATE)'!B44:G2043,6,0) -> 7931307559 | BJ50: 0 | BK50: 0 | BL50: 0 | BM50: 7931307559
A51: 40 | B51: 19000040 | C51: Đỗ Trần Quốc | D51: Đạt | E51: Nam | F51: 11/03/2001 | I51: =MID(G51,3,1) | J51: =MID(G51,4,2) | K51: 7939215767 | L51: 7939215767 | N51: 19T4-VSL1 | R51: B14/8 Khu Phố 1 Bình An Q.2 Tp HCM | T51: B14/8 Khu Phố 1, Bình An, Q.2 ,Tp Hcm | U51: B14/8 Khu Phố 1 | V51: Bình An | W51: Q.2 | X51: Thành phố Hồ Chí Minh | AC51: 79 | AD51: Thành phố Hồ Chí Minh | AE51: 769 | AF51: Quận 2 | AG51: 27094 | AH51: Phường Bình An | AM51: Tp. Hồ Chí Minh | AN51: Quận 2 | AO51: 19T40409 | AP51: Đang học | AQ51: 1 | AR51: 19T4-VSL1 | AS51: 18/05/2019 | AT51: 2019 | AU51: 2019 | AV51: Trung cấp | AW51: Chính quy 3 năm | AX51: Khoa Nhiệt – Lạnh | AY51: Vận hành, sửa chữa thiết bị lạnh | AZ51: Vận hành, sửa chữa thiết bị lạnh | BA51: =BB51&";"&AR51 -> 19000040;19T4-VSL1 | BB51: 19000040 | BC51: =VLOOKUP(B51,'ĐKKCBBĐ K2019(UPDATE)'!$B$6:$F$2005,3,0) -> 0 | BD51: =VLOOKUP(B51,'ĐKKCBBĐ K2019(UPDATE)'!$B$6:$F$2005,4,0) -> 0 | BG51: =VLOOKUP(BB51,'ĐKKCBBĐ K2019(UPDATE)'!$B$6:$G$2005,6,0) -> 7939215767 | BH51: =VLOOKUP(BB51,'ĐKKCBBĐ K2019(UPDATE)'!$B$6:$F$2267,5,0) -> #N/A | BI51: =VLOOKUP(BB51,'ĐKKCBBĐ K2019(UPDATE)'!B45:G2044,6,0) -> 7939215767 | BJ51: 0 | BK51: 0 | BL51: 0 | BM51: 7939215767
A52: 41 | B52: 19000041 | C52: Mạc Huỳnh Quốc | D52: Huy | E52: Nam | F52: 07/10/1999 | I52: =MID(G52,3,1) | J52: =MID(G52,4,2) | K52: 8321671433 | L52: 8321671433 | N52: 19C1-CNÔ1 | R52: số 144, Ấp Phú Đông 1, An Định, Mỏ Cày Nam, Bến Tre | S52: số 144, Ấp Phú Đông 1, An Định, Mỏ Cày Nam, Bến Tre | T52: Số 144 Ấp Phú Đông 1, An Định, Mỏ Cày Nam, Bến Tre | U52: Số 144 Ấp Phú Đông 1 | V52: An Định | W52: Mỏ Cày Nam | X52: Bến Tre | AC52: 83 | AD52: Tỉnh Bến Tre | AE52: 833 | AF52: Huyện Mỏ Cày Nam | AH52: 28957 | AM52: Bến Tre | AN52: Huyện Mỏ Cày Nam | AO52: 19C10132 | AP52: Đang học | AQ52: 1 | AR52: 19C1-CNÔ1 | AS52: 18/05/2019 | AT52: 2019 | AU52: 2019 | AV52: Cao đẳng | AW52: Chính quy 2 năm | AX52: Khoa Động lực | AY52: Công nghệ ô tô | AZ52: Công nghệ ô tô | BA52: =BB52&";"&AR52 -> 19000041;19C1-CNÔ1 | BB52: 19000041 | BC52: =VLOOKUP(B52,'ĐKKCBBĐ K2019(UPDATE)'!$B$6:$F$2005,3,0) -> 0 | BD52: =VLOOKUP(B52,'ĐKKCBBĐ K2019(UPDATE)'!$B$6:$F$2005,4,0) -> 0 | BG52: =VLOOKUP(BB52,'ĐKKCBBĐ K2019(UPDATE)'!$B$6:$G$2005,6,0) -> 8321671433 | BH52: =VLOOKUP(BB52,'ĐKKCBBĐ K2019(UPDATE)'!$B$6:$F$2267,5,0) -> #N/A | BI52: =VLOOKUP(BB52,'ĐKKCBBĐ K2019(UPDATE)'!B46:G2045,6,0) -> 8321671433 | BJ52: 0 | BK52: 0 | BL52: 0 | BM52: 8321671433
A53: 42 | B53: 19000042 | C53: Nguyễn Thị Đình | D53: Trúc | E53: Nữ | F53: 03/09/2000 | I53: =MID(G53,3,1) | J53: =MID(G53,4,2) | K53: 8321684972 | L53: 8321684972 | N53: 19C1-CNÔ1 | R53: số nhà 438, Ấp Phú Lộc Thượng, xã An Định, huyện Mỏ Cày Nam, tỉnh Bến Tre | S53: số nhà 438, Ấp Phú Lộc Thượng, xã An Định, huyện Mỏ Cày Nam, tỉnh Bến Tre | T53: Số Nhà 438 Ấp Phú Lộc Thượng, Xã An Định, Huyện Mỏ Cày Nam, Tỉnh Bến Tre | U53: Số Nhà 438 Ấp Phú Lộc Thượng | V53: Xã An Định | W53: Huyện Mỏ Cày Nam | X53: Tỉnh Bến Tre | AC53: 83 | AD53: Tỉnh Bến Tre | AE53: 833 | AF53: Huyện Mỏ Cày Nam | AH53: 28957 | AM53: Bến Tre | AN53: Huyện Mỏ Cày Nam | AO53: 19C10133 | AP53: Đang học | AQ53: 1 | AR53: 19C1-CNÔ1 | AS53: 18/05/2019 | AT53: 2019 | AU53: 2019 | AV53: Cao đẳng | AW53: Chính quy 2 năm | AX53: Khoa Động lực | AY53: Công nghệ ô tô | AZ53: Công nghệ ô tô | BA53: =BB53&";"&AR53 -> 19000042;19C1-CNÔ1 | BB53: 19000042 | BC53: =VLOOKUP(B53,'ĐKKCBBĐ K2019(UPDATE)'!$B$6:$F$2005,3,0) -> 0 | BD53: =VLOOKUP(B53,'ĐKKCBBĐ K2019(UPDATE)'!$B$6:$F$2005,4,0) -> 0 | BG53: =VLOOKUP(BB53,'ĐKKCBBĐ K2019(UPDATE)'!$B$6:$G$2005,6,0) -> 8321684972 | BH53: =VLOOKUP(BB53,'ĐKKCBBĐ K2019(UPDATE)'!$B$6:$F$2267,5,0) -> #N/A | BI53: =VLOOKUP(BB53,'ĐKKCBBĐ K2019(UPDATE)'!B47:G2046,6,0) -> 8321684972 | BJ53: 0 | BK53: 0 | BL53: 0 | BM53: 8321684972
A54: 43 | B54: 19000043 | C54: Nguyễn Thanh | D54: Tâm | E54: Nam | F54: 26/06/2004 | I54: =MID(G54,3,1) | J54: =MID(G54,4,2) | K54: 7930215806 | L54: 7930215806 | N54: 19T4-ĐCN1 | R54: 55/12 Đường Số 7, P.7, Q.Gò Vấp | T54: 55/12 Đường Số 7, P.7, Q.Gò Vấp,tphcm | U54: 55/12 Đường Số 7 | V54: P.7 | W54: Q.Gò Vấp | X54: Thành phố Hồ Chí Minh | AC54: 79 | AD54: Thành phố Hồ Chí Minh | AE54: 764 | AF54: Quận Gò Vấp | AG54: 26890 | AH54: Phường 07 | AM54: Tp. Hồ Chí Minh | AN54: Quận Gò Vấp | AO54: 19T40415 | AP54: Đang học | AQ54: 1 | AR54: 19T4-ĐCN1 | AS54: 20/05/2019 | AT54: 2019 | AU54: 2019 | AV54: Trung cấp | AW54: Chính quy 3 năm | AX54: Khoa Điện - Điện tử | AY54: Điện công nghiệp | AZ54: Điện công nghiệp | BA54: =BB54&";"&AR54 -> 19000043;19T4-ĐCN1 | BB54: 19000043 | BC54: =VLOOKUP(B54,'ĐKKCBBĐ K2019(UPDATE)'!$B$6:$F$2005,3,0) -> 0 | BD54: =VLOOKUP(B54,'ĐKKCBBĐ K2019(UPDATE)'!$B$6:$F$2005,4,0) -> 035 | BG54: =VLOOKUP(BB54,'ĐKKCBBĐ K2019(UPDATE)'!$B$6:$G$2005,6,0) -> 7930215806 | BH54: =VLOOKUP(BB54,'ĐKKCBBĐ K2019(UPDATE)'!$B$6:$F$2267,5,0) -> BỆNH VIỆN QUẬN GÒ VẤP | BI54: =VLOOKUP(BB54,'ĐKKCBBĐ K2019(UPDATE)'!B48:G2047,6,0) -> 7930215806 | BJ54: 0 | BK54: 035 | BL54: BỆNH VIỆN QUẬN GÒ VẤP | BM54: 7930215806
A55: 44 | B55: 19000044 | C55: Lê Đức | D55: Trong | E55: Nam | F55: 30/10/1996 | I55: =MID(G55,3,1) | J55: =MID(G55,4,2) | K55: 8022586365 | L55: 8022586365 | N55: 19C1-ĐĐT1 | R55: Số 16 tổ 1 ấp 1 xã tân ân, huyện cần đước, tỉnh long an | S55: Tân Ân- Cần Đước- Long An | T55: Số 16 Tổ 1 Ấp 1 Xã Tân Ân, Huyện Cần Đước, Tỉnh Long An | U55: Số 16 Tổ 1 Ấp 1 | V55: Xã Tân Ân | W55: Huyện Cần Đước | X55: Tỉnh Long An | AB55: 10/12/2015 | AM55: Long An | AN55: Huyện Cần Đước | AO55: 19C10169 | AP55: Đang học | AQ55: 1 | AR55: 19C1-ĐĐT1 | AS55: 20/05/2019 | AT55: 2019 | AU55: 2019 | AV55: Cao đẳng | AW55: Chính quy 2 năm | AX55: Khoa Điện - Điện tử | AY55: Công nghệ kỹ thuật điện, điện tử | AZ55: Công nghệ kỹ thuật điện, điện tử | BA55: =BB55&";"&AR55 -> 19000044;19C1-ĐĐT1 | BB55: 19000044 | BC55: =VLOOKUP(B55,'ĐKKCBBĐ K2019(UPDATE)'!$B$6:$F$2005,3,0) -> 0 | BD55: =VLOOKUP(B55,'ĐKKCBBĐ K2019(UPDATE)'!$B$6:$F$2005,4,0) -> 0 | BG55: =VLOOKUP(BB55,'ĐKKCBBĐ K2019(UPDATE)'!$B$6:$G$2005,6,0) -> 8022586365 | BH55: =VLOOKUP(BB55,'ĐKKCBBĐ K2019(UPDATE)'!$B$6:$F$2267,5,0) -> #N/A | BI55: =VLOOKUP(BB55,'ĐKKCBBĐ K2019(UPDATE)'!B49:G2048,6,0) -> 8022586365 | BJ55: 0 | BK55: 0 | BL55: 0 | BM55: 8022586365
A56: 45 | B56: 19000045 | C56: Nguyễn Nhật | D56: Huy | E56: Nam | F56: 06/04/1999 | I56: =MID(G56,3,1) | J56: =MID(G56,4,2) | K56: 5221601381 | L56: 5221601381 | N56: 19T2-ĐCN1 | R56: Phú Thịnh, Tây Phú, Tây Sơn, Bình Định | S56: Phú Thịnh, Tây Phú, Tây Sơn, Bình Định | T56: Phú Thịnh, Tây Phú, Tây Sơn, Bình Định | U56: Phú Thịnh | V56: Tây Phú | W56: Tây Sơn | X56: Bình Định | AK56: Đối tượng 01 | AM56: Bình Định | AN56: Huyện Tây Sơn | AO56: 19T20005 | AP56: Đang học | AQ56: 1 | AR56: 19T2-ĐCN1 | AS56: 20/05/2019 | AT56: 2019 | AU56: 2019 | AV56: Trung cấp | AW56: Chính quy 1N3 | AX56: Khoa Điện - Điện tử | AY56: Điện công nghiệp | AZ56: Điện công nghiệp | BA56: =BB56&";"&AR56 -> 19000045;19T2-ĐCN1 | BB56: 19000045 | BC56: =VLOOKUP(B56,'ĐKKCBBĐ K2019(UPDATE)'!$B$6:$F$2005,3,0) -> 0 | BD56: =VLOOKUP(B56,'ĐKKCBBĐ K2019(UPDATE)'!$B$6:$F$2005,4,0) -> 0 | BG56: =VLOOKUP(BB56,'ĐKKCBBĐ K2019(UPDATE)'!$B$6:$G$2005,6,0) -> 5221601381 | BH56: =VLOOKUP(BB56,'ĐKKCBBĐ K2019(UPDATE)'!$B$6:$F$2267,5,0) -> #N/A | BI56: =VLOOKUP(BB56,'ĐKKCBBĐ K2019(UPDATE)'!B50:G2049,6,0) -> 5221601381 | BJ56: 0 | BK56: 0 | BL56: 0 | BM56: 5221601381
A57: 46 | B57: 19000046 | C57: Trần Nhật | D57: Phong | E57: Nam | F57: 22/01/2004 | I57: =MID(G57,3,1) | J57: =MID(G57,4,2) | K57: 7932779307 | L57: 7932779307 | N57: 19T4-CNÔ1 | R57: 225 Lạc Long Quân, Phường 3, Quận 11, Tp.HCM | S57: 225 Lạc Long Quân, Phường 3, Quận 11, Tp.HCM | T57: 225 Lạc Long Quân, Phường 3, Quận 11, Tp.Hcm | U57: 225 Lạc Long Quân | V57: Phường 3 | W57: Quận 11 | X57: Thành phố Hồ Chí Minh | AC57: 79 | AD57: Thành phố Hồ Chí Minh | AE57: 772 | AF57: Quận 11 | AG57: 27220 | AH57: Phường 03 | AM57: Tp. Hồ Chí Minh | AN57: Quận 11 | AO57: 19T40293 | AP57: Đang học | AQ57: 1 | AR57: 19T4-CNÔ1 | AS57: 20/05/2019 | AT57: 2019 | AU57: 2019 | AV57: Trung cấp | AW57: Chính quy 3 năm | AX57: Khoa Động lực | AY57: Công nghệ ô tô | AZ57: Công nghệ ô tô | BA57: =BB57&";"&AR57 -> 19000046;19T4-CNÔ1 | BB57: 19000046 | BC57: =VLOOKUP(B57,'ĐKKCBBĐ K2019(UPDATE)'!$B$6:$F$2005,3,0) -> 0 | BD57: =VLOOKUP(B57,'ĐKKCBBĐ K2019(UPDATE)'!$B$6:$F$2005,4,0) -> 0 | BG57: =VLOOKUP(BB57,'ĐKKCBBĐ K2019(UPDATE)'!$B$6:$G$2005,6,0) -> 7932779307 | BH57: =VLOOKUP(BB57,'ĐKKCBBĐ K2019(UPDATE)'!$B$6:$F$2267,5,0) -> #N/A | BI57: =VLOOKUP(BB57,'ĐKKCBBĐ K2019(UPDATE)'!B51:G2050,6,0) -> 7932779307 | BJ57: 0 | BK57: 0 | BL57: BV Quận 11 | BM57: 7932779307
A58: 47 | B58: 19000047 | C58: Kỳ Chí | D58: An | E58: Nam | F58: 28/08/2004 | G58: HS4797932636358 | H58: =LEFT(G58,2) -> HS | I58: =MID(G58,3,1) -> 4 | J58: =MID(G58,4,2) -> 79 | L58: 7932636358 | N58: 19T4-LTM1 | R58: 027 LÔ A CHUNG CƯ LẠC LONG QUÂN PHƯỜNG 5 QUẬN 11 TP.HCM | T58: 027 Lô A Chung Cư Lạc Long Quân, Phường 5, Quận 11, Tp.Hcm | U58: 027 Lô A Chung Cư Lạc Long Quân | V58: Phường 5 | W58: Quận 11 | X58: Thành phố Hồ Chí Minh | AC58: 79 | AD58: Thành phố Hồ Chí Minh | AE58: 772 | AF58: Quận 11 | AG58: 27211 | AH58: Phường 05 | AM58: Tp. Hồ Chí Minh | AN58: Quận 11 | AO58: 19T40042 | AP58: Đang học | AQ58: 1 | AR58: 19T4-LTM1 | AS58: 20/05/2019 | AT58: 2019 | AU58: 2019 | AV58: Trung cấp | AW58: Chính quy 3 năm | AX58: Khoa Công nghệ Thông tin | AY58: Lập trình máy tính | AZ58: Lập trình máy tính | BA58: =BB58&";"&AR58 -> 19000047;19T4-LTM1 | BB58: 19000047 | BC58: =VLOOKUP(B58,'ĐKKCBBĐ K2019(UPDATE)'!$B$6:$F$2005,3,0) -> HS4797932636358 | BD58: =VLOOKUP(B58,'ĐKKCBBĐ K2019(UPDATE)'!$B$6:$F$2005,4,0) -> 028 | BH58: =VLOOKUP(BB58,'ĐKKCBBĐ K2019(UPDATE)'!$B$6:$F$2267,5,0) -> BỆNH VIỆN QUẬN 11 | BI58: =VLOOKUP(BB58,'ĐKKCBBĐ K2019(UPDATE)'!B52:G2051,6,0) -> 0 | BJ58: HS4797932636358 | BK58: 028 | BL58: BỆNH VIỆN QUẬN 11 | BM58: 7932636358
A59: 48 | B59: 19000048 | C59: Nguyễn Đăng | D59: Khoa | E59: Nam | F59: 04/07/2000 | G59: HS4797935021523 | H59: =LEFT(G59,2) -> HS | I59: =MID(G59,3,1) -> 4 | J59: =MID(G59,4,2) -> 79 | K59: 0 | L59: HS 4797935021523 | N59: 19C1-ĐCN1 | R59: 164 đường số 1, ấp 3, xã Phước Vĩnh An, huyện Củ Chi, TP HCM | T59: 164 Đường Số 1 Ấp 3, Xã Phước Vĩnh An, Huyện Củ Chi, Tp Hcm | U59: 164 Đường Số 1 Ấp 3 | V59: Xã Phước Vĩnh An | W59: Huyện Củ Chi | X59: Thành phố Hồ Chí Minh | AC59: 79 | AD59: Thành phố Hồ Chí Minh | AE59: 783 | AF59: Huyện Củ Chi | AG59: 27535 | AH59: Xã Phước Vĩnh An | AM59: Tp. Hồ Chí Minh | AN59: Huyện Củ Chi | AO59: 19C10363 | AP59: Đang học | AQ59: 1 | AR59: 19C1-ĐCN1 | AS59: 20/05/2019 | AT59: 2019 | AU59: 2019 | AV59: Cao đẳng | AW59: Chính quy 2 năm | AX59: Khoa Điện - Điện tử | AY59: Điện công nghiệp | AZ59: Điện công nghiệp | BA59: =BB59&";"&AR59 -> 19000048;19C1-ĐCN1 | BB59: 19000048 | BC59: =VLOOKUP(B59,'ĐKKCBBĐ K2019(UPDATE)'!$B$6:$F$2005,3,0) -> HS4797935021523 | BD59: =VLOOKUP(B59,'ĐKKCBBĐ K2019(UPDATE)'!$B$6:$F$2005,4,0) -> 040 | BG59: =VLOOKUP(BB59,'ĐKKCBBĐ K2019(UPDATE)'!$B$6:$G$2005,6,0) -> 0 | BH59: =VLOOKUP(BB59,'ĐKKCBBĐ K2019(UPDATE)'!$B$6:$F$2267,5,0) -> BỆNH VIỆN ĐA KHOA KHU VỰC CỦ CHI | BI59: =VLOOKUP(BB59,'ĐKKCBBĐ K2019(UPDATE)'!B53:G2052,6,0) -> 0 | BJ59: HS4797935021523 | BK59: 040 | BL59: BỆNH VIỆN ĐA KHOA KHU VỰC CỦ CHI | BM59: 0
A60: 49 | B60: 19000049 | C60: Huỳnh Trung | D60: Nhân | E60: Nam | F60: 28/04/2001 | G60: HS4797937633341 | H60: =LEFT(G60,2) -> HS | I60: =MID(G60,3,1) -> 4 | J60: =MID(G60,4,2) -> 79 | K60: 0 | L60: HS 4797937633341 | N60: 19C1-ĐĐT1 | R60: 1/139B Ấp Đình Xã Tuân Xuân, Huyện Học Môn, TPHCM | T60: 1/139B Ấp Đình, Xã Tân Xuân, Huyện Học Môn, Tphcm | U60: 1/139B Ấp Đình | V60: Xã Tân Xuân | W60: Huyện Học Môn | X60: Thành phố Hồ Chí Minh | AC60: 79 | AD60: Thành phố Hồ Chí Minh | AE60: 784 | AF60: Huyện Hóc Môn | AG60: 27580 | AH60: Xã Tân Xuân | AM60: Tp. Hồ Chí Minh | AN60: Huyện Hóc Môn | AO60: 19C10340 | AP60: Đang học | AQ60: 1 | AR60: 19C1-ĐĐT1 | AS60: 20/05/2019 | AT60: 2019 | AU60: 2019 | AV60: Cao đẳng | AW60: Chính quy 2 năm | AX60: Khoa Điện - Điện tử | AY60: Công nghệ kỹ thuật điện, điện tử | AZ60: Công nghệ kỹ thuật điện, điện tử | BA60: =BB60&";"&AR60 -> 19000049;19C1-ĐĐT1 | BB60: 19000049 | BC60: =VLOOKUP(B60,'ĐKKCBBĐ K2019(UPDATE)'!$B$6:$F$2005,3,0) -> HS4797937633341 | BD60: =VLOOKUP(B60,'ĐKKCBBĐ K2019(UPDATE)'!$B$6:$F$2005,4,0) -> 041 | BG60: =VLOOKUP(BB60,'ĐKKCBBĐ K2019(UPDATE)'!$B$6:$G$2005,6,0) -> 0 | BH60: =VLOOKUP(BB60,'ĐKKCBBĐ K2019(UPDATE)'!$B$6:$F$2267,5,0) -> BỆNH VIỆN ĐA KHOA KHU VỰC HÓC MÔN | BI60: =VLOOKUP(BB60,'ĐKKCBBĐ K2019(UPDATE)'!B54:G2053,6,0) -> 0 | BJ60: HS4797937633341 | BK60: 041 | BL60: BỆNH VIỆN ĐA KHOA KHU VỰC HÓC MÔN | BM60: 0
A61: 50 | B61: 19000050 | C61: Trần Kim | D61: Thảo | E61: Nữ | F61: 19/05/2001 | G61: HS4797935362287 | H61: =LEFT(G61,2) -> HS | I61: =MID(G61,3,1) -> 4 | J61: =MID(G61,4,2) -> 79 | K61: 0 | L61: HS 4797935362287 | N61: 19C1-MVT1 | R61: 3/160B ấp Đình, xã Tần Xuân, huyện Hóc Môn, TPHCM | T61: 3/160B Ấp Đình, Xã Tân Xuân, Huyện Hóc Môn, Tphcm | U61: 3/160B Ấp Đình | V61: Xã Tân Xuân | W61: Huyện Hóc Môn | X61: Thành phố Hồ Chí Minh | AC61: 79 | AD61: Thành phố Hồ Chí Minh | AE61: 784 | AF61: Huyện Hóc Môn | AG61: 27580 | AH61: Xã Tân Xuân | AM61: Tp. Hồ Chí Minh | AN61: Huyện Hóc Môn | AO61: 19C10473 | AP61: Đang học | AQ61: 1 | AR61: 19C1-MVT1 | AS61: 20/05/2019 | AT61: 2019 | AU61: 2019 | AV61: Cao đẳng | AW61: Chính quy 2 năm | AX61: Khoa May - Thời trang | AY61: Công nghệ may Veston | AZ61: Công nghệ may Veston | BA61: =BB61&";"&AR61 -> 19000050;19C1-MVT1 | BB61: 19000050 | BC61: =VLOOKUP(B61,'ĐKKCBBĐ K2019(UPDATE)'!$B$6:$F$2005,3,0) -> HS4797935362287 | BD61: =VLOOKUP(B61,'ĐKKCBBĐ K2019(UPDATE)'!$B$6:$F$2005,4,0) -> 041 | BG61: =VLOOKUP(BB61,'ĐKKCBBĐ K2019(UPDATE)'!$B$6:$G$2005,6,0) -> 0 | BH61: =VLOOKUP(BB61,'ĐKKCBBĐ K2019(UPDATE)'!$B$6:$F$2267,5,0) -> BỆNH VIỆN ĐA KHOA KHU VỰC HÓC MÔN | BI61: =VLOOKUP(BB61,'ĐKKCBBĐ K2019(UPDATE)'!B55:G2054,6,0) -> 0 | BJ61: HS4797935362287 | BK61: 041 | BL61: BỆNH VIỆN ĐA KHOA KHU VỰC HÓC MÔN | BM61: 0
A62: 51 | B62: 19000051 | C62: Nguyễn Tuấn | D62: Anh | E62: Nam | F62: 22/04/2003 | G62: HS4797939201157 | H62: =LEFT(G62,2) -> HS | I62: =MID(G62,3,1) -> 4 | J62: =MID(G62,4,2) -> 79 | K62: 0 | L62: HS 4797939201157 | N62: 19T4-KML1 | R62: 11/3 ấp xóm đồng xã Tân Phú Trung Củ Chi | S62: 11/3 ấp xóm đồng xã Tan phú trung củ chi | T62: 11/3 Ấp Xóm Đồng, Xã Tân Phú Trung ,Củ Chi,tphcm | U62: 11/3 Ấp Xóm Đồng | V62: Xã Tân Phú Trung | W62: Củ Chi | X62: Thành phố Hồ Chí Minh | AC62: 79 | AD62: Thành phố Hồ Chí Minh | AE62: 783 | AF62: Huyện Củ Chi | AG62: 27553 | AH62: Xã Tân Phú Trung | AM62: Tp. Hồ Chí Minh | AN62: Huyện Củ Chi | AO62: 19T40148 | AP62: Đang học | AQ62: 1 | AR62: 19T4-KML1 | AS62: 21/05/2019 | AT62: 2019 | AU62: 2019 | AV62: Trung cấp | AW62: Chính quy 3 năm | AX62: Khoa Nhiệt – Lạnh | AY62: Kỹ thuật máy lạnh và điều hòa không khí | AZ62: Kỹ thuật máy lạnh và điều hòa không khí | BA62: =BB62&";"&AR62 -> 19000051;19T4-KML1 | BB62: 19000051 | BC62: =VLOOKUP(B62,'ĐKKCBBĐ K2019(UPDATE)'!$B$6:$F$2005,3,0) -> HS4797939201157 | BD62: =VLOOKUP(B62,'ĐKKCBBĐ K2019(UPDATE)'!$B$6:$F$2005,4,0) -> 488 | BG62: =VLOOKUP(BB62,'ĐKKCBBĐ K2019(UPDATE)'!$B$6:$G$2005,6,0) -> 0 | BH62: =VLOOKUP(BB62,'ĐKKCBBĐ K2019(UPDATE)'!$B$6:$F$2267,5,0) -> BỆNH VIỆN ĐA KHOA TƯ NHÂN XUYÊN Á | BI62: =VLOOKUP(BB62,'ĐKKCBBĐ K2019(UPDATE)'!B56:G2055,6,0) -> 0 | BJ62: HS4797939201157 | BK62: 488 | BL62: BỆNH VIỆN ĐA KHOA TƯ NHÂN XUYÊN Á | BM62: 0
A63: 52 | B63: 19000052 | C63: Nguyễn Thị Quỳnh | D63: Như | E63: Nữ | F63: 22/06/2004 | G63: HS4797936735319 | H63: =LEFT(G63,2) -> HS | I63: =MID(G63,3,1) -> 4 | J63: =MID(G63,4,2) -> 79 | K63: 0 | L63: HS 4797936735319 | N63: 19T4-QTD1 | R63: 445/17, đường Phan Huy Ích, phường 14, quận Gò Vấp, thành phố Hồ Chí Minh | S63: 911/29 Quang Trung, Phường 14, Quận Gò Vấp, Tp.HCM | T63: 445/17Đường Phan Huy Ích, Phường 14, Quận Gò Vấp, Thành Phố Hồ Chí Minh | U63: 445/17Đường Phan Huy Ích | V63: Phường 14 | W63: Quận Gò Vấp | X63: Thành phố Hồ Chí Minh | AC63: 79 | AD63: Thành phố Hồ Chí Minh | AE63: 764 | AF63: Quận Gò Vấp | AG63: 26882 | AH63: Phường 14 | AM63: Tp. Hồ Chí Minh | AN63: Quận Gò Vấp | AO63: 19T40410 | AP63: Đang học | AQ63: 1 | AR63: 19T4-QTD1 | AS63: 21/05/2019 | AT63: 2019 | AU63: 2019 | AV63: Trung cấp | AW63: Chính quy 3 năm | AX63: Khoa Kinh tế | AY63: Quản trị doanh nghiệp | AZ63: Quản trị doanh nghiệp | BA63: =BB63&";"&AR63 -> 19000052;19T4-QTD1 | BB63: 19000052 | BC63: =VLOOKUP(B63,'ĐKKCBBĐ K2019(UPDATE)'!$B$6:$F$2005,3,0) -> HS4797936735319 | BD63: =VLOOKUP(B63,'ĐKKCBBĐ K2019(UPDATE)'!$B$6:$F$2005,4,0) -> 035 | BG63: =VLOOKUP(BB63,'ĐKKCBBĐ K2019(UPDATE)'!$B$6:$G$2005,6,0) -> 0 | BH63: =VLOOKUP(BB63,'ĐKKCBBĐ K2019(UPDATE)'!$B$6:$F$2267,5,0) -> BỆNH VIỆN QUẬN GÒ VẤP | BI63: =VLOOKUP(BB63,'ĐKKCBBĐ K2019(UPDATE)'!B57:G2056,6,0) -> 0 | BJ63: HS4797936735319 | BK63: 035 | BL63: BỆNH VIỆN QUẬN GÒ VẤP | BM63: 0
A64: 53 | B64: 19000053 | C64: Trương Thị Hải | D64: Yến | E64: Nữ | F64: 18/01/2004 | G64: HS4797930068545 | H64: =LEFT(G64,2) -> HS | I64: =MID(G64,3,1) -> 4 | J64: =MID(G64,4,2) -> 79 | K64: 0 | L64: HS 4797930068545 | N64: 19T4-LTM1 | R64: 129/5 Nguyễn Duy Cung, phường 12, quận Gò Vấp, thành phố Hồ Chí Minh | S64: 129/5 Nguyễn Duy Cung, phường 12, quận Gò Vấp, thành phố Hồ Chí Minh | T64: 129/5 Nguyễn Duy Cung, Phường 12, Quận Gò Vấp, Thành Phố Hồ Chí Minh | U64: 129/5 Nguyễn Duy Cung | V64: Phường 12 | W64: Quận Gò Vấp | X64: Thành phố Hồ Chí Minh | AB64: 11/03/2019 | AC64: 79 | AD64: Thành phố Hồ Chí Minh | AE64: 764 | AF64: Quận Gò Vấp | AG64: 26881 | AH64: Phường 12 | AM64: Tp. Hồ Chí Minh | AN64: Quận Gò Vấp | AO64: 19T40403 | AP64: Đang học | AQ64: 1 | AR64: 19T4-LTM1 | AS64: 21/05/2019 | AT64: 2019 | AU64: 2019 | AV64: Trung cấp | AW64: Chính quy 3 năm | AX64: Khoa Công nghệ Thông tin | AY64: Lập trình máy tính | AZ64: Lập trình máy tính | BA64: =BB64&";"&AR64 -> 19000053;19T4-LTM1 | BB64: 19000053 | BC64: =VLOOKUP(B64,'ĐKKCBBĐ K2019(UPDATE)'!$B$6:$F$2005,3,0) -> HS4797930068545 | BD64: =VLOOKUP(B64,'ĐKKCBBĐ K2019(UPDATE)'!$B$6:$F$2005,4,0) -> 488 | BG64: =VLOOKUP(BB64,'ĐKKCBBĐ K2019(UPDATE)'!$B$6:$G$2005,6,0) -> 0 | BH64: =VLOOKUP(BB64,'ĐKKCBBĐ K2019(UPDATE)'!$B$6:$F$2267,5,0) -> BỆNH VIỆN ĐA KHOA TƯ NHÂN XUYÊN Á | BI64: =VLOOKUP(BB64,'ĐKKCBBĐ K2019(UPDATE)'!B58:G2057,6,0) -> 0 | BJ64: HS4797930068545 | BK64: 488 | BL64: BỆNH VIỆN ĐA KHOA TƯ NHÂN XUYÊN Á | BM64: 0
A65: 54 | B65: 19000054 | C65: Phan Đức | D65: Trường | E65: Nam | F65: 02/09/2003 | I65: =MID(G65,3,1) | J65: =MID(G65,4,2) | K65: 7937811836 | L65: 7937811836 | N65: 19T4-LĐL1 | R65: 87/57/2/2 Nguyễn Sỹ Sách, phường 15, Quận Tân Bình, Tp. Hồ Chí Minh | S65: 87/57/2/2 Nguyễn Sỹ Sách, phường 15, Quận Tân Bình, Tp. Hồ Chí Minh | T65: 87/57/2/2 Nguyễn Sỹ Sách, Phường 15, Quận Tân Bình, Tp. Hồ Chí Minh | U65: 87/57/2/2 Nguyễn Sỹ Sách | V65: Phường 15 | W65: Q.Tân Bình | X65: Thành phố Hồ Chí Minh | AC65: 79 | AD65: Thành phố Hồ Chí Minh | AE65: 766 | AF65: Quận Tân Bình | AG65: 27007 | AH65: Phường 15 | AM65: Tp. Hồ Chí Minh | AN65: Quận Tân Bình | AO65: 19T40382 | AP65: Đang học | AQ65: 1 | AR65: 19T4-LĐL1 | AS65: 21/05/2019 | AT65: 2019 | AU65: 2019 | AV65: Trung cấp | AW65: Chính quy 3 năm | AX65: Khoa Nhiệt – Lạnh | AY65: Lắp đặt thiết bị lạnh | AZ65: Lắp đặt thiết bị lạnh | BA65: =BB65&";"&AR65 -> 19000054;19T4-LĐL1 | BB65: 19000054 | BC65: =VLOOKUP(B65,'ĐKKCBBĐ K2019(UPDATE)'!$B$6:$F$2005,3,0) -> 0 | BD65: =VLOOKUP(B65,'ĐKKCBBĐ K2019(UPDATE)'!$B$6:$F$2005,4,0) -> 0 | BG65: =VLOOKUP(BB65,'ĐKKCBBĐ K2019(UPDATE)'!$B$6:$G$2005,6,0) -> 7937811836 | BH65: =VLOOKUP(BB65,'ĐKKCBBĐ K2019(UPDATE)'!$B$6:$F$2267,5,0) -> #N/A | BI65: =VLOOKUP(BB65,'ĐKKCBBĐ K2019(UPDATE)'!B59:G2058,6,0) -> 7937811836 | BJ65: 0 | BK65: 0 | BL65: 0 | BM65: 7937811836
A66: 55 | B66: 19000055 | C66: Kha Trương Đại | D66: Phước | E66: Nam | F66: 31/07/2004 | G66: HS4797932642826 | H66: =LEFT(G66,2) -> HS | I66: =MID(G66,3,1) -> 4 | J66: =MID(G66,4,2) -> 79 | K66: 0 | L66: HS 4797932642826 | N66: 19T4-TĐH1 | R66: 63/13 đường 702 Hồng Bàng, phường 1, quận 11, Tp.HCM | T66: 63/13 Đường 702 Hồng Bàng, Phường 1, Quận 11, Tp.Hcm | U66: 63/13 Đường 702 Hồng Bàng | V66: Phường 1 | W66: Quận 11 | X66: Thành phố Hồ Chí Minh | AC66: 79 | AD66: Thành phố Hồ Chí Minh | AE66: 772 | AF66: Quận 11 | AG66: 27247 | AH66: Phường 01 | AM66: Tp. Hồ Chí Minh | AN66: Quận 6 | AO66: 19T40414 | AP66: Đang học | AQ66: 1 | AR66: 19T4-TĐH1 | AS66: 21/05/2019 | AT66: 2019 | AU66: 2019 | AV66: Trung cấp | AW66: Chính quy 3 năm | AX66: Khoa Điện - Điện tử | AY66: Công nghệ kỹ thuật điều khiển tự động | AZ66: Công nghệ kỹ thuật điều khiển tự động | BA66: =BB66&";"&AR66 -> 19000055;19T4-TĐH1 | BB66: 19000055 | BC66: =VLOOKUP(B66,'ĐKKCBBĐ K2019(UPDATE)'!$B$6:$F$2005,3,0) -> HS4797932642826 | BD66: =VLOOKUP(B66,'ĐKKCBBĐ K2019(UPDATE)'!$B$6:$F$2005,4,0) -> 017 | BG66: =VLOOKUP(BB66,'ĐKKCBBĐ K2019(UPDATE)'!$B$6:$G$2005,6,0) -> 0 | BH66: =VLOOKUP(BB66,'ĐKKCBBĐ K2019(UPDATE)'!$B$6:$F$2267,5,0) -> BỆNH VIỆN QUẬN 6 | BI66: =VLOOKUP(BB66,'ĐKKCBBĐ K2019(UPDATE)'!B60:G2059,6,0) -> 0 | BJ66: HS4797932642826 | BK66: 017 | BL66: BỆNH VIỆN QUẬN 6 | BM66: 0
A67: 56 | B67: 19000056 | C67: Bành Nguyễn Cao | D67: Minh | E67: Nam | F67: 17/07/2004 | G67: HS4797936735463 | H67: =LEFT(G67,2) -> HS | I67: =MID(G67,3,1) -> 4 | J67: =MID(G67,4,2) -> 79 | K67: 0 | L67: HS 4797936735463 | N67: 19T4-CNÔ1 | R67: 445/1 đường Phan Huy Ích, phường 14, quận Gò Vấp | S67: 445/1 ĐƯỜNG PHAN HUY ÍCH PHƯỜNG 14 QUẬN GÒ VẤP | T67: 445/1 Đường Phan Huy Ích, Phường 14, Quận Gò Vấp,tphcm | U67: 445/1 Đường Phan Huy Ích | V67: Phường 14 | W67: Quận Gò Vấp | X67: Thành phố Hồ Chí Minh | AC67: 79 | AD67: Thành phố Hồ Chí Minh | AE67: 764 | AF67: Quận Gò Vấp | AG67: 26882 | AH67: Phường 14 | AM67: Tp. Hồ Chí Minh | AN67: Quận Gò Vấp | AO67: 19T40443 | AP67: Đang học | AQ67: 1 | AR67: 19T4-CNÔ1 | AS67: 21/05/2019 | AT67: 2019 | AU67: 2019 | AV67: Trung cấp | AW67: Chính quy 3 năm | AX67: Khoa Động lực | AY67: Công nghệ ô tô | AZ67: Công nghệ ô tô | BA67: =BB67&";"&AR67 -> 19000056;19T4-CNÔ1 | BB67: 19000056 | BC67: =VLOOKUP(B67,'ĐKKCBBĐ K2019(UPDATE)'!$B$6:$F$2005,3,0) -> HS4797936735463 | BD67: =VLOOKUP(B67,'ĐKKCBBĐ K2019(UPDATE)'!$B$6:$F$2005,4,0) -> 035 | BG67: =VLOOKUP(BB67,'ĐKKCBBĐ K2019(UPDATE)'!$B$6:$G$2005,6,0) -> 0 | BH67: =VLOOKUP(BB67,'ĐKKCBBĐ K2019(UPDATE)'!$B$6:$F$2267,5,0) -> BỆNH VIỆN QUẬN GÒ VẤP | BI67: =VLOOKUP(BB67,'ĐKKCBBĐ K2019(UPDATE)'!B61:G2060,6,0) -> 0 | BJ67: HS4797936735463 | BK67: 035 | BL67: BỆNH VIỆN QUẬN GÒ VẤP | BM67: 0
A68: 57 | B68: 19000057 | C68: Võ Trường | D68: Duy | E68: Nam | F68: 04/02/2004 | G68: HS4797937812125 | H68: =LEFT(G68,2) -> HS | I68: =MID(G68,3,1) -> 4 | J68: =MID(G68,4,2) -> 79 | K68: 0 | L68: HS 4797937812125 | N68: 19T4-NNA1 | R68: 956/4 Âu Cơ, P.14, Q.Tân Bình, Tp HCM | S68: 956/4 Âu Cơ, P.14, Q.Tân Bình, Tp HCM | T68: 956/4 Âu Cơ, P.14, Q.Tân Bình, Tp Hcm | U68: 956/4 Âu Cơ | V68: P.14 | W68: Q.Tân Bình | X68: Thành phố Hồ Chí Minh | AC68: 79 | AD68: Thành phố Hồ Chí Minh | AE68: 766 | AF68: Quận Tân Bình | AG68: 27004 | AH68: Phường 14 | AM68: Tp. Hồ Chí Minh | AN68: Quận Tân Bình | AO68: 19T40317 | AP68: Đang học | AQ68: 1 | AR68: 19T4-NNA1 | AS68: 21/05/2019 | AT68: 2019 | AU68: 2019 | AV68: Trung cấp | AW68: Chính quy 3 năm | AX68: Khoa Khoa học cơ bản | AY68: Tiếng Anh | AZ68: Tiếng Anh | BA68: =BB68&";"&AR68 -> 19000057;19T4-NNA1 | BB68: 19000057 | BC68: =VLOOKUP(B68,'ĐKKCBBĐ K2019(UPDATE)'!$B$6:$F$2005,3,0) -> HS4797937812125 | BD68: =VLOOKUP(B68,'ĐKKCBBĐ K2019(UPDATE)'!$B$6:$F$2005,4,0) -> 033 | BG68: =VLOOKUP(BB68,'ĐKKCBBĐ K2019(UPDATE)'!$B$6:$G$2005,6,0) -> 0 | BH68: =VLOOKUP(BB68,'ĐKKCBBĐ K2019(UPDATE)'!$B$6:$F$2267,5,0) -> BỆNH VIỆN QUẬN TÂN BÌNH | BI68: =VLOOKUP(BB68,'ĐKKCBBĐ K2019(UPDATE)'!B62:G2061,6,0) -> 0 | BJ68: HS4797937812125 | BK68: 033 | BL68: BỆNH VIỆN QUẬN TÂN BÌNH | BM68: 0
A69: 58 | B69: 19000058 | C69: Huỳnh Phước | D69: Quang | E69: Nam | F69: 18/09/2004 | I69: =MID(G69,3,1) | J69: =MID(G69,4,2) | K69: 7221639694 | L69: 7221639694 | N69: 19T4-BCN1 | R69: xã An Cơ, Huyện Châu Thành, tỉnh Tây Ninh | S69: xã An Cơ, Huyện Châu Thành, tỉnh Tây Ninh | T69: ,Xã An Cơ, Huyện Châu Thành, Tỉnh Tây Ninh | V69: Xã An Cơ | W69: Huyện Châu Thành | X69: Tỉnh Tây Ninh | AM69: Tây Ninh | AN69: Huyện Châu Thành | AO69: 19T40467 | AP69: Đang học | AQ69: 1 | AR69: 19T4-BCN1 | AS69: 21/05/2019 | AT69: 2019 | AU69: 2019 | AV69: Trung cấp | AW69: Chính quy 3 năm | AX69: Khoa Cơ khí | AY69: Bảo trì hệ thống thiết bị công nghiệp | AZ69: Bảo trì hệ thống thiết bị công nghiệp | BA69: =BB69&";"&AR69 -> 19000058;19T4-BCN1 | BB69: 19000058 | BC69: =VLOOKUP(B69,'ĐKKCBBĐ K2019(UPDATE)'!$B$6:$F$2005,3,0) -> 0 | BD69: =VLOOKUP(B69,'ĐKKCBBĐ K2019(UPDATE)'!$B$6:$F$2005,4,0) -> 033 | BG69: =VLOOKUP(BB69,'ĐKKCBBĐ K2019(UPDATE)'!$B$6:$G$2005,6,0) -> 7221639694 | BH69: =VLOOKUP(BB69,'ĐKKCBBĐ K2019(UPDATE)'!$B$6:$F$2267,5,0) -> BỆNH VIỆN QUẬN TÂN BÌNH | BI69: =VLOOKUP(BB69,'ĐKKCBBĐ K2019(UPDATE)'!B63:G2062,6,0) -> 7221639694 | BJ69: 0 | BK69: 033 | BL69: BỆNH VIỆN QUẬN TÂN BÌNH | BM69: 7221639694
